PDS_VERSION_ID = PDS3
/* FILE DATA ELEMENTS */
RECORD_TYPE = UNDEFINED
/* POINTERS TO DATA OBJECTS */
^IMAGE = ("H9484_0000_IR4.TIF")
/* IDENTIFICATION DATA ELEMENTS */
DATA_SET_ID = "MEX-M-HRSC-4-REFDR-MAPPROJECT-EXT3-V4.0"
DATA_SET_NAME = "MARS EXPRESS HRSC MAP PROJECTED REFDR EXTENSION3 V4.0"
DETECTOR_ID = MEX_HRSC_IR
EVENT_TYPE = "MARS-REGIONAL-MAPPING-Im-Fl-La"
INSTRUMENT_HOST_ID = MEX
INSTRUMENT_HOST_NAME = "MARS EXPRESS"
INSTRUMENT_ID = HRSC
INSTRUMENT_NAME = "HIGH RESOLUTION STEREO CAMERA"
MISSION_NAME = "MARS EXPRESS"
MISSION_PHASE_NAME = ME_Phase_23
PROCESSING_LEVEL_ID = 4
PRODUCT_CREATION_TIME = 2023-02-04T05:05:37.000Z
PRODUCT_ID = "H9484_0000_IR4.TIF"
RELEASE_ID = 0006
REVISION_ID = 0000
/* QUALITY DATA ELEMENTS */
DATA_QUALITY_ID = 1
DATA_QUALITY_DESC = "Data calculated based on original SPICE kernels"
/* TIME DATA ELEMENTS */
SPACECRAFT_CLOCK_START_COUNT = "1/0255499222.09135"
SPACECRAFT_CLOCK_STOP_COUNT = "1/0255499547.46650"
START_TIME = 2011-06-07T04:00:30.975Z
STOP_TIME = 2011-06-07T04:04:20.008Z
/* ORBITAL DATA ELEMENTS */
ASCENDING_NODE_LONGITUDE = 36.17
MAXIMUM_RESOLUTION = 0.0629
FOOTPRINT_POINT_LATITUDE = (29.0491,29.0394,29.0274,29.0081, 29.0076,28.9746,28.5453,28.1184,27.8297 ,27.2641,26.9788,26.6919,26.2627, 25.9765,25.6914,25.4061,24.9778,24.6927 ,24.4082,24.1241,23.8394,23.5505, 22.9837,22.6991,21.9885,21.4199,21.1316 ,20.8407,20.55,20.114,19.818,19.5161, 19.0765,18.7766,18.4783,18.1765,17.8701 ,17.5606,17.2617,16.9537,16.6409, 16.1731,15.7018,15.3832,15.0658,14.7472 ,14.4217,14.2594,14.1731,14.1779, 14.1862,14.1925,14.1941,14.1942,14.1951 ,14.6777,15.0048,15.3203,15.6388, 15.9567,16.2689,16.5815,16.8943,17.2039 ,17.5088,17.8142,18.1207,18.426,18.724, 19.0228,19.4714,19.7707,20.0634,20.3547 ,20.7924,21.0846,21.3762,21.6612, 22.2238,22.656,22.9438,23.2277,23.514, 23.9426,24.2294,24.5136,24.7986,25.2273 ,25.513,25.9415,26.515,26.8006,27.0863, 27.3725,27.6567,28.0852,28.3708,28.8007 ,28.9438,29.0491)
FOOTPRINT_POINT_LONGITUDE = (20.5361,20.0971,19.6542,19.067,19.0529 ,19.0292,19.0341,19.04,19.0411,19.05, 19.0526,19.0539,19.0563,19.0575,19.0592 ,19.0606,19.0619,19.0627,19.0638, 19.0648,19.0653,19.0629,19.0642,19.0637 ,19.0621,19.0596,19.0582,19.057,19.0555 ,19.053,19.0479,19.0427,19.0432,19.0393 ,19.0359,19.0329,19.0287,19.0224, 19.0218,19.0172,19.0124,19.0052,18.9975 ,18.9922,18.9873,18.9813,18.9749, 18.9719,18.9704,19.2885,19.8436,20.2687 ,20.6438,20.6594,20.6647,20.663,20.6597 ,20.6584,20.6566,20.6545,20.6526, 20.6505,20.6485,20.6465,20.6446,20.6426 ,20.6403,20.6382,20.6362,20.6341, 20.6308,20.6286,20.6264,20.6243,20.621, 20.6187,20.6163,20.6139,20.6106,20.6061 ,20.6032,20.6009,20.5983,20.5943, 20.5915,20.5891,20.5865,20.5823,20.5796 ,20.5753,20.5691,20.5662,20.5631,20.56, 20.5572,20.5524,20.5492,20.544,20.5423, 20.5361)
ORBIT_NUMBER = 9484
ORBITAL_ECCENTRICITY = 0.575
ORBITAL_INCLINATION = 86.86
ORBITAL_SEMIMAJOR_AXIS = 8820.76
PERIAPSIS_ALTITUDE = 363.92
PERIAPSIS_ARGUMENT_ANGLE = 140.87
PERIAPSIS_TIME = 2011-06-07T03:58:23.000Z
SPACECRAFT_ORIENTATION = (0.0,-1.0,0.0)
^MEX_ORIENTATION_DESC = "MEX_ORIENTATION_DESC.TXT"
SPACECRAFT_POINTING_MODE = ACROSSTRACK
^MEX_POINTING_DESC = "MEX_POINTING_DESC.TXT"
RIGHT_ASCENSION = -1e+32
DECLINATION = -1e+32
OFFSET_ANGLE = -0.38
SPACECRAFT_SOLAR_DISTANCE = 2.14579e+08
TARGET_NAME = MARS
/* CAMERA DATA ELEMENTS */
DETECTOR_TEMPERATURE = 17.7588
FOCAL_PLANE_TEMPERATURE = 8.7872
INST_CMPRS_NAME = "DISCRETE COSINE TRANSFORMATION (DCT)"
INST_CMPRS_RATIO = 7.05434
INST_CMPRS_QUALITY = 0
INST_CMPRS_QUANTZ_TBL_ID = 0
INSTRUMENT_TEMPERATURE = 10.6223
LENS_TEMPERATURE = 9.8067
MACROPIXEL_SIZE = 4
MISSING_FRAMES = 0
PIXEL_SUBSAMPLING_FLAG = N
SIGNAL_CHAIN_ID = 2
/* RADIOMETRIC DATA ELEMENTS */
BANDWIDTH = 81.0
CENTER_FILTER_WAVELENGTH = 955.5
RADIANCE_OFFSET = 1.17639
RADIANCE_SCALING_FACTOR = 0.00727092
REFLECTANCE_SCALING_FACTOR = 0.000722259
MEX:REFLECTANCE_OFFSET = 0.116857
/* IMAGE OBJECT DEFINITIONS */
OBJECT = IMAGE
  INTERCHANGE_FORMAT = BINARY
  LINES = 17588
  LINE_SAMPLES = 2042
  SAMPLE_TYPE = UNSIGNED_INTEGER
  SAMPLE_BITS = 8
  BANDS = 1
  BAND_STORAGE_TYPE = BAND_SEQUENTIAL
  MAXIMUM = 255
  MEAN = 132.404
  MINIMUM = 1
  STANDARD_DEVIATION = 25.1341
END_OBJECT = IMAGE
/* MAP OBJECT DEFINITIONS */
OBJECT = IMAGE_MAP_PROJECTION
  ^DATA_SET_MAP_PROJECTION_CATALOG= "DSMAP.CAT"
  A_AXIS_RADIUS = 3396.0
  B_AXIS_RADIUS = 3396.0
  C_AXIS_RADIUS = 3396.0
  CENTER_LATITUDE = 0.0
  CENTER_LONGITUDE = 20.0
  COORDINATE_SYSTEM_NAME = PLANETOGRAPHIC
  COORDINATE_SYSTEM_TYPE = "BODY-FIXED ROTATING"
  EASTERNMOST_LONGITUDE = 20.6647
  FIRST_STANDARD_PARALLEL = "N/A"
  LINE_FIRST_PIXEL = 1
  LINE_LAST_PIXEL = 17588
  LINE_PROJECTION_OFFSET = 34401.875
  MAP_PROJECTION_ROTATION = 0.0
  MAP_PROJECTION_TYPE = SINUSOIDAL
  MAP_RESOLUTION = 1185.42760773333
  MAP_SCALE = 0.05
  MAXIMUM_LATITUDE = 29.0491
  MINIMUM_LATITUDE = 14.1731
  POSITIVE_LONGITUDE_DIRECTION = EAST
  REFERENCE_LATITUDE = "N/A"
  REFERENCE_LONGITUDE = "N/A"
  SAMPLE_FIRST_PIXEL = 1
  SAMPLE_LAST_PIXEL = 2042
  SAMPLE_PROJECTION_OFFSET = 1233.125
  SECOND_STANDARD_PARALLEL = "N/A"
  WESTERNMOST_LONGITUDE = 18.9704
END_OBJECT = IMAGE_MAP_PROJECTION
END
