PDS_VERSION_ID = PDS3
/* FILE DATA ELEMENTS */
RECORD_TYPE = UNDEFINED
/* POINTERS TO DATA OBJECTS */
^IMAGE = ("H9484_0000_S24.TIF")
/* IDENTIFICATION DATA ELEMENTS */
DATA_SET_ID = "MEX-M-HRSC-4-REFDR-MAPPROJECT-EXT3-V4.0"
DATA_SET_NAME = "MARS EXPRESS HRSC MAP PROJECTED REFDR EXTENSION3 V4.0"
DETECTOR_ID = MEX_HRSC_S2
EVENT_TYPE = "MARS-REGIONAL-MAPPING-Im-Fl-La"
INSTRUMENT_HOST_ID = MEX
INSTRUMENT_HOST_NAME = "MARS EXPRESS"
INSTRUMENT_ID = HRSC
INSTRUMENT_NAME = "HIGH RESOLUTION STEREO CAMERA"
MISSION_NAME = "MARS EXPRESS"
MISSION_PHASE_NAME = ME_Phase_23
PROCESSING_LEVEL_ID = 4
PRODUCT_CREATION_TIME = 2023-02-04T05:05:37.000Z
PRODUCT_ID = "H9484_0000_S24.TIF"
RELEASE_ID = 0006
REVISION_ID = 0000
/* QUALITY DATA ELEMENTS */
DATA_QUALITY_ID = 1
DATA_QUALITY_DESC = "Data calculated based on original SPICE kernels"
/* TIME DATA ELEMENTS */
SPACECRAFT_CLOCK_START_COUNT = "1/0255499222.09135"
SPACECRAFT_CLOCK_STOP_COUNT = "1/0255499547.46650"
START_TIME = 2011-06-07T04:01:35.391Z
STOP_TIME = 2011-06-07T04:05:48.740Z
/* ORBITAL DATA ELEMENTS */
ASCENDING_NODE_LONGITUDE = 36.17
MAXIMUM_RESOLUTION = 0.0336
FOOTPRINT_POINT_LATITUDE = (28.975,28.9819,28.9884,28.9957,28.9958 ,29.0365,28.7512,28.1848,27.6241,27.057 ,26.5016,25.9435,25.5199,25.2356,24.951 ,24.6672,24.3825,24.0932,23.803,23.3705 ,23.0824,22.6415,22.3474,22.0539, 21.7587,21.4593,21.1605,20.8621,20.5588 ,20.2536,19.9512,19.6554,19.3419, 18.8799,18.5695,18.256,17.9427,17.6393, 17.3221,17.0128,16.7045,16.3973,16.0912 ,15.7853,15.4801,15.1749,14.8714, 14.4192,14.2686,14.2363,14.2127,14.2008 ,14.1883,14.1811,14.1801,14.1804, 14.6404,14.9357,15.3971,15.7038,16.0103 ,16.3175,16.6259,16.9352,17.2457,17.713 ,18.0245,18.336,18.8072,19.1144,19.4231 ,19.731,20.1864,20.4903,20.7939,21.0925 ,21.3902,21.6896,21.9864,22.2852, 22.5776,22.8693,23.1626,23.4502,23.7395 ,24.1728,24.4616,24.7464,25.1733, 25.4586,25.7441,26.3011,26.8619,27.5664 ,27.8497,28.2737,28.5571,28.8396, 28.9824,28.975)
FOOTPRINT_POINT_LONGITUDE = (20.5742,20.0928,19.6074,19.0246, 19.0091,18.9815,18.9853,18.9906,18.9929 ,18.9988,18.9986,19.0,19.0005,19.0002, 19.0001,18.9997,18.9998,18.9991,18.9983 ,18.996,18.9944,18.9916,18.9895,18.9873 ,18.9849,18.9822,18.9792,18.9763, 18.9736,18.9705,18.9664,18.9585,18.9563 ,18.9495,18.9444,18.9394,18.9345, 18.9253,18.9225,18.9163,18.9099,18.9032 ,18.8962,18.8893,18.8823,18.8755, 18.8682,18.8563,18.8523,18.8516,19.6575 ,20.0667,20.3628,20.7503,20.7686, 20.7752,20.7707,20.7653,20.7605,20.7568 ,20.753,20.7491,20.7453,20.7415,20.7377 ,20.732,20.728,20.7239,20.7185,20.7145, 20.7107,20.7067,20.7011,20.6972,20.6935 ,20.6898,20.6857,20.6818,20.6781, 20.6752,20.671,20.6666,20.6631,20.659, 20.6551,20.649,20.6454,20.6417,20.6358, 20.6318,20.6278,20.6197,20.6117,20.6016 ,20.5975,20.5911,20.5868,20.5822, 20.5801,20.5742)
ORBIT_NUMBER = 9484
ORBITAL_ECCENTRICITY = 0.575
ORBITAL_INCLINATION = 86.86
ORBITAL_SEMIMAJOR_AXIS = 8820.76
PERIAPSIS_ALTITUDE = 363.92
PERIAPSIS_ARGUMENT_ANGLE = 140.87
PERIAPSIS_TIME = 2011-06-07T03:58:23.000Z
SPACECRAFT_ORIENTATION = (0.0,-1.0,0.0)
^MEX_ORIENTATION_DESC = "MEX_ORIENTATION_DESC.TXT"
SPACECRAFT_POINTING_MODE = ACROSSTRACK
^MEX_POINTING_DESC = "MEX_POINTING_DESC.TXT"
RIGHT_ASCENSION = -1e+32
DECLINATION = -1e+32
OFFSET_ANGLE = -0.38
SPACECRAFT_SOLAR_DISTANCE = 2.14579e+08
TARGET_NAME = MARS
/* CAMERA DATA ELEMENTS */
DETECTOR_TEMPERATURE = 18.7783
FOCAL_PLANE_TEMPERATURE = 8.7872
INST_CMPRS_NAME = "DISCRETE COSINE TRANSFORMATION (DCT)"
INST_CMPRS_RATIO = 8.48906
INST_CMPRS_QUALITY = 0
INST_CMPRS_QUANTZ_TBL_ID = 0
INSTRUMENT_TEMPERATURE = 10.6223
LENS_TEMPERATURE = 9.8067
MACROPIXEL_SIZE = 2
MISSING_FRAMES = 0
PIXEL_SUBSAMPLING_FLAG = N
SIGNAL_CHAIN_ID = 1
/* RADIOMETRIC DATA ELEMENTS */
BANDWIDTH = 178.0
CENTER_FILTER_WAVELENGTH = 679.0
RADIANCE_OFFSET = 4.7946
RADIANCE_SCALING_FACTOR = 0.0248799
REFLECTANCE_SCALING_FACTOR = 0.000606669
MEX:REFLECTANCE_OFFSET = 0.116911
/* IMAGE OBJECT DEFINITIONS */
OBJECT = IMAGE
  INTERCHANGE_FORMAT = BINARY
  LINES = 35175
  LINE_SAMPLES = 4083
  SAMPLE_TYPE = UNSIGNED_INTEGER
  SAMPLE_BITS = 8
  BANDS = 1
  BAND_STORAGE_TYPE = BAND_SEQUENTIAL
  MAXIMUM = 255
  MEAN = 135.846
  MINIMUM = 1
  STANDARD_DEVIATION = 26.3087
END_OBJECT = IMAGE
/* MAP OBJECT DEFINITIONS */
OBJECT = IMAGE_MAP_PROJECTION
  ^DATA_SET_MAP_PROJECTION_CATALOG= "DSMAP.CAT"
  A_AXIS_RADIUS = 3396.0
  B_AXIS_RADIUS = 3396.0
  C_AXIS_RADIUS = 3396.0
  CENTER_LATITUDE = 0.0
  CENTER_LONGITUDE = 20.0
  COORDINATE_SYSTEM_NAME = PLANETOGRAPHIC
  COORDINATE_SYSTEM_TYPE = "BODY-FIXED ROTATING"
  EASTERNMOST_LONGITUDE = 20.7752
  FIRST_STANDARD_PARALLEL = "N/A"
  LINE_FIRST_PIXEL = 1
  LINE_LAST_PIXEL = 35175
  LINE_PROJECTION_OFFSET = 68804.25
  MAP_PROJECTION_ROTATION = 0.0
  MAP_PROJECTION_TYPE = SINUSOIDAL
  MAP_RESOLUTION = 2370.85521546667
  MAP_SCALE = 0.025
  MAXIMUM_LATITUDE = 29.0365
  MINIMUM_LATITUDE = 14.1801
  POSITIVE_LONGITUDE_DIRECTION = EAST
  REFERENCE_LATITUDE = "N/A"
  REFERENCE_LONGITUDE = "N/A"
  SAMPLE_FIRST_PIXEL = 1
  SAMPLE_LAST_PIXEL = 4083
  SAMPLE_PROJECTION_OFFSET = 2466.75
  SECOND_STANDARD_PARALLEL = "N/A"
  WESTERNMOST_LONGITUDE = 18.8516
END_OBJECT = IMAGE_MAP_PROJECTION
END
