PDS_VERSION_ID = PDS3
/* FILE DATA ELEMENTS */
RECORD_TYPE = UNDEFINED
/* POINTERS TO DATA OBJECTS */
^IMAGE = ("H9527_0000_BL4.TIF")
/* IDENTIFICATION DATA ELEMENTS */
DATA_SET_ID = "MEX-M-HRSC-4-REFDR-MAPPROJECT-EXT3-V4.0"
DATA_SET_NAME = "MARS EXPRESS HRSC MAP PROJECTED REFDR EXTENSION3 V4.0"
DETECTOR_ID = MEX_HRSC_BLUE
EVENT_TYPE = "MARS-REGIONAL-MAPPING-Vo-Im-Fl"
INSTRUMENT_HOST_ID = MEX
INSTRUMENT_HOST_NAME = "MARS EXPRESS"
INSTRUMENT_ID = HRSC
INSTRUMENT_NAME = "HIGH RESOLUTION STEREO CAMERA"
MISSION_NAME = "MARS EXPRESS"
MISSION_PHASE_NAME = ME_Phase_23
PROCESSING_LEVEL_ID = 4
PRODUCT_CREATION_TIME = 2023-02-04T12:09:02.000Z
PRODUCT_ID = "H9527_0000_BL4.TIF"
RELEASE_ID = 0007
REVISION_ID = 0000
/* QUALITY DATA ELEMENTS */
DATA_QUALITY_ID = 1
DATA_QUALITY_DESC = "Data calculated based on original SPICE kernels"
/* TIME DATA ELEMENTS */
SPACECRAFT_CLOCK_START_COUNT = "1/0256581782.09141"
SPACECRAFT_CLOCK_STOP_COUNT = "1/0256582099.39167"
START_TIME = 2011-06-19T16:43:44.285Z
STOP_TIME = 2011-06-19T16:47:44.373Z
/* ORBITAL DATA ELEMENTS */
ASCENDING_NODE_LONGITUDE = 35.34
MAXIMUM_RESOLUTION = 0.0595
FOOTPRINT_POINT_LATITUDE = (43.4049,43.3931,43.3695,43.3691, 43.3798,42.7384,42.3008,41.9951,41.6894 ,41.3839,41.0785,40.7734,40.4686, 40.1638,39.8591,39.5546,39.2502,38.946, 38.6421,38.3382,38.0346,37.7313,37.2767 ,36.9739,36.6706,36.3684,36.0665, 35.7648,35.4633,35.162,34.8609,34.5602, 34.2597,33.9595,33.6596,33.36,33.0607, 32.4629,31.8663,31.5606,31.1023,30.648, 30.3442,30.0333,29.7226,29.4111,28.9446 ,28.4685,28.3099,28.2234,28.2251, 28.2269,28.2278,28.2277,28.2288,28.547, 29.0242,29.3355,29.6476,29.9589,30.4246 ,30.7294,31.0346,31.3402,31.7969, 32.2472,32.5462,32.8456,33.1452,33.5952 ,33.8952,34.1959,34.4972,34.7985,35.251 ,35.5527,35.855,36.1574,36.4601,36.763, 37.2185,37.5221,37.8261,38.1302,38.4345 ,38.739,39.0435,39.3486,39.6537,39.9589 ,40.4172,40.8759,41.1817,41.4876, 41.7938,42.1001,42.7049,43.2191,43.3478 ,43.4049)
FOOTPRINT_POINT_LONGITUDE = (302.513,301.805,300.809,300.793, 300.761,300.794,300.816,300.83,300.844, 300.857,300.87,300.882,300.894,300.905, 300.916,300.927,300.937,300.947,300.957 ,300.966,300.975,300.984,300.996, 301.004,301.012,301.019,301.025,301.032 ,301.038,301.043,301.049,301.054, 301.059,301.063,301.068,301.072,301.075 ,301.082,301.088,301.09,301.094,301.091 ,301.092,301.093,301.092,301.094, 301.095,301.095,301.095,301.096,301.549 ,301.935,302.805,302.821,302.826, 302.823,302.821,302.817,302.814,302.809 ,302.802,302.798,302.794,302.789, 302.778,302.772,302.768,302.763,302.759 ,302.751,302.746,302.741,302.737, 302.732,302.724,302.718,302.713,302.707 ,302.701,302.695,302.688,302.682, 302.676,302.67,302.663,302.657,302.65, 302.644,302.637,302.63,302.619,302.608, 302.6,302.592,302.584,302.576,302.56, 302.546,302.542,302.513)
ORBIT_NUMBER = 9527
ORBITAL_ECCENTRICITY = 0.574
ORBITAL_INCLINATION = 86.87
ORBITAL_SEMIMAJOR_AXIS = 8805.6
PERIAPSIS_ALTITUDE = 368.76
PERIAPSIS_ARGUMENT_ANGLE = 133.45
PERIAPSIS_TIME = 2011-06-19T16:42:50.000Z
SPACECRAFT_ORIENTATION = (0.0,-1.0,0.0)
^MEX_ORIENTATION_DESC = "MEX_ORIENTATION_DESC.TXT"
SPACECRAFT_POINTING_MODE = NADIR
^MEX_POINTING_DESC = "MEX_POINTING_DESC.TXT"
RIGHT_ASCENSION = -1e+32
DECLINATION = -1e+32
OFFSET_ANGLE = -1e+32
SPACECRAFT_SOLAR_DISTANCE = 2.16682e+08
TARGET_NAME = MARS
/* CAMERA DATA ELEMENTS */
DETECTOR_TEMPERATURE = 18.3705
FOCAL_PLANE_TEMPERATURE = 8.7872
INST_CMPRS_NAME = "DISCRETE COSINE TRANSFORMATION (DCT)"
INST_CMPRS_RATIO = 6.77371
INST_CMPRS_QUALITY = 0
INST_CMPRS_QUANTZ_TBL_ID = 0
INSTRUMENT_TEMPERATURE = 11.4379
LENS_TEMPERATURE = 9.195
MACROPIXEL_SIZE = 4
MISSING_FRAMES = 0
PIXEL_SUBSAMPLING_FLAG = N
SIGNAL_CHAIN_ID = 2
/* RADIOMETRIC DATA ELEMENTS */
BANDWIDTH = 76.0
CENTER_FILTER_WAVELENGTH = 444.0
RADIANCE_OFFSET = 0.544907
RADIANCE_SCALING_FACTOR = 0.00266021
REFLECTANCE_SCALING_FACTOR = 0.000128327
MEX:REFLECTANCE_OFFSET = 0.026286
/* IMAGE OBJECT DEFINITIONS */
OBJECT = IMAGE
  INTERCHANGE_FORMAT = BINARY
  LINES = 18028
  LINE_SAMPLES = 1932
  SAMPLE_TYPE = UNSIGNED_INTEGER
  SAMPLE_BITS = 8
  BANDS = 1
  BAND_STORAGE_TYPE = BAND_SEQUENTIAL
  MAXIMUM = 255
  MEAN = 127.92
  MINIMUM = 1
  STANDARD_DEVIATION = 50.4483
END_OBJECT = IMAGE
/* MAP OBJECT DEFINITIONS */
OBJECT = IMAGE_MAP_PROJECTION
  ^DATA_SET_MAP_PROJECTION_CATALOG= "DSMAP.CAT"
  A_AXIS_RADIUS = 3396.0
  B_AXIS_RADIUS = 3396.0
  C_AXIS_RADIUS = 3396.0
  CENTER_LATITUDE = 0.0
  CENTER_LONGITUDE = 302.0
  COORDINATE_SYSTEM_NAME = PLANETOGRAPHIC
  COORDINATE_SYSTEM_TYPE = "BODY-FIXED ROTATING"
  EASTERNMOST_LONGITUDE = 302.826
  FIRST_STANDARD_PARALLEL = "N/A"
  LINE_FIRST_PIXEL = 1
  LINE_LAST_PIXEL = 18028
  LINE_PROJECTION_OFFSET = 51473.375
  MAP_PROJECTION_ROTATION = 0.0
  MAP_PROJECTION_TYPE = SINUSOIDAL
  MAP_RESOLUTION = 1185.42760773333
  MAP_SCALE = 0.05
  MAXIMUM_LATITUDE = 43.4049
  MINIMUM_LATITUDE = 28.2234
  POSITIVE_LONGITUDE_DIRECTION = EAST
  REFERENCE_LATITUDE = "N/A"
  REFERENCE_LONGITUDE = "N/A"
  SAMPLE_FIRST_PIXEL = 1
  SAMPLE_LAST_PIXEL = 1932
  SAMPLE_PROJECTION_OFFSET = 1075.625
  SECOND_STANDARD_PARALLEL = "N/A"
  WESTERNMOST_LONGITUDE = 300.761
END_OBJECT = IMAGE_MAP_PROJECTION
END
