PDS_VERSION_ID = PDS3
/* FILE DATA ELEMENTS */
RECORD_TYPE = UNDEFINED
/* POINTERS TO DATA OBJECTS */
^IMAGE = ("H9533_0000_IR4.TIF")
/* IDENTIFICATION DATA ELEMENTS */
DATA_SET_ID = "MEX-M-HRSC-4-REFDR-MAPPROJECT-EXT3-V4.0"
DATA_SET_NAME = "MARS EXPRESS HRSC MAP PROJECTED REFDR EXTENSION3 V4.0"
DETECTOR_ID = MEX_HRSC_IR
EVENT_TYPE = "MARS-REGIONAL-MAPPING-Im-Fl-La"
INSTRUMENT_HOST_ID = MEX
INSTRUMENT_HOST_NAME = "MARS EXPRESS"
INSTRUMENT_ID = HRSC
INSTRUMENT_NAME = "HIGH RESOLUTION STEREO CAMERA"
MISSION_NAME = "MARS EXPRESS"
MISSION_PHASE_NAME = ME_Phase_23
PROCESSING_LEVEL_ID = 4
PRODUCT_CREATION_TIME = 2023-02-04T12:09:02.000Z
PRODUCT_ID = "H9533_0000_IR4.TIF"
RELEASE_ID = 0007
REVISION_ID = 0000
/* QUALITY DATA ELEMENTS */
DATA_QUALITY_ID = 1
DATA_QUALITY_DESC = "Data calculated based on original SPICE kernels"
/* TIME DATA ELEMENTS */
SPACECRAFT_CLOCK_START_COUNT = "1/0256733105.07291"
SPACECRAFT_CLOCK_STOP_COUNT = "1/0256733393.48348"
START_TIME = 2011-06-21T10:45:14.615Z
STOP_TIME = 2011-06-21T10:48:08.367Z
/* ORBITAL DATA ELEMENTS */
ASCENDING_NODE_LONGITUDE = 35.22
MAXIMUM_RESOLUTION = 0.0716
FOOTPRINT_POINT_LATITUDE = (28.1224,28.1226,28.121,28.119,28.1133, 28.113,28.0826,27.7839,27.1801,26.7766, 26.4714,26.0574,25.743,25.5329,25.3236, 25.1147,24.9062,24.694,24.4817,24.1647, 23.9472,23.7344,23.4156,23.1992,22.9806 ,22.7632,22.4328,22.2113,21.9879, 21.7667,21.5436,21.3172,21.0906,20.8651 ,20.6386,20.4087,20.1773,19.9465, 19.7164,19.4827,19.2472,19.0113,18.7751 ,18.5358,18.1772,17.9384,17.6964, 17.4527,17.2093,17.0876,17.0433,17.0441 ,17.0438,17.0427,17.0399,17.0369, 17.0317,17.0314,17.0327,17.2761,17.52, 17.7632,18.0052,18.3655,18.6056,18.8439 ,19.0787,19.3114,19.548,19.8956,20.1253 ,20.3567,20.5898,20.9295,21.1583, 21.3888,21.6158,21.8371,22.1691,22.5021 ,22.7251,23.0531,23.2725,23.4899, 23.8152,24.341,24.5552,24.7664,24.9779, 25.2901,25.4991,25.7085,25.918,26.3379, 26.7476,27.2565,27.6599,27.9586,28.0587 ,28.1224)
FOOTPRINT_POINT_LONGITUDE = (49.0754,48.4664,48.1385,47.8888, 47.4201,47.4045,47.3888,47.3886,47.3878 ,47.3882,47.3871,47.3834,47.381,47.3789 ,47.3771,47.3752,47.3735,47.372,47.3704 ,47.3682,47.3641,47.3618,47.361,47.3588 ,47.3556,47.3527,47.3483,47.3453, 47.3414,47.3381,47.3346,47.3309,47.3269 ,47.3233,47.3191,47.315,47.3104,47.3058 ,47.3014,47.2968,47.2917,47.2863, 47.2805,47.2749,47.2668,47.2612,47.2555 ,47.2495,47.2433,47.2402,47.2391, 47.5624,47.8326,48.0665,48.4266,48.7327 ,49.1468,49.1648,49.1708,49.1694,49.168 ,49.1668,49.165,49.1625,49.1609,49.1591 ,49.1577,49.1573,49.1553,49.1534, 49.1524,49.1507,49.1485,49.1463,49.1439 ,49.1409,49.1392,49.1379,49.136,49.1338 ,49.1315,49.1284,49.1261,49.1247, 49.1222,49.1209,49.1189,49.118,49.1165, 49.1142,49.1124,49.1104,49.1083,49.1023 ,49.098,49.0941,49.091,49.0883,49.0872, 49.0754)
ORBIT_NUMBER = 9533
ORBITAL_ECCENTRICITY = 0.574
ORBITAL_INCLINATION = 86.87
ORBITAL_SEMIMAJOR_AXIS = 8808.44
PERIAPSIS_ALTITUDE = 369.31
PERIAPSIS_ARGUMENT_ANGLE = 132.4
PERIAPSIS_TIME = 2011-06-21T10:40:42.000Z
SPACECRAFT_ORIENTATION = (0.0,-1.0,0.0)
^MEX_ORIENTATION_DESC = "MEX_ORIENTATION_DESC.TXT"
SPACECRAFT_POINTING_MODE = NADIR
^MEX_POINTING_DESC = "MEX_POINTING_DESC.TXT"
RIGHT_ASCENSION = -1e+32
DECLINATION = -1e+32
OFFSET_ANGLE = -1e+32
SPACECRAFT_SOLAR_DISTANCE = 2.16987e+08
TARGET_NAME = MARS
/* CAMERA DATA ELEMENTS */
DETECTOR_TEMPERATURE = 17.351
FOCAL_PLANE_TEMPERATURE = 8.5833
INST_CMPRS_NAME = "DISCRETE COSINE TRANSFORMATION (DCT)"
INST_CMPRS_RATIO = 11.2729
INST_CMPRS_QUALITY = 0
INST_CMPRS_QUANTZ_TBL_ID = 0
INSTRUMENT_TEMPERATURE = 11.234
LENS_TEMPERATURE = 9.195
MACROPIXEL_SIZE = 4
MISSING_FRAMES = 0
PIXEL_SUBSAMPLING_FLAG = N
SIGNAL_CHAIN_ID = 2
/* RADIOMETRIC DATA ELEMENTS */
BANDWIDTH = 81.0
CENTER_FILTER_WAVELENGTH = 955.5
RADIANCE_OFFSET = 1.53231
RADIANCE_SCALING_FACTOR = 0.00613967
REFLECTANCE_SCALING_FACTOR = 0.000623655
MEX:REFLECTANCE_OFFSET = 0.155648
/* IMAGE OBJECT DEFINITIONS */
OBJECT = IMAGE
  INTERCHANGE_FORMAT = BINARY
  LINES = 13120
  LINE_SAMPLES = 2324
  SAMPLE_TYPE = UNSIGNED_INTEGER
  SAMPLE_BITS = 8
  BANDS = 1
  BAND_STORAGE_TYPE = BAND_SEQUENTIAL
  MAXIMUM = 255
  MEAN = 137.576
  MINIMUM = 1
  STANDARD_DEVIATION = 36.2353
END_OBJECT = IMAGE
/* MAP OBJECT DEFINITIONS */
OBJECT = IMAGE_MAP_PROJECTION
  ^DATA_SET_MAP_PROJECTION_CATALOG= "DSMAP.CAT"
  A_AXIS_RADIUS = 3396.0
  B_AXIS_RADIUS = 3396.0
  C_AXIS_RADIUS = 3396.0
  CENTER_LATITUDE = 0.0
  CENTER_LONGITUDE = 48.0
  COORDINATE_SYSTEM_NAME = PLANETOGRAPHIC
  COORDINATE_SYSTEM_TYPE = "BODY-FIXED ROTATING"
  EASTERNMOST_LONGITUDE = 49.1708
  FIRST_STANDARD_PARALLEL = "N/A"
  LINE_FIRST_PIXEL = 1
  LINE_LAST_PIXEL = 13120
  LINE_PROJECTION_OFFSET = 33298.875
  MAP_PROJECTION_ROTATION = 0.0
  MAP_PROJECTION_TYPE = SINUSOIDAL
  MAP_RESOLUTION = 1185.42760773333
  MAP_SCALE = 0.05
  MAXIMUM_LATITUDE = 28.1226
  MINIMUM_LATITUDE = 17.0314
  POSITIVE_LONGITUDE_DIRECTION = EAST
  REFERENCE_LATITUDE = "N/A"
  REFERENCE_LONGITUDE = "N/A"
  SAMPLE_FIRST_PIXEL = 1
  SAMPLE_LAST_PIXEL = 2324
  SAMPLE_PROJECTION_OFFSET = 937.375
  SECOND_STANDARD_PARALLEL = "N/A"
  WESTERNMOST_LONGITUDE = 47.2391
END_OBJECT = IMAGE_MAP_PROJECTION
END
