PDS_VERSION_ID = PDS3
/* FILE DATA ELEMENTS */
RECORD_TYPE = UNDEFINED
/* POINTERS TO DATA OBJECTS */
^IMAGE = ("H9533_0000_S14.TIF")
/* IDENTIFICATION DATA ELEMENTS */
DATA_SET_ID = "MEX-M-HRSC-4-REFDR-MAPPROJECT-EXT3-V4.0"
DATA_SET_NAME = "MARS EXPRESS HRSC MAP PROJECTED REFDR EXTENSION3 V4.0"
DETECTOR_ID = MEX_HRSC_S1
EVENT_TYPE = "MARS-REGIONAL-MAPPING-Im-Fl-La"
INSTRUMENT_HOST_ID = MEX
INSTRUMENT_HOST_NAME = "MARS EXPRESS"
INSTRUMENT_ID = HRSC
INSTRUMENT_NAME = "HIGH RESOLUTION STEREO CAMERA"
MISSION_NAME = "MARS EXPRESS"
MISSION_PHASE_NAME = ME_Phase_23
PROCESSING_LEVEL_ID = 4
PRODUCT_CREATION_TIME = 2023-02-04T12:09:02.000Z
PRODUCT_ID = "H9533_0000_S14.TIF"
RELEASE_ID = 0007
REVISION_ID = 0000
/* QUALITY DATA ELEMENTS */
DATA_QUALITY_ID = 1
DATA_QUALITY_DESC = "Data calculated based on original SPICE kernels"
/* TIME DATA ELEMENTS */
SPACECRAFT_CLOCK_START_COUNT = "1/0256733105.07291"
SPACECRAFT_CLOCK_STOP_COUNT = "1/0256733393.48348"
START_TIME = 2011-06-21T10:45:08.163Z
STOP_TIME = 2011-06-21T10:48:00.019Z
/* ORBITAL DATA ELEMENTS */
ASCENDING_NODE_LONGITUDE = 35.22
MAXIMUM_RESOLUTION = 0.0362
FOOTPRINT_POINT_LATITUDE = (28.1228,28.1234,28.1231,28.1213, 28.1191,28.113,28.1128,28.0766,27.4773, 26.8765,26.3629,26.1542,25.8434,25.5278 ,25.3169,25.1062,24.8963,24.6874, 24.4785,24.2681,24.0461,23.8312,23.4109 ,23.085,22.8646,22.6452,22.3169,21.9822 ,21.6466,21.4231,21.1989,20.9717, 20.7432,20.4009,20.172,19.9392,19.7066, 19.3524,18.998,18.7586,18.5203,18.2832, 17.9217,17.6802,17.4384,17.1934,17.0702 ,17.0451,17.0462,17.0464,17.0454, 17.0437,17.0407,17.0349,17.0346,17.0352 ,17.2819,17.5251,17.7663,18.0096, 18.2507,18.6095,18.8484,19.0854,19.3174 ,19.557,19.79,20.0217,20.3671,20.6015, 20.9405,21.1719,21.5125,21.8487,22.0719 ,22.2943,22.6241,22.8451,23.0666, 23.2881,23.5027,23.7168,23.9281,24.1383 ,24.3535,24.6731,24.8801,25.0904, 25.2999,25.5108,25.7222,26.1381,26.347, 26.5541,26.9652,27.3681,27.6677,27.9684 ,28.0694,28.1228)
FOOTPRINT_POINT_LONGITUDE = (49.0722,48.7489,48.4903,48.1508, 47.8925,47.4234,47.4072,47.3903,47.3905 ,47.3908,47.3888,47.3867,47.384,47.3812 ,47.3795,47.3777,47.3761,47.3748, 47.3732,47.3726,47.3681,47.3659,47.3641 ,47.3603,47.3573,47.3544,47.3501, 47.3449,47.3399,47.3365,47.3327,47.3289 ,47.325,47.319,47.3146,47.3101,47.3057, 47.2986,47.2907,47.285,47.2795,47.2742, 47.266,47.2604,47.2545,47.2484,47.2453, 47.2447,47.4673,47.8204,48.0615,48.3771 ,48.6556,49.1383,49.1569,49.1636, 49.1623,49.1609,49.1599,49.1582,49.1571 ,49.1543,49.1526,49.1516,49.151,49.1492 ,49.1479,49.147,49.1448,49.1416,49.1408 ,49.1383,49.1347,49.1326,49.1315, 49.1299,49.1275,49.1255,49.1234,49.1213 ,49.1199,49.1186,49.1183,49.1183, 49.1167,49.1137,49.1132,49.1115,49.1102 ,49.1084,49.1064,49.1014,49.0986, 49.0963,49.0929,49.0898,49.0876,49.085, 49.0839,49.0722)
ORBIT_NUMBER = 9533
ORBITAL_ECCENTRICITY = 0.574
ORBITAL_INCLINATION = 86.87
ORBITAL_SEMIMAJOR_AXIS = 8808.44
PERIAPSIS_ALTITUDE = 369.31
PERIAPSIS_ARGUMENT_ANGLE = 132.4
PERIAPSIS_TIME = 2011-06-21T10:40:42.000Z
SPACECRAFT_ORIENTATION = (0.0,-1.0,0.0)
^MEX_ORIENTATION_DESC = "MEX_ORIENTATION_DESC.TXT"
SPACECRAFT_POINTING_MODE = NADIR
^MEX_POINTING_DESC = "MEX_POINTING_DESC.TXT"
RIGHT_ASCENSION = -1e+32
DECLINATION = -1e+32
OFFSET_ANGLE = -1e+32
SPACECRAFT_SOLAR_DISTANCE = 2.16987e+08
TARGET_NAME = MARS
/* CAMERA DATA ELEMENTS */
DETECTOR_TEMPERATURE = 17.351
FOCAL_PLANE_TEMPERATURE = 8.5833
INST_CMPRS_NAME = "DISCRETE COSINE TRANSFORMATION (DCT)"
INST_CMPRS_RATIO = 10.7681
INST_CMPRS_QUALITY = 0
INST_CMPRS_QUANTZ_TBL_ID = 0
INSTRUMENT_TEMPERATURE = 11.234
LENS_TEMPERATURE = 9.195
MACROPIXEL_SIZE = 2
MISSING_FRAMES = 1
PIXEL_SUBSAMPLING_FLAG = N
SIGNAL_CHAIN_ID = 1
/* RADIOMETRIC DATA ELEMENTS */
BANDWIDTH = 180.0
CENTER_FILTER_WAVELENGTH = 677.0
RADIANCE_OFFSET = 6.29805
RADIANCE_SCALING_FACTOR = 0.0215192
REFLECTANCE_SCALING_FACTOR = 0.000528614
MEX:REFLECTANCE_OFFSET = 0.15471
/* IMAGE OBJECT DEFINITIONS */
OBJECT = IMAGE
  INTERCHANGE_FORMAT = BINARY
  LINES = 26239
  LINE_SAMPLES = 4647
  SAMPLE_TYPE = UNSIGNED_INTEGER
  SAMPLE_BITS = 8
  BANDS = 1
  BAND_STORAGE_TYPE = BAND_SEQUENTIAL
  MAXIMUM = 255
  MEAN = 137.487
  MINIMUM = 1
  STANDARD_DEVIATION = 34.5365
END_OBJECT = IMAGE
/* MAP OBJECT DEFINITIONS */
OBJECT = IMAGE_MAP_PROJECTION
  ^DATA_SET_MAP_PROJECTION_CATALOG= "DSMAP.CAT"
  A_AXIS_RADIUS = 3396.0
  B_AXIS_RADIUS = 3396.0
  C_AXIS_RADIUS = 3396.0
  CENTER_LATITUDE = 0.0
  CENTER_LONGITUDE = 48.0
  COORDINATE_SYSTEM_NAME = PLANETOGRAPHIC
  COORDINATE_SYSTEM_TYPE = "BODY-FIXED ROTATING"
  EASTERNMOST_LONGITUDE = 49.1636
  FIRST_STANDARD_PARALLEL = "N/A"
  LINE_FIRST_PIXEL = 1
  LINE_LAST_PIXEL = 26239
  LINE_PROJECTION_OFFSET = 66598.25
  MAP_PROJECTION_ROTATION = 0.0
  MAP_PROJECTION_TYPE = SINUSOIDAL
  MAP_RESOLUTION = 2370.85521546667
  MAP_SCALE = 0.025
  MAXIMUM_LATITUDE = 28.1234
  MINIMUM_LATITUDE = 17.0346
  POSITIVE_LONGITUDE_DIRECTION = EAST
  REFERENCE_LATITUDE = "N/A"
  REFERENCE_LONGITUDE = "N/A"
  SAMPLE_FIRST_PIXEL = 1
  SAMPLE_LAST_PIXEL = 4647
  SAMPLE_PROJECTION_OFFSET = 1875.25
  SECOND_STANDARD_PARALLEL = "N/A"
  WESTERNMOST_LONGITUDE = 47.2447
END_OBJECT = IMAGE_MAP_PROJECTION
END
