PDS_VERSION_ID = PDS3
/* FILE DATA ELEMENTS */
RECORD_TYPE = UNDEFINED
/* POINTERS TO DATA OBJECTS */
^IMAGE = ("H9563_0000_P14.TIF")
/* IDENTIFICATION DATA ELEMENTS */
DATA_SET_ID = "MEX-M-HRSC-4-REFDR-MAPPROJECT-EXT3-V4.0"
DATA_SET_NAME = "MARS EXPRESS HRSC MAP PROJECTED REFDR EXTENSION3 V4.0"
DETECTOR_ID = MEX_HRSC_P1
EVENT_TYPE = "MARS-REGIONAL-MAPPING-Te-Im-Pf"
INSTRUMENT_HOST_ID = MEX
INSTRUMENT_HOST_NAME = "MARS EXPRESS"
INSTRUMENT_ID = HRSC
INSTRUMENT_NAME = "HIGH RESOLUTION STEREO CAMERA"
MISSION_NAME = "MARS EXPRESS"
MISSION_PHASE_NAME = ME_Phase_23
PROCESSING_LEVEL_ID = 4
PRODUCT_CREATION_TIME = 2023-02-04T12:09:02.000Z
PRODUCT_ID = "H9563_0000_P14.TIF"
RELEASE_ID = 0007
REVISION_ID = 0000
/* QUALITY DATA ELEMENTS */
DATA_QUALITY_ID = 1
DATA_QUALITY_DESC = "Data calculated based on original SPICE kernels"
/* TIME DATA ELEMENTS */
SPACECRAFT_CLOCK_START_COUNT = "1/0257488020.08235"
SPACECRAFT_CLOCK_STOP_COUNT = "1/0257488275.63282"
START_TIME = 2011-06-30T04:27:15.805Z
STOP_TIME = 2011-06-30T04:30:20.193Z
/* ORBITAL DATA ELEMENTS */
ASCENDING_NODE_LONGITUDE = 34.66
MAXIMUM_RESOLUTION = 0.0307
FOOTPRINT_POINT_LATITUDE = (60.6135,60.5876,60.5625,60.5165, 60.5153,60.4407,59.9814,59.6362,59.1755 ,58.9446,58.7137,58.4825,58.2511, 58.0194,57.6718,57.4399,57.2076,56.8589 ,56.6262,56.2765,56.0433,55.6931, 55.4595,55.1088,54.7576,54.5234,54.2889 ,54.0503,53.8156,53.5809,53.3458, 52.9932,52.7581,52.5227,52.287,52.0512, 51.8154,51.5796,51.3437,51.1074,50.753, 50.5166,50.1621,49.9254,49.5704,49.3336 ,49.0966,48.8594,48.7409,48.7154, 48.7333,48.7519,48.7642,48.7645,48.7651 ,49.0028,49.3593,49.5968,49.8344, 50.1906,50.5467,50.7841,51.0212,51.2579 ,51.6131,51.8499,52.0867,52.3232, 52.5596,52.9141,53.1503,53.3864,53.7403 ,53.976,54.2115,54.5689,54.8041,55.0394 ,55.2743,55.5093,55.744,55.9786,56.3303 ,56.5645,56.7985,57.0325,57.2662, 57.4997,57.7332,57.9664,58.3159,58.5487 ,58.7813,59.0137,59.2459,59.478,59.8259 ,60.4046,60.52,60.6135)
FOOTPRINT_POINT_LONGITUDE = (219.48,218.595,217.895,216.837,216.811 ,216.76,216.856,216.925,217.015,217.058 ,217.101,217.143,217.184,217.224, 217.284,217.322,217.36,217.415,217.451, 217.503,217.538,217.588,217.62,217.668, 217.714,217.744,217.774,217.803,217.832 ,217.86,217.887,217.927,217.953,217.979 ,218.004,218.028,218.052,218.076, 218.099,218.121,218.154,218.176,218.207 ,218.228,218.258,218.277,218.296, 218.314,218.323,218.325,218.881,219.612 ,220.288,220.307,220.314,220.304, 220.289,220.279,220.269,220.253,220.237 ,220.226,220.214,220.203,220.186, 220.174,220.162,220.15,220.138,220.119, 220.106,220.093,220.073,220.06,220.046, 220.024,220.01,219.995,219.981,219.965, 219.95,219.934,219.91,219.894,219.878, 219.861,219.844,219.826,219.808,219.791 ,219.763,219.744,219.725,219.706, 219.686,219.666,219.635,219.581,219.57, 219.48)
ORBIT_NUMBER = 9563
ORBITAL_ECCENTRICITY = 0.573
ORBITAL_INCLINATION = 86.89
ORBITAL_SEMIMAJOR_AXIS = 8795.15
PERIAPSIS_ALTITUDE = 371.76
PERIAPSIS_ARGUMENT_ANGLE = 127.18
PERIAPSIS_TIME = 2011-06-30T04:29:40.000Z
SPACECRAFT_ORIENTATION = (0.0,-1.0,0.0)
^MEX_ORIENTATION_DESC = "MEX_ORIENTATION_DESC.TXT"
SPACECRAFT_POINTING_MODE = ACROSSTRACK
^MEX_POINTING_DESC = "MEX_POINTING_DESC.TXT"
RIGHT_ASCENSION = -1e+32
DECLINATION = -1e+32
OFFSET_ANGLE = 0.1
SPACECRAFT_SOLAR_DISTANCE = 2.18553e+08
TARGET_NAME = MARS
/* CAMERA DATA ELEMENTS */
DETECTOR_TEMPERATURE = 17.1471
FOCAL_PLANE_TEMPERATURE = 8.9911
INST_CMPRS_NAME = "DISCRETE COSINE TRANSFORMATION (DCT)"
INST_CMPRS_RATIO = 15.7162
INST_CMPRS_QUALITY = 0
INST_CMPRS_QUANTZ_TBL_ID = 0
INSTRUMENT_TEMPERATURE = 11.0301
LENS_TEMPERATURE = 8.5833
MACROPIXEL_SIZE = 2
MISSING_FRAMES = 1
PIXEL_SUBSAMPLING_FLAG = N
SIGNAL_CHAIN_ID = 3
/* RADIOMETRIC DATA ELEMENTS */
BANDWIDTH = 174.0
CENTER_FILTER_WAVELENGTH = 675.0
RADIANCE_OFFSET = 2.46182
RADIANCE_SCALING_FACTOR = 0.0158222
REFLECTANCE_SCALING_FACTOR = 0.000406503
MEX:REFLECTANCE_OFFSET = 0.0632491
/* IMAGE OBJECT DEFINITIONS */
OBJECT = IMAGE
  INTERCHANGE_FORMAT = BINARY
  LINES = 28055
  LINE_SAMPLES = 4660
  SAMPLE_TYPE = UNSIGNED_INTEGER
  SAMPLE_BITS = 8
  BANDS = 1
  BAND_STORAGE_TYPE = BAND_SEQUENTIAL
  MAXIMUM = 255
  MEAN = 109.88
  MINIMUM = 1
  STANDARD_DEVIATION = 48.537
END_OBJECT = IMAGE
/* MAP OBJECT DEFINITIONS */
OBJECT = IMAGE_MAP_PROJECTION
  ^DATA_SET_MAP_PROJECTION_CATALOG= "DSMAP.CAT"
  A_AXIS_RADIUS = 3396.0
  B_AXIS_RADIUS = 3396.0
  C_AXIS_RADIUS = 3396.0
  CENTER_LATITUDE = 0.0
  CENTER_LONGITUDE = 219.0
  COORDINATE_SYSTEM_NAME = PLANETOGRAPHIC
  COORDINATE_SYSTEM_TYPE = "BODY-FIXED ROTATING"
  EASTERNMOST_LONGITUDE = 220.314
  FIRST_STANDARD_PARALLEL = "N/A"
  LINE_FIRST_PIXEL = 1
  LINE_LAST_PIXEL = 28055
  LINE_PROJECTION_OFFSET = 143563.75
  MAP_PROJECTION_ROTATION = 0.0
  MAP_PROJECTION_TYPE = SINUSOIDAL
  MAP_RESOLUTION = 2370.85521546667
  MAP_SCALE = 0.025
  MAXIMUM_LATITUDE = 60.6135
  MINIMUM_LATITUDE = 48.7154
  POSITIVE_LONGITUDE_DIRECTION = EAST
  REFERENCE_LATITUDE = "N/A"
  REFERENCE_LONGITUDE = "N/A"
  SAMPLE_FIRST_PIXEL = 1
  SAMPLE_LAST_PIXEL = 4660
  SAMPLE_PROJECTION_OFFSET = 2605.25
  SECOND_STANDARD_PARALLEL = "N/A"
  WESTERNMOST_LONGITUDE = 216.76
END_OBJECT = IMAGE_MAP_PROJECTION
END
