PDS_VERSION_ID = PDS3
/* FILE DATA ELEMENTS */
RECORD_TYPE = UNDEFINED
/* POINTERS TO DATA OBJECTS */
^IMAGE = ("H9563_0000_P24.TIF")
/* IDENTIFICATION DATA ELEMENTS */
DATA_SET_ID = "MEX-M-HRSC-4-REFDR-MAPPROJECT-EXT3-V4.0"
DATA_SET_NAME = "MARS EXPRESS HRSC MAP PROJECTED REFDR EXTENSION3 V4.0"
DETECTOR_ID = MEX_HRSC_P2
EVENT_TYPE = "MARS-REGIONAL-MAPPING-Te-Im-Pf"
INSTRUMENT_HOST_ID = MEX
INSTRUMENT_HOST_NAME = "MARS EXPRESS"
INSTRUMENT_ID = HRSC
INSTRUMENT_NAME = "HIGH RESOLUTION STEREO CAMERA"
MISSION_NAME = "MARS EXPRESS"
MISSION_PHASE_NAME = ME_Phase_23
PROCESSING_LEVEL_ID = 4
PRODUCT_CREATION_TIME = 2023-02-04T12:09:02.000Z
PRODUCT_ID = "H9563_0000_P24.TIF"
RELEASE_ID = 0007
REVISION_ID = 0000
/* QUALITY DATA ELEMENTS */
DATA_QUALITY_ID = 1
DATA_QUALITY_DESC = "Data calculated based on original SPICE kernels"
/* TIME DATA ELEMENTS */
SPACECRAFT_CLOCK_START_COUNT = "1/0257488020.08235"
SPACECRAFT_CLOCK_STOP_COUNT = "1/0257488275.63282"
START_TIME = 2011-06-30T04:28:02.409Z
STOP_TIME = 2011-06-30T04:31:05.028Z
/* ORBITAL DATA ELEMENTS */
ASCENDING_NODE_LONGITUDE = 34.66
MAXIMUM_RESOLUTION = 0.0309
FOOTPRINT_POINT_LATITUDE = (60.4855,60.4607,60.4461,60.4305, 60.4138,60.3869,60.3858,60.459,60.1062, 59.7532,59.5177,59.1647,58.9295,58.6939 ,58.4587,58.2234,57.9881,57.7525, 57.5172,57.1643,56.6938,56.4585,56.1061 ,55.8712,55.6363,55.2839,54.9315, 54.6968,54.3448,54.1103,53.7584,53.4067 ,53.1726,52.821,52.4699,52.236,52.0023, 51.6517,51.3013,51.0681,50.7183,50.3687 ,50.0193,49.7868,49.554,49.3216,49.0893 ,48.8574,48.7414,48.7243,48.7403,48.748 ,48.7565,48.7699,48.7773,48.7776, 48.7783,49.1276,49.3606,49.7103,50.0604 ,50.2937,50.5274,50.7609,50.9949, 51.2295,51.5811,51.8154,52.1673,52.5195 ,52.7543,52.9893,53.2244,53.4596, 53.6949,53.9302,54.2836,54.5192,54.8728 ,55.2266,55.4625,55.8165,56.0525, 56.4069,56.6431,56.9976,57.2339,57.4704 ,57.8252,58.18,58.4167,58.6533,59.0082, 59.3635,59.5999,59.9552,60.192,60.4284, 60.5471,60.4855)
FOOTPRINT_POINT_LONGITUDE = (219.463,218.702,218.298,217.894, 217.491,216.888,216.863,216.783,216.855 ,216.925,216.97,217.037,217.08,217.122, 217.164,217.204,217.244,217.283,217.321 ,217.377,217.449,217.484,217.534, 217.567,217.599,217.647,217.693,217.722 ,217.766,217.794,217.836,217.876, 217.902,217.94,217.977,218.001,218.024, 218.058,218.091,218.113,218.144,218.175 ,218.204,218.223,218.242,218.26,218.278 ,218.295,218.304,218.305,218.813, 219.086,219.399,219.949,220.303,220.322 ,220.329,220.314,220.303,220.287, 220.271,220.259,220.248,220.236,220.224 ,220.213,220.195,220.182,220.163, 220.144,220.131,220.117,220.103,220.089 ,220.075,220.061,220.039,220.024, 220.001,219.977,219.961,219.937,219.92, 219.894,219.877,219.85,219.831,219.813, 219.784,219.755,219.735,219.714,219.683 ,219.651,219.628,219.595,219.572, 219.548,219.536,219.463)
ORBIT_NUMBER = 9563
ORBITAL_ECCENTRICITY = 0.573
ORBITAL_INCLINATION = 86.89
ORBITAL_SEMIMAJOR_AXIS = 8795.15
PERIAPSIS_ALTITUDE = 371.76
PERIAPSIS_ARGUMENT_ANGLE = 127.18
PERIAPSIS_TIME = 2011-06-30T04:29:40.000Z
SPACECRAFT_ORIENTATION = (0.0,-1.0,0.0)
^MEX_ORIENTATION_DESC = "MEX_ORIENTATION_DESC.TXT"
SPACECRAFT_POINTING_MODE = ACROSSTRACK
^MEX_POINTING_DESC = "MEX_POINTING_DESC.TXT"
RIGHT_ASCENSION = -1e+32
DECLINATION = -1e+32
OFFSET_ANGLE = 0.1
SPACECRAFT_SOLAR_DISTANCE = 2.18553e+08
TARGET_NAME = MARS
/* CAMERA DATA ELEMENTS */
DETECTOR_TEMPERATURE = 18.5744
FOCAL_PLANE_TEMPERATURE = 8.9911
INST_CMPRS_NAME = "DISCRETE COSINE TRANSFORMATION (DCT)"
INST_CMPRS_RATIO = 8.4157
INST_CMPRS_QUALITY = 0
INST_CMPRS_QUANTZ_TBL_ID = 0
INSTRUMENT_TEMPERATURE = 11.0301
LENS_TEMPERATURE = 8.5833
MACROPIXEL_SIZE = 2
MISSING_FRAMES = 0
PIXEL_SUBSAMPLING_FLAG = N
SIGNAL_CHAIN_ID = 3
/* RADIOMETRIC DATA ELEMENTS */
BANDWIDTH = 177.0
CENTER_FILTER_WAVELENGTH = 676.5
RADIANCE_OFFSET = 2.14684
RADIANCE_SCALING_FACTOR = 0.0151278
REFLECTANCE_SCALING_FACTOR = 0.000383129
MEX:REFLECTANCE_OFFSET = 0.0543709
/* IMAGE OBJECT DEFINITIONS */
OBJECT = IMAGE
  INTERCHANGE_FORMAT = BINARY
  LINES = 28055
  LINE_SAMPLES = 4660
  SAMPLE_TYPE = UNSIGNED_INTEGER
  SAMPLE_BITS = 8
  BANDS = 1
  BAND_STORAGE_TYPE = BAND_SEQUENTIAL
  MAXIMUM = 255
  MEAN = 116.962
  MINIMUM = 1
  STANDARD_DEVIATION = 52.8403
END_OBJECT = IMAGE
/* MAP OBJECT DEFINITIONS */
OBJECT = IMAGE_MAP_PROJECTION
  ^DATA_SET_MAP_PROJECTION_CATALOG= "DSMAP.CAT"
  A_AXIS_RADIUS = 3396.0
  B_AXIS_RADIUS = 3396.0
  C_AXIS_RADIUS = 3396.0
  CENTER_LATITUDE = 0.0
  CENTER_LONGITUDE = 219.0
  COORDINATE_SYSTEM_NAME = PLANETOGRAPHIC
  COORDINATE_SYSTEM_TYPE = "BODY-FIXED ROTATING"
  EASTERNMOST_LONGITUDE = 220.329
  FIRST_STANDARD_PARALLEL = "N/A"
  LINE_FIRST_PIXEL = 1
  LINE_LAST_PIXEL = 28055
  LINE_PROJECTION_OFFSET = 143563.75
  MAP_PROJECTION_ROTATION = 0.0
  MAP_PROJECTION_TYPE = SINUSOIDAL
  MAP_RESOLUTION = 2370.85521546667
  MAP_SCALE = 0.025
  MAXIMUM_LATITUDE = 60.5471
  MINIMUM_LATITUDE = 48.7243
  POSITIVE_LONGITUDE_DIRECTION = EAST
  REFERENCE_LATITUDE = "N/A"
  REFERENCE_LONGITUDE = "N/A"
  SAMPLE_FIRST_PIXEL = 1
  SAMPLE_LAST_PIXEL = 4660
  SAMPLE_PROJECTION_OFFSET = 2605.25
  SECOND_STANDARD_PARALLEL = "N/A"
  WESTERNMOST_LONGITUDE = 216.783
END_OBJECT = IMAGE_MAP_PROJECTION
END
