PDS_VERSION_ID = PDS3
/* FILE DATA ELEMENTS */
RECORD_TYPE = UNDEFINED
/* POINTERS TO DATA OBJECTS */
^IMAGE = ("H9563_0000_RE4.TIF")
/* IDENTIFICATION DATA ELEMENTS */
DATA_SET_ID = "MEX-M-HRSC-4-REFDR-MAPPROJECT-EXT3-V4.0"
DATA_SET_NAME = "MARS EXPRESS HRSC MAP PROJECTED REFDR EXTENSION3 V4.0"
DETECTOR_ID = MEX_HRSC_RED
EVENT_TYPE = "MARS-REGIONAL-MAPPING-Te-Im-Pf"
INSTRUMENT_HOST_ID = MEX
INSTRUMENT_HOST_NAME = "MARS EXPRESS"
INSTRUMENT_ID = HRSC
INSTRUMENT_NAME = "HIGH RESOLUTION STEREO CAMERA"
MISSION_NAME = "MARS EXPRESS"
MISSION_PHASE_NAME = ME_Phase_23
PROCESSING_LEVEL_ID = 4
PRODUCT_CREATION_TIME = 2023-02-04T12:09:02.000Z
PRODUCT_ID = "H9563_0000_RE4.TIF"
RELEASE_ID = 0007
REVISION_ID = 0000
/* QUALITY DATA ELEMENTS */
DATA_QUALITY_ID = 1
DATA_QUALITY_DESC = "Data calculated based on original SPICE kernels"
/* TIME DATA ELEMENTS */
SPACECRAFT_CLOCK_START_COUNT = "1/0257488020.08235"
SPACECRAFT_CLOCK_STOP_COUNT = "1/0257488275.63282"
START_TIME = 2011-06-30T04:28:08.405Z
STOP_TIME = 2011-06-30T04:31:10.889Z
/* ORBITAL DATA ELEMENTS */
ASCENDING_NODE_LONGITUDE = 34.66
MAXIMUM_RESOLUTION = 0.0628
FOOTPRINT_POINT_LATITUDE = (60.4644,60.4561,60.4432,60.4193,60.404 ,60.3878,60.3662,60.3651,60.4575, 60.1052,59.7529,59.5179,59.1656,58.8135 ,58.4612,58.2265,57.8743,57.4047, 57.0528,56.7012,56.4668,56.2328,55.9987 ,55.6476,55.4136,55.1796,54.9458, 54.7121,54.3617,54.0114,53.778,53.428, 53.195,52.8453,52.6126,52.2636,52.0313, 51.6828,51.3343,51.1027,50.7551,50.4078 ,50.0607,49.8297,49.4831,49.1373, 48.9071,48.7919,48.7339,48.7417,48.7502 ,48.7617,48.7724,48.779,48.7868,48.7872 ,48.7882,49.1351,49.3662,49.5977, 49.8294,50.177,50.5249,50.7569,51.1059, 51.3388,51.6883,51.9212,52.2712,52.6216 ,52.972,53.2057,53.4397,53.7909,54.1425 ,54.4943,54.7288,55.081,55.3158,55.5508 ,55.7859,56.021,56.2564,56.6094,56.8449 ,57.0805,57.3162,57.552,57.7877,58.0236 ,58.2595,58.6136,58.9677,59.2039, 59.5579,59.7943,60.1489,60.3849,60.5034 ,60.4644)
FOOTPRINT_POINT_LONGITUDE = (219.465,219.197,218.808,218.154, 217.767,217.382,216.899,216.875,216.794 ,216.865,216.935,216.98,217.046,217.11, 217.172,217.212,217.271,217.347,217.402 ,217.455,217.49,217.523,217.556,217.605 ,217.636,217.667,217.697,217.726,217.77 ,217.811,217.839,217.878,217.904, 217.942,217.966,218.002,218.025,218.059 ,218.092,218.113,218.145,218.175, 218.204,218.223,218.251,218.277,218.294 ,218.303,218.307,218.551,218.834, 219.248,219.664,219.948,220.308,220.327 ,220.333,220.318,220.307,220.297, 220.286,220.269,220.252,220.24,220.223, 220.211,220.193,220.18,220.161,220.141, 220.121,220.107,220.093,220.072,220.05, 220.028,220.013,219.989,219.973,219.957 ,219.941,219.924,219.907,219.881, 219.863,219.845,219.826,219.807,219.788 ,219.769,219.749,219.718,219.687, 219.666,219.632,219.61,219.576,219.552, 219.54,219.465)
ORBIT_NUMBER = 9563
ORBITAL_ECCENTRICITY = 0.573
ORBITAL_INCLINATION = 86.89
ORBITAL_SEMIMAJOR_AXIS = 8795.15
PERIAPSIS_ALTITUDE = 371.76
PERIAPSIS_ARGUMENT_ANGLE = 127.18
PERIAPSIS_TIME = 2011-06-30T04:29:40.000Z
SPACECRAFT_ORIENTATION = (0.0,-1.0,0.0)
^MEX_ORIENTATION_DESC = "MEX_ORIENTATION_DESC.TXT"
SPACECRAFT_POINTING_MODE = ACROSSTRACK
^MEX_POINTING_DESC = "MEX_POINTING_DESC.TXT"
RIGHT_ASCENSION = -1e+32
DECLINATION = -1e+32
OFFSET_ANGLE = 0.1
SPACECRAFT_SOLAR_DISTANCE = 2.18553e+08
TARGET_NAME = MARS
/* CAMERA DATA ELEMENTS */
DETECTOR_TEMPERATURE = 18.5744
FOCAL_PLANE_TEMPERATURE = 8.9911
INST_CMPRS_NAME = "DISCRETE COSINE TRANSFORMATION (DCT)"
INST_CMPRS_RATIO = 28.6334
INST_CMPRS_QUALITY = 0
INST_CMPRS_QUANTZ_TBL_ID = 0
INSTRUMENT_TEMPERATURE = 11.0301
LENS_TEMPERATURE = 8.5833
MACROPIXEL_SIZE = 4
MISSING_FRAMES = 0
PIXEL_SUBSAMPLING_FLAG = N
SIGNAL_CHAIN_ID = 2
/* RADIOMETRIC DATA ELEMENTS */
BANDWIDTH = 48.0
CENTER_FILTER_WAVELENGTH = 748.0
RADIANCE_OFFSET = 0.568595
RADIANCE_SCALING_FACTOR = 0.00423659
REFLECTANCE_SCALING_FACTOR = 0.0004618
MEX:REFLECTANCE_OFFSET = 0.0619785
/* IMAGE OBJECT DEFINITIONS */
OBJECT = IMAGE
  INTERCHANGE_FORMAT = BINARY
  LINES = 14028
  LINE_SAMPLES = 2330
  SAMPLE_TYPE = UNSIGNED_INTEGER
  SAMPLE_BITS = 8
  BANDS = 1
  BAND_STORAGE_TYPE = BAND_SEQUENTIAL
  MAXIMUM = 255
  MEAN = 118.31
  MINIMUM = 2
  STANDARD_DEVIATION = 55.7851
END_OBJECT = IMAGE
/* MAP OBJECT DEFINITIONS */
OBJECT = IMAGE_MAP_PROJECTION
  ^DATA_SET_MAP_PROJECTION_CATALOG= "DSMAP.CAT"
  A_AXIS_RADIUS = 3396.0
  B_AXIS_RADIUS = 3396.0
  C_AXIS_RADIUS = 3396.0
  CENTER_LATITUDE = 0.0
  CENTER_LONGITUDE = 219.0
  COORDINATE_SYSTEM_NAME = PLANETOGRAPHIC
  COORDINATE_SYSTEM_TYPE = "BODY-FIXED ROTATING"
  EASTERNMOST_LONGITUDE = 220.333
  FIRST_STANDARD_PARALLEL = "N/A"
  LINE_FIRST_PIXEL = 1
  LINE_LAST_PIXEL = 14028
  LINE_PROJECTION_OFFSET = 71781.625
  MAP_PROJECTION_ROTATION = 0.0
  MAP_PROJECTION_TYPE = SINUSOIDAL
  MAP_RESOLUTION = 1185.42760773333
  MAP_SCALE = 0.05
  MAXIMUM_LATITUDE = 60.5034
  MINIMUM_LATITUDE = 48.7339
  POSITIVE_LONGITUDE_DIRECTION = EAST
  REFERENCE_LATITUDE = "N/A"
  REFERENCE_LONGITUDE = "N/A"
  SAMPLE_FIRST_PIXEL = 1
  SAMPLE_LAST_PIXEL = 2330
  SAMPLE_PROJECTION_OFFSET = 1302.375
  SECOND_STANDARD_PARALLEL = "N/A"
  WESTERNMOST_LONGITUDE = 216.794
END_OBJECT = IMAGE_MAP_PROJECTION
END
