PDS_VERSION_ID = PDS3
/* FILE DATA ELEMENTS */
RECORD_TYPE = UNDEFINED
/* POINTERS TO DATA OBJECTS */
^IMAGE = ("HA478_0001_P24.TIF")
/* IDENTIFICATION DATA ELEMENTS */
DATA_SET_ID = "MEX-M-HRSC-4-REFDR-MAPPROJECT-EXT3-V4.0"
DATA_SET_NAME = "MARS EXPRESS HRSC MAP PROJECTED REFDR EXTENSION3 V4.0"
DETECTOR_ID = MEX_HRSC_P2
EVENT_TYPE = "MARS-REGIONAL-MAPPING-Im-Fl"
INSTRUMENT_HOST_ID = MEX
INSTRUMENT_HOST_NAME = "MARS EXPRESS"
INSTRUMENT_ID = HRSC
INSTRUMENT_NAME = "HIGH RESOLUTION STEREO CAMERA"
MISSION_NAME = "MARS EXPRESS"
MISSION_PHASE_NAME = ME_Phase_25
PROCESSING_LEVEL_ID = 4
PRODUCT_CREATION_TIME = 2023-02-04T22:47:41.000Z
PRODUCT_ID = "HA478_0001_P24.TIF"
RELEASE_ID = 0008
REVISION_ID = 0000
/* QUALITY DATA ELEMENTS */
DATA_QUALITY_ID = 1
DATA_QUALITY_DESC = "Data calculated based on original SPICE kernels"
/* TIME DATA ELEMENTS */
SPACECRAFT_CLOCK_START_COUNT = "1/0280529493.07288"
SPACECRAFT_CLOCK_STOP_COUNT = "1/0280529839.64573"
START_TIME = 2012-03-22T20:51:57.439Z
STOP_TIME = 2012-03-22T20:54:22.547Z
/* ORBITAL DATA ELEMENTS */
ASCENDING_NODE_LONGITUDE = 17.29
MAXIMUM_RESOLUTION = 0.0523
FOOTPRINT_POINT_LATITUDE = (9.25703,9.25359,9.25028,9.24834, 9.24644,9.24462,9.24288,9.24122,9.23961 ,9.23806,9.23654,9.23439,9.23421, 9.23311,9.54415,9.93639,10.332,10.6502, 10.8915,11.2138,11.5396,11.9491,12.4458 ,12.7785,12.9475,13.2852,13.4562, 13.6264,13.7973,13.971,14.1435,14.3164, 14.4914,14.6665,14.8411,15.1031,15.2769 ,15.4506,15.6239,15.7969,16.0564, 16.2289,16.4015,16.6599,16.8321,17.0038 ,17.1752,17.3466,17.5176,17.6029, 17.6558,17.6586,17.663,17.6685,17.6712, 17.6764,17.6806,17.6835,17.6879,17.6908 ,17.6955,17.6959,17.6951,17.4375, 17.2654,17.0086,16.7494,16.4912,16.3187 ,16.1458,15.9727,15.7988,15.6253, 15.4516,15.1901,15.0157,14.8407,14.6677 ,14.4908,14.3158,14.143,13.9698,13.7967 ,13.6256,13.4541,13.2832,13.1135, 12.9437,12.6072,12.272,11.9411,11.6948, 11.3709,10.8847,10.5589,10.1582,9.84493 ,9.37553,9.29821,9.25703)
FOOTPRINT_POINT_LONGITUDE = (50.1139,49.8309,49.548,49.3737,49.1992 ,49.0244,48.8496,48.6745,48.4993, 48.3237,48.1476,47.8829,47.8608,47.8548 ,47.8384,47.8181,47.7969,47.7799, 47.7668,47.7492,47.7313,47.7088,47.6808 ,47.6623,47.6524,47.6327,47.6226, 47.6129,47.6027,47.5919,47.5817,47.5712 ,47.5605,47.5495,47.5385,47.5218,47.511 ,47.5,47.4891,47.4783,47.4616,47.4505, 47.4392,47.4223,47.4108,47.3995,47.3881 ,47.3766,47.3651,47.3594,47.3559, 47.5816,47.8357,48.2021,48.3989,48.8201 ,49.1007,49.3248,49.6605,49.8842, 50.2201,50.2481,50.2582,50.2522,50.2483 ,50.2431,50.2373,50.232,50.2286,50.2251 ,50.2216,50.218,50.2146,50.2113,50.2062 ,50.2029,50.1995,50.1969,50.193,50.19, 50.1869,50.1839,50.1809,50.1779,50.1749 ,50.172,50.1691,50.1661,50.1605,50.1549 ,50.1498,50.1463,50.1424,50.1352, 50.1291,50.1229,50.1192,50.1132,50.1123 ,50.1139)
ORBIT_NUMBER = 10478
ORBITAL_ECCENTRICITY = 0.578
ORBITAL_INCLINATION = 86.88
ORBITAL_SEMIMAJOR_AXIS = 8836.53
PERIAPSIS_ALTITUDE = 334.45
PERIAPSIS_ARGUMENT_ANGLE = 329.29
PERIAPSIS_TIME = 2012-03-22T20:41:54.000Z
SPACECRAFT_ORIENTATION = (0.0,1.0,0.0)
^MEX_ORIENTATION_DESC = "MEX_ORIENTATION_DESC.TXT"
SPACECRAFT_POINTING_MODE = ACROSSTRACK
^MEX_POINTING_DESC = "MEX_POINTING_DESC.TXT"
RIGHT_ASCENSION = -1e+32
DECLINATION = -1e+32
OFFSET_ANGLE = 0.3
SPACECRAFT_SOLAR_DISTANCE = 2.48267e+08
TARGET_NAME = MARS
/* CAMERA DATA ELEMENTS */
DETECTOR_TEMPERATURE = 20.4095
FOCAL_PLANE_TEMPERATURE = 8.7872
INST_CMPRS_NAME = "DISCRETE COSINE TRANSFORMATION (DCT)"
INST_CMPRS_RATIO = 8.7466
INST_CMPRS_QUALITY = 0
INST_CMPRS_QUANTZ_TBL_ID = 0
INSTRUMENT_TEMPERATURE = 13.6808
LENS_TEMPERATURE = 9.8067
MACROPIXEL_SIZE = 2
MISSING_FRAMES = 0
PIXEL_SUBSAMPLING_FLAG = N
SIGNAL_CHAIN_ID = 3
/* RADIOMETRIC DATA ELEMENTS */
BANDWIDTH = 177.0
CENTER_FILTER_WAVELENGTH = 676.5
RADIANCE_OFFSET = 2.89972
RADIANCE_SCALING_FACTOR = 0.0162729
REFLECTANCE_SCALING_FACTOR = 0.000531815
MEX:REFLECTANCE_OFFSET = 0.0947656
/* IMAGE OBJECT DEFINITIONS */
OBJECT = IMAGE
  INTERCHANGE_FORMAT = BINARY
  LINES = 10053
  LINE_SAMPLES = 3532
  SAMPLE_TYPE = UNSIGNED_INTEGER
  SAMPLE_BITS = 8
  BANDS = 1
  BAND_STORAGE_TYPE = BAND_SEQUENTIAL
  MAXIMUM = 255
  MEAN = 118.561
  MINIMUM = 1
  STANDARD_DEVIATION = 21.8928
END_OBJECT = IMAGE
/* MAP OBJECT DEFINITIONS */
OBJECT = IMAGE_MAP_PROJECTION
  ^DATA_SET_MAP_PROJECTION_CATALOG= "DSMAP.CAT"
  A_AXIS_RADIUS = 3396.0
  B_AXIS_RADIUS = 3396.0
  C_AXIS_RADIUS = 3396.0
  CENTER_LATITUDE = 0.0
  CENTER_LONGITUDE = 49.0
  COORDINATE_SYSTEM_NAME = PLANETOGRAPHIC
  COORDINATE_SYSTEM_TYPE = "BODY-FIXED ROTATING"
  EASTERNMOST_LONGITUDE = 50.2582
  FIRST_STANDARD_PARALLEL = "N/A"
  LINE_FIRST_PIXEL = 1
  LINE_LAST_PIXEL = 10053
  LINE_PROJECTION_OFFSET = 20985.75
  MAP_PROJECTION_ROTATION = 0.0
  MAP_PROJECTION_TYPE = SINUSOIDAL
  MAP_RESOLUTION = 1185.42760773333
  MAP_SCALE = 0.05
  MAXIMUM_LATITUDE = 17.6959
  MINIMUM_LATITUDE = 9.23311
  POSITIVE_LONGITUDE_DIRECTION = EAST
  REFERENCE_LATITUDE = "N/A"
  REFERENCE_LONGITUDE = "N/A"
  SAMPLE_FIRST_PIXEL = 1
  SAMPLE_LAST_PIXEL = 3532
  SAMPLE_PROJECTION_OFFSET = 1978.75
  SECOND_STANDARD_PARALLEL = "N/A"
  WESTERNMOST_LONGITUDE = 47.3559
END_OBJECT = IMAGE_MAP_PROJECTION
END
