PDS_VERSION_ID = PDS3
/* FILE DATA ELEMENTS */
RECORD_TYPE = UNDEFINED
/* POINTERS TO DATA OBJECTS */
^IMAGE = ("HA593_0000_P14.TIF")
/* IDENTIFICATION DATA ELEMENTS */
DATA_SET_ID = "MEX-M-HRSC-4-REFDR-MAPPROJECT-EXT3-V4.0"
DATA_SET_NAME = "MARS EXPRESS HRSC MAP PROJECTED REFDR EXTENSION3 V4.0"
DETECTOR_ID = MEX_HRSC_P1
EVENT_TYPE = "MARS-REGIONAL-MAPPING-Im-Fl"
INSTRUMENT_HOST_ID = MEX
INSTRUMENT_HOST_NAME = "MARS EXPRESS"
INSTRUMENT_ID = HRSC
INSTRUMENT_NAME = "HIGH RESOLUTION STEREO CAMERA"
MISSION_NAME = "MARS EXPRESS"
MISSION_PHASE_NAME = ME_Phase_25
PROCESSING_LEVEL_ID = 4
PRODUCT_CREATION_TIME = 2023-02-05T03:55:10.000Z
PRODUCT_ID = "HA593_0000_P14.TIF"
RELEASE_ID = 0009
REVISION_ID = 0000
/* QUALITY DATA ELEMENTS */
DATA_QUALITY_ID = 1
DATA_QUALITY_DESC = "Data calculated based on original SPICE kernels"
/* TIME DATA ELEMENTS */
SPACECRAFT_CLOCK_START_COUNT = "1/0283423838.09041"
SPACECRAFT_CLOCK_STOP_COUNT = "1/0283424106.58676"
START_TIME = 2012-04-25T08:51:46.448Z
STOP_TIME = 2012-04-25T08:54:46.773Z
/* ORBITAL DATA ELEMENTS */
ASCENDING_NODE_LONGITUDE = 15.11
MAXIMUM_RESOLUTION = 0.0717
FOOTPRINT_POINT_LATITUDE = (-28.8952,-28.8983,-28.903,-28.9053, -28.9072,-28.9101,-28.9102,-28.9217, -28.5535,-28.3627,-27.9855,-27.5126, -27.2232,-26.9374,-26.5521,-26.357, -26.0654,-25.8717,-25.6735,-25.4758, -25.2779,-25.081,-24.8819,-24.6782, -24.4775,-24.277,-24.0726,-23.7662, -23.5623,-23.2517,-23.0441,-22.8372, -22.5215,-22.3101,-22.1017,-21.8884, -21.5702,-21.3576,-21.1417,-20.9251, -20.6001,-20.3801,-20.1612,-19.9404, -19.719,-19.4972,-19.1594,-18.8255, -18.7102,-18.6465,-18.6393,-18.6307, -18.6221,-18.6151,-18.6089,-18.6031, -18.6027,-18.6037,-18.8328,-19.058, -19.3947,-19.6191,-19.8418,-20.0649, -20.2834,-20.503,-20.8281,-21.0447, -21.2606,-21.582,-21.7964,-22.1166, -22.435,-22.7499,-23.062,-23.2701, -23.4784,-23.6827,-23.9881,-24.1935, -24.3956,-24.698,-24.9002,-25.1024, -25.3001,-25.4969,-25.6958,-25.8938, -26.186,-26.4787,-26.6746,-26.8674, -27.0598,-27.3484,-27.7311,-28.1085, -28.4871,-28.7665,-28.8592,-28.8952)
FOOTPRINT_POINT_LONGITUDE = (170.601,170.347,169.882,169.624, 169.364,168.89,168.873,168.857,168.856, 168.858,168.857,168.856,168.857,168.854 ,168.851,168.85,168.848,168.846,168.844 ,168.841,168.84,168.837,168.833,168.833 ,168.83,168.828,168.825,168.821,168.818 ,168.813,168.81,168.807,168.802,168.799 ,168.794,168.79,168.782,168.777,168.772 ,168.768,168.76,168.755,168.75,168.744, 168.738,168.732,168.724,168.712,168.709 ,168.708,169.026,169.481,169.874, 170.265,170.518,170.79,170.809,170.816, 170.812,170.808,170.801,170.797,170.793 ,170.789,170.784,170.78,170.773,170.769 ,170.765,170.759,170.755,170.748, 170.743,170.736,170.73,170.726,170.722, 170.718,170.711,170.707,170.703,170.697 ,170.693,170.689,170.685,170.68,170.676 ,170.672,170.665,170.659,170.654,170.65 ,170.646,170.64,170.631,170.622,170.614 ,170.607,170.605,170.601)
ORBIT_NUMBER = 10593
ORBITAL_ECCENTRICITY = 0.578
ORBITAL_INCLINATION = 86.88
ORBITAL_SEMIMAJOR_AXIS = 8795.83
PERIAPSIS_ALTITUDE = 331.49
PERIAPSIS_ARGUMENT_ANGLE = 309.62
PERIAPSIS_TIME = 2012-04-25T08:45:49.000Z
SPACECRAFT_ORIENTATION = (0.0,1.0,0.0)
^MEX_ORIENTATION_DESC = "MEX_ORIENTATION_DESC.TXT"
SPACECRAFT_POINTING_MODE = ACROSSTRACK
^MEX_POINTING_DESC = "MEX_POINTING_DESC.TXT"
RIGHT_ASCENSION = -1e+32
DECLINATION = -1e+32
OFFSET_ANGLE = 0.52
SPACECRAFT_SOLAR_DISTANCE = 2.45697e+08
TARGET_NAME = MARS
/* CAMERA DATA ELEMENTS */
DETECTOR_TEMPERATURE = 17.5549
FOCAL_PLANE_TEMPERATURE = 7.9716
INST_CMPRS_NAME = "DISCRETE COSINE TRANSFORMATION (DCT)"
INST_CMPRS_RATIO = 4.96517
INST_CMPRS_QUALITY = 0
INST_CMPRS_QUANTZ_TBL_ID = 0
INSTRUMENT_TEMPERATURE = 11.6418
LENS_TEMPERATURE = 8.9911
MACROPIXEL_SIZE = 4
MISSING_FRAMES = 0
PIXEL_SUBSAMPLING_FLAG = N
SIGNAL_CHAIN_ID = 3
/* RADIOMETRIC DATA ELEMENTS */
BANDWIDTH = 174.0
CENTER_FILTER_WAVELENGTH = 675.0
RADIANCE_OFFSET = 0.696278
RADIANCE_SCALING_FACTOR = 0.0234368
REFLECTANCE_SCALING_FACTOR = 0.000760993
MEX:REFLECTANCE_OFFSET = 0.0226081
/* IMAGE OBJECT DEFINITIONS */
OBJECT = IMAGE
  INTERCHANGE_FORMAT = BINARY
  LINES = 12237
  LINE_SAMPLES = 2239
  SAMPLE_TYPE = UNSIGNED_INTEGER
  SAMPLE_BITS = 8
  BANDS = 1
  BAND_STORAGE_TYPE = BAND_SEQUENTIAL
  MAXIMUM = 255
  MEAN = 111.907
  MINIMUM = 1
  STANDARD_DEVIATION = 30.7541
END_OBJECT = IMAGE
/* MAP OBJECT DEFINITIONS */
OBJECT = IMAGE_MAP_PROJECTION
  ^DATA_SET_MAP_PROJECTION_CATALOG= "DSMAP.CAT"
  A_AXIS_RADIUS = 3396.0
  B_AXIS_RADIUS = 3396.0
  C_AXIS_RADIUS = 3396.0
  CENTER_LATITUDE = 0.0
  CENTER_LONGITUDE = 170.0
  COORDINATE_SYSTEM_NAME = PLANETOGRAPHIC
  COORDINATE_SYSTEM_TYPE = "BODY-FIXED ROTATING"
  EASTERNMOST_LONGITUDE = 170.816
  FIRST_STANDARD_PARALLEL = "N/A"
  LINE_FIRST_PIXEL = 1
  LINE_LAST_PIXEL = 12237
  LINE_PROJECTION_OFFSET = -22059.125
  MAP_PROJECTION_ROTATION = 0.0
  MAP_PROJECTION_TYPE = SINUSOIDAL
  MAP_RESOLUTION = 1185.42760773333
  MAP_SCALE = 0.05
  MAXIMUM_LATITUDE = -18.6027
  MINIMUM_LATITUDE = -28.9217
  POSITIVE_LONGITUDE_DIRECTION = EAST
  REFERENCE_LATITUDE = "N/A"
  REFERENCE_LONGITUDE = "N/A"
  SAMPLE_FIRST_PIXEL = 1
  SAMPLE_LAST_PIXEL = 2239
  SAMPLE_PROJECTION_OFFSET = 1391.875
  SECOND_STANDARD_PARALLEL = "N/A"
  WESTERNMOST_LONGITUDE = 168.708
END_OBJECT = IMAGE_MAP_PROJECTION
END
