PDS_VERSION_ID = PDS3
/* FILE DATA ELEMENTS */
RECORD_TYPE = UNDEFINED
/* POINTERS TO DATA OBJECTS */
^IMAGE = ("HA593_0000_S14.TIF")
/* IDENTIFICATION DATA ELEMENTS */
DATA_SET_ID = "MEX-M-HRSC-4-REFDR-MAPPROJECT-EXT3-V4.0"
DATA_SET_NAME = "MARS EXPRESS HRSC MAP PROJECTED REFDR EXTENSION3 V4.0"
DETECTOR_ID = MEX_HRSC_S1
EVENT_TYPE = "MARS-REGIONAL-MAPPING-Im-Fl"
INSTRUMENT_HOST_ID = MEX
INSTRUMENT_HOST_NAME = "MARS EXPRESS"
INSTRUMENT_ID = HRSC
INSTRUMENT_NAME = "HIGH RESOLUTION STEREO CAMERA"
MISSION_NAME = "MARS EXPRESS"
MISSION_PHASE_NAME = ME_Phase_25
PROCESSING_LEVEL_ID = 4
PRODUCT_CREATION_TIME = 2023-02-05T03:55:10.000Z
PRODUCT_ID = "HA593_0000_S14.TIF"
RELEASE_ID = 0009
REVISION_ID = 0000
/* QUALITY DATA ELEMENTS */
DATA_QUALITY_ID = 1
DATA_QUALITY_DESC = "Data calculated based on original SPICE kernels"
/* TIME DATA ELEMENTS */
SPACECRAFT_CLOCK_START_COUNT = "1/0283423838.09041"
SPACECRAFT_CLOCK_STOP_COUNT = "1/0283424106.58676"
START_TIME = 2012-04-25T08:52:01.284Z
STOP_TIME = 2012-04-25T08:55:08.513Z
/* ORBITAL DATA ELEMENTS */
ASCENDING_NODE_LONGITUDE = 15.11
MAXIMUM_RESOLUTION = 0.0379
FOOTPRINT_POINT_LATITUDE = (-28.8911,-28.8966,-28.9017,-28.9067, -28.9116,-28.9162,-28.9223,-28.9226, -28.9419,-28.5698,-28.0952,-27.7168, -27.234,-26.8517,-26.5594,-26.3644, -26.0725,-25.7764,-25.4803,-25.2827, -25.0818,-24.8837,-24.6802,-24.479, -24.2747,-24.0707,-23.8674,-23.5577, -23.3508,-23.1444,-22.9345,-22.7248, -22.5145,-22.301,-22.0913,-21.8799, -21.6703,-21.452,-21.2394,-21.0224, -20.804,-20.4782,-20.2572,-20.0372, -19.8164,-19.5947,-19.3713,-19.1453, -18.8136,-18.6983,-18.6677,-18.6564, -18.646,-18.6371,-18.627,-18.6188, -18.6034,-18.6029,-18.6033,-18.9462, -19.1717,-19.3936,-19.6185,-19.9549, -20.1759,-20.3955,-20.6147,-20.9383, -21.1561,-21.368,-21.5833,-21.8001, -22.0127,-22.227,-22.4421,-22.6483, -22.8593,-23.1741,-23.3814,-23.5889, -23.796,-23.9975,-24.3045,-24.5094, -24.812,-25.0134,-25.3165,-25.5124, -25.7113,-26.0091,-26.3023,-26.4973, -26.7924,-27.0826,-27.4692,-27.7568, -28.3269,-28.7972,-28.8907,-28.8911)
FOOTPRINT_POINT_LONGITUDE = (170.623,170.351,170.078,169.803, 169.527,169.249,168.864,168.847,168.829 ,168.829,168.828,168.827,168.826, 168.823,168.82,168.818,168.815,168.812, 168.808,168.806,168.803,168.799,168.798 ,168.795,168.792,168.789,168.786, 168.781,168.777,168.774,168.77,168.766, 168.763,168.76,168.754,168.749,168.742, 168.739,168.733,168.728,168.723,168.714 ,168.709,168.703,168.696,168.689, 168.683,168.676,168.663,168.66,168.66, 168.941,169.327,169.625,169.965,170.303 ,170.829,170.85,170.858,170.851,170.846 ,170.841,170.836,170.829,170.825,170.82 ,170.815,170.808,170.803,170.798, 170.793,170.789,170.784,170.78,170.776, 170.771,170.766,170.759,170.755,170.75, 170.746,170.741,170.734,170.73,170.723, 170.718,170.712,170.707,170.702,170.695 ,170.688,170.684,170.677,170.67,170.661 ,170.654,170.64,170.628,170.626, 170.623)
ORBIT_NUMBER = 10593
ORBITAL_ECCENTRICITY = 0.578
ORBITAL_INCLINATION = 86.88
ORBITAL_SEMIMAJOR_AXIS = 8795.83
PERIAPSIS_ALTITUDE = 331.49
PERIAPSIS_ARGUMENT_ANGLE = 309.62
PERIAPSIS_TIME = 2012-04-25T08:45:49.000Z
SPACECRAFT_ORIENTATION = (0.0,1.0,0.0)
^MEX_ORIENTATION_DESC = "MEX_ORIENTATION_DESC.TXT"
SPACECRAFT_POINTING_MODE = ACROSSTRACK
^MEX_POINTING_DESC = "MEX_POINTING_DESC.TXT"
RIGHT_ASCENSION = -1e+32
DECLINATION = -1e+32
OFFSET_ANGLE = 0.52
SPACECRAFT_SOLAR_DISTANCE = 2.45697e+08
TARGET_NAME = MARS
/* CAMERA DATA ELEMENTS */
DETECTOR_TEMPERATURE = 17.5549
FOCAL_PLANE_TEMPERATURE = 7.9716
INST_CMPRS_NAME = "DISCRETE COSINE TRANSFORMATION (DCT)"
INST_CMPRS_RATIO = 6.17852
INST_CMPRS_QUALITY = 0
INST_CMPRS_QUANTZ_TBL_ID = 0
INSTRUMENT_TEMPERATURE = 11.6418
LENS_TEMPERATURE = 8.9911
MACROPIXEL_SIZE = 2
MISSING_FRAMES = 0
PIXEL_SUBSAMPLING_FLAG = N
SIGNAL_CHAIN_ID = 1
/* RADIOMETRIC DATA ELEMENTS */
BANDWIDTH = 180.0
CENTER_FILTER_WAVELENGTH = 677.0
RADIANCE_OFFSET = 0.697244
RADIANCE_SCALING_FACTOR = 0.0249992
REFLECTANCE_SCALING_FACTOR = 0.000787343
MEX:REFLECTANCE_OFFSET = 0.0219595
/* IMAGE OBJECT DEFINITIONS */
OBJECT = IMAGE
  INTERCHANGE_FORMAT = BINARY
  LINES = 24474
  LINE_SAMPLES = 4477
  SAMPLE_TYPE = UNSIGNED_INTEGER
  SAMPLE_BITS = 8
  BANDS = 1
  BAND_STORAGE_TYPE = BAND_SEQUENTIAL
  MAXIMUM = 255
  MEAN = 114.287
  MINIMUM = 1
  STANDARD_DEVIATION = 31.0544
END_OBJECT = IMAGE
/* MAP OBJECT DEFINITIONS */
OBJECT = IMAGE_MAP_PROJECTION
  ^DATA_SET_MAP_PROJECTION_CATALOG= "DSMAP.CAT"
  A_AXIS_RADIUS = 3396.0
  B_AXIS_RADIUS = 3396.0
  C_AXIS_RADIUS = 3396.0
  CENTER_LATITUDE = 0.0
  CENTER_LONGITUDE = 170.0
  COORDINATE_SYSTEM_NAME = PLANETOGRAPHIC
  COORDINATE_SYSTEM_TYPE = "BODY-FIXED ROTATING"
  EASTERNMOST_LONGITUDE = 170.858
  FIRST_STANDARD_PARALLEL = "N/A"
  LINE_FIRST_PIXEL = 1
  LINE_LAST_PIXEL = 24474
  LINE_PROJECTION_OFFSET = -44117.75
  MAP_PROJECTION_ROTATION = 0.0
  MAP_PROJECTION_TYPE = SINUSOIDAL
  MAP_RESOLUTION = 2370.85521546667
  MAP_SCALE = 0.025
  MAXIMUM_LATITUDE = -18.6029
  MINIMUM_LATITUDE = -28.9419
  POSITIVE_LONGITUDE_DIRECTION = EAST
  REFERENCE_LATITUDE = "N/A"
  REFERENCE_LONGITUDE = "N/A"
  SAMPLE_FIRST_PIXEL = 1
  SAMPLE_LAST_PIXEL = 4477
  SAMPLE_PROJECTION_OFFSET = 2784.25
  SECOND_STANDARD_PARALLEL = "N/A"
  WESTERNMOST_LONGITUDE = 168.66
END_OBJECT = IMAGE_MAP_PROJECTION
END
