PDS_VERSION_ID = PDS3
/* FILE DATA ELEMENTS */
RECORD_TYPE = UNDEFINED
/* POINTERS TO DATA OBJECTS */
^IMAGE = ("HA656_0000_P14.TIF")
/* IDENTIFICATION DATA ELEMENTS */
DATA_SET_ID = "MEX-M-HRSC-4-REFDR-MAPPROJECT-EXT3-V4.0"
DATA_SET_NAME = "MARS EXPRESS HRSC MAP PROJECTED REFDR EXTENSION3 V4.0"
DETECTOR_ID = MEX_HRSC_P1
EVENT_TYPE = "MARS-REGIONAL-MAPPING-Te-Im-Fl"
INSTRUMENT_HOST_ID = MEX
INSTRUMENT_HOST_NAME = "MARS EXPRESS"
INSTRUMENT_ID = HRSC
INSTRUMENT_NAME = "HIGH RESOLUTION STEREO CAMERA"
MISSION_NAME = "MARS EXPRESS"
MISSION_PHASE_NAME = ME_Phase_25
PROCESSING_LEVEL_ID = 4
PRODUCT_CREATION_TIME = 2023-02-05T03:55:10.000Z
PRODUCT_ID = "HA656_0000_P14.TIF"
RELEASE_ID = 0009
REVISION_ID = 0000
/* QUALITY DATA ELEMENTS */
DATA_QUALITY_ID = 1
DATA_QUALITY_DESC = "Data calculated based on original SPICE kernels"
/* TIME DATA ELEMENTS */
SPACECRAFT_CLOCK_START_COUNT = "1/0285009334.09061"
SPACECRAFT_CLOCK_STOP_COUNT = "1/0285009627.34427"
START_TIME = 2012-05-13T17:16:44.698Z
STOP_TIME = 2012-05-13T17:20:05.259Z
/* ORBITAL DATA ELEMENTS */
ASCENDING_NODE_LONGITUDE = 13.93
MAXIMUM_RESOLUTION = 0.0367
FOOTPRINT_POINT_LATITUDE = (-38.2367,-38.2384,-38.2396,-38.2402, -38.2403,-38.2397,-38.238,-38.2379, -38.2547,-37.854,-37.4508,-36.9363, -36.4194,-36.106,-35.7945,-35.5814, -35.2618,-35.0501,-34.7279,-34.5123, -34.297,-33.9692,-33.7503,-33.5315, -33.1984,-32.9762,-32.7536,-32.528, -32.1852,-31.9593,-31.7308,-31.3882, -31.1559,-30.9252,-30.5751,-30.3422, -29.9863,-29.7486,-29.5113,-29.27, -29.0294,-28.6616,-28.4165,-28.1705, -27.9244,-27.5523,-27.1783,-27.0514, -27.0001,-26.997,-26.993,-26.9865, -26.9802,-26.9736,-26.9698,-26.9616, -26.9611,-26.9616,-27.2157,-27.5912, -27.8414,-28.0893,-28.3373,-28.7039, -28.9486,-29.19,-29.5514,-29.909, -30.1483,-30.3829,-30.619,-30.8534, -31.2019,-31.4341,-31.6627,-31.892, -32.1239,-32.3548,-32.5811,-32.8067, -33.0289,-33.2473,-33.4694,-33.7997, -34.0199,-34.239,-34.4557,-34.6721, -34.9965,-35.3169,-35.5302,-35.7438, -36.1628,-36.3727,-36.583,-36.9953, -37.5107,-38.1192,-38.2209,-38.2367)
FOOTPRINT_POINT_LONGITUDE = (209.279,208.977,208.674,208.367, 208.058,207.747,207.313,207.293,207.264 ,207.27,207.279,207.291,207.302,207.307 ,207.311,207.316,207.322,207.325, 207.329,207.331,207.334,207.338,207.339 ,207.342,207.344,207.346,207.348, 207.349,207.35,207.35,207.35,207.35, 207.35,207.349,207.348,207.345,207.345, 207.344,207.342,207.341,207.339,207.338 ,207.337,207.334,207.33,207.324,207.318 ,207.316,207.315,207.621,207.949, 208.391,208.761,209.106,209.357,209.676 ,209.698,209.707,209.699,209.687,209.68 ,209.672,209.664,209.653,209.645, 209.637,209.625,209.613,209.605,209.597 ,209.589,209.581,209.569,209.56,209.552 ,209.544,209.536,209.527,209.519, 209.511,209.502,209.493,209.485,209.472 ,209.463,209.455,209.446,209.437, 209.424,209.411,209.402,209.392,209.374 ,209.365,209.356,209.337,209.314, 209.285,209.28,209.279)
ORBIT_NUMBER = 10656
ORBITAL_ECCENTRICITY = 0.577
ORBITAL_INCLINATION = 86.89
ORBITAL_SEMIMAJOR_AXIS = 8778.3
PERIAPSIS_ALTITUDE = 329.35
PERIAPSIS_ARGUMENT_ANGLE = 298.91
PERIAPSIS_TIME = 2012-05-13T17:10:26.000Z
SPACECRAFT_ORIENTATION = (0.0,1.0,0.0)
^MEX_ORIENTATION_DESC = "MEX_ORIENTATION_DESC.TXT"
SPACECRAFT_POINTING_MODE = ACROSSTRACK
^MEX_POINTING_DESC = "MEX_POINTING_DESC.TXT"
RIGHT_ASCENSION = -1e+32
DECLINATION = -1e+32
OFFSET_ANGLE = 0.8
SPACECRAFT_SOLAR_DISTANCE = 2.43652e+08
TARGET_NAME = MARS
/* CAMERA DATA ELEMENTS */
DETECTOR_TEMPERATURE = 17.5549
FOCAL_PLANE_TEMPERATURE = 8.5833
INST_CMPRS_NAME = "DISCRETE COSINE TRANSFORMATION (DCT)"
INST_CMPRS_RATIO = 5.97486
INST_CMPRS_QUALITY = 0
INST_CMPRS_QUANTZ_TBL_ID = 0
INSTRUMENT_TEMPERATURE = 11.4379
LENS_TEMPERATURE = 8.9911
MACROPIXEL_SIZE = 2
MISSING_FRAMES = 1
PIXEL_SUBSAMPLING_FLAG = N
SIGNAL_CHAIN_ID = 3
/* RADIOMETRIC DATA ELEMENTS */
BANDWIDTH = 174.0
CENTER_FILTER_WAVELENGTH = 675.0
RADIANCE_OFFSET = 0.590394
RADIANCE_SCALING_FACTOR = 0.0207272
REFLECTANCE_SCALING_FACTOR = 0.000661855
MEX:REFLECTANCE_OFFSET = 0.0188523
/* IMAGE OBJECT DEFINITIONS */
OBJECT = IMAGE
  INTERCHANGE_FORMAT = BINARY
  LINES = 26821
  LINE_SAMPLES = 4739
  SAMPLE_TYPE = UNSIGNED_INTEGER
  SAMPLE_BITS = 8
  BANDS = 1
  BAND_STORAGE_TYPE = BAND_SEQUENTIAL
  MAXIMUM = 255
  MEAN = 94.5417
  MINIMUM = 1
  STANDARD_DEVIATION = 32.5295
END_OBJECT = IMAGE
/* MAP OBJECT DEFINITIONS */
OBJECT = IMAGE_MAP_PROJECTION
  ^DATA_SET_MAP_PROJECTION_CATALOG= "DSMAP.CAT"
  A_AXIS_RADIUS = 3396.0
  B_AXIS_RADIUS = 3396.0
  C_AXIS_RADIUS = 3396.0
  CENTER_LATITUDE = 0.0
  CENTER_LONGITUDE = 208.0
  COORDINATE_SYSTEM_NAME = PLANETOGRAPHIC
  COORDINATE_SYSTEM_TYPE = "BODY-FIXED ROTATING"
  EASTERNMOST_LONGITUDE = 209.707
  FIRST_STANDARD_PARALLEL = "N/A"
  LINE_FIRST_PIXEL = 1
  LINE_LAST_PIXEL = 26821
  LINE_PROJECTION_OFFSET = -63978.25
  MAP_PROJECTION_ROTATION = 0.0
  MAP_PROJECTION_TYPE = SINUSOIDAL
  MAP_RESOLUTION = 2370.85521546667
  MAP_SCALE = 0.025
  MAXIMUM_LATITUDE = -26.9611
  MINIMUM_LATITUDE = -38.2547
  POSITIVE_LONGITUDE_DIRECTION = EAST
  REFERENCE_LATITUDE = "N/A"
  REFERENCE_LONGITUDE = "N/A"
  SAMPLE_FIRST_PIXEL = 1
  SAMPLE_LAST_PIXEL = 4739
  SAMPLE_PROJECTION_OFFSET = 1296.75
  SECOND_STANDARD_PARALLEL = "N/A"
  WESTERNMOST_LONGITUDE = 207.264
END_OBJECT = IMAGE_MAP_PROJECTION
END
