PDS_VERSION_ID = PDS3
/* FILE DATA ELEMENTS */
RECORD_TYPE = UNDEFINED
/* POINTERS TO DATA OBJECTS */
^IMAGE = ("HA656_0000_RE4.TIF")
/* IDENTIFICATION DATA ELEMENTS */
DATA_SET_ID = "MEX-M-HRSC-4-REFDR-MAPPROJECT-EXT3-V4.0"
DATA_SET_NAME = "MARS EXPRESS HRSC MAP PROJECTED REFDR EXTENSION3 V4.0"
DETECTOR_ID = MEX_HRSC_RED
EVENT_TYPE = "MARS-REGIONAL-MAPPING-Te-Im-Fl"
INSTRUMENT_HOST_ID = MEX
INSTRUMENT_HOST_NAME = "MARS EXPRESS"
INSTRUMENT_ID = HRSC
INSTRUMENT_NAME = "HIGH RESOLUTION STEREO CAMERA"
MISSION_NAME = "MARS EXPRESS"
MISSION_PHASE_NAME = ME_Phase_25
PROCESSING_LEVEL_ID = 4
PRODUCT_CREATION_TIME = 2023-02-05T03:55:10.000Z
PRODUCT_ID = "HA656_0000_RE4.TIF"
RELEASE_ID = 0009
REVISION_ID = 0000
/* QUALITY DATA ELEMENTS */
DATA_QUALITY_ID = 1
DATA_QUALITY_DESC = "Data calculated based on original SPICE kernels"
/* TIME DATA ELEMENTS */
SPACECRAFT_CLOCK_START_COUNT = "1/0285009334.09061"
SPACECRAFT_CLOCK_STOP_COUNT = "1/0285009627.34427"
START_TIME = 2012-05-13T17:15:44.416Z
STOP_TIME = 2012-05-13T17:18:40.464Z
/* ORBITAL DATA ELEMENTS */
ASCENDING_NODE_LONGITUDE = 13.93
MAXIMUM_RESOLUTION = 0.0688
FOOTPRINT_POINT_LATITUDE = (-38.3618,-38.3357,-38.3212,-38.3057, -38.2891,-38.2598,-38.2586,-38.2313, -37.9254,-37.5184,-37.1064,-36.7981, -36.3836,-36.1729,-35.649,-35.3305, -35.1151,-34.8999,-34.6849,-34.4705, -34.1431,-33.9241,-33.7048,-33.4859, -33.1515,-32.928,-32.5936,-32.3664, -32.0236,-31.795,-31.4508,-31.2184, -30.9843,-30.7516,-30.5163,-30.2767, -30.042,-29.8038,-29.5621,-29.3207, -29.0795,-28.836,-28.5928,-28.3491, -27.9747,-27.724,-27.4726,-27.0904, -26.9635,-26.9501,-26.9649,-26.98, -26.9902,-27.0008,-27.0136,-27.0253, -27.0265,-27.028,-27.283,-27.5391, -27.9144,-28.1643,-28.4131,-28.6595, -28.9059,-29.152,-29.3938,-29.6368, -29.9999,-30.238,-30.5925,-30.829, -31.0621,-31.4122,-31.6459,-31.8744, -32.0992,-32.3278,-32.6689,-32.893, -33.1196,-33.3501,-33.5726,-33.9008, -34.1195,-34.3395,-34.5582,-34.7729, -34.9879,-35.3093,-35.6304,-36.0512, -36.2619,-36.4725,-36.7853,-37.1968, -37.6088,-38.2167,-38.3175,-38.3618)
FOOTPRINT_POINT_LONGITUDE = (209.195,208.659,208.387,208.114, 207.838,207.384,207.367,207.339,207.345 ,207.356,207.368,207.376,207.387, 207.391,207.404,207.411,207.414,207.418 ,207.422,207.426,207.431,207.435, 207.438,207.441,207.446,207.449,207.453 ,207.455,207.458,207.459,207.461, 207.463,207.463,207.464,207.465,207.464 ,207.466,207.466,207.466,207.466, 207.466,207.466,207.467,207.468,207.465 ,207.463,207.46,207.457,207.456,207.456 ,207.814,208.152,208.427,208.721,209.11 ,209.535,209.554,209.561,209.555, 209.549,209.54,209.534,209.527,209.521, 209.515,209.509,209.502,209.496,209.486 ,209.479,209.47,209.463,209.456,209.446 ,209.439,209.432,209.425,209.418, 209.407,209.4,209.393,209.385,209.378, 209.366,209.359,209.351,209.344,209.336 ,209.328,209.316,209.304,209.288,209.28 ,209.272,209.259,209.242,209.225, 209.199,209.194,209.195)
ORBIT_NUMBER = 10656
ORBITAL_ECCENTRICITY = 0.577
ORBITAL_INCLINATION = 86.89
ORBITAL_SEMIMAJOR_AXIS = 8778.3
PERIAPSIS_ALTITUDE = 329.35
PERIAPSIS_ARGUMENT_ANGLE = 298.91
PERIAPSIS_TIME = 2012-05-13T17:10:26.000Z
SPACECRAFT_ORIENTATION = (0.0,1.0,0.0)
^MEX_ORIENTATION_DESC = "MEX_ORIENTATION_DESC.TXT"
SPACECRAFT_POINTING_MODE = ACROSSTRACK
^MEX_POINTING_DESC = "MEX_POINTING_DESC.TXT"
RIGHT_ASCENSION = -1e+32
DECLINATION = -1e+32
OFFSET_ANGLE = 0.8
SPACECRAFT_SOLAR_DISTANCE = 2.43652e+08
TARGET_NAME = MARS
/* CAMERA DATA ELEMENTS */
DETECTOR_TEMPERATURE = 18.7783
FOCAL_PLANE_TEMPERATURE = 8.5833
INST_CMPRS_NAME = "DISCRETE COSINE TRANSFORMATION (DCT)"
INST_CMPRS_RATIO = 6.40458
INST_CMPRS_QUALITY = 0
INST_CMPRS_QUANTZ_TBL_ID = 0
INSTRUMENT_TEMPERATURE = 11.4379
LENS_TEMPERATURE = 8.9911
MACROPIXEL_SIZE = 4
MISSING_FRAMES = 0
PIXEL_SUBSAMPLING_FLAG = N
SIGNAL_CHAIN_ID = 2
/* RADIOMETRIC DATA ELEMENTS */
BANDWIDTH = 48.0
CENTER_FILTER_WAVELENGTH = 748.0
RADIANCE_OFFSET = 0.130906
RADIANCE_SCALING_FACTOR = 0.00583027
REFLECTANCE_SCALING_FACTOR = 0.000789862
MEX:REFLECTANCE_OFFSET = 0.0177346
/* IMAGE OBJECT DEFINITIONS */
OBJECT = IMAGE
  INTERCHANGE_FORMAT = BINARY
  LINES = 13411
  LINE_SAMPLES = 2370
  SAMPLE_TYPE = UNSIGNED_INTEGER
  SAMPLE_BITS = 8
  BANDS = 1
  BAND_STORAGE_TYPE = BAND_SEQUENTIAL
  MAXIMUM = 255
  MEAN = 90.6305
  MINIMUM = 1
  STANDARD_DEVIATION = 30.2548
END_OBJECT = IMAGE
/* MAP OBJECT DEFINITIONS */
OBJECT = IMAGE_MAP_PROJECTION
  ^DATA_SET_MAP_PROJECTION_CATALOG= "DSMAP.CAT"
  A_AXIS_RADIUS = 3396.0
  B_AXIS_RADIUS = 3396.0
  C_AXIS_RADIUS = 3396.0
  CENTER_LATITUDE = 0.0
  CENTER_LONGITUDE = 208.0
  COORDINATE_SYSTEM_NAME = PLANETOGRAPHIC
  COORDINATE_SYSTEM_TYPE = "BODY-FIXED ROTATING"
  EASTERNMOST_LONGITUDE = 209.561
  FIRST_STANDARD_PARALLEL = "N/A"
  LINE_FIRST_PIXEL = 1
  LINE_LAST_PIXEL = 13411
  LINE_PROJECTION_OFFSET = -31989.375
  MAP_PROJECTION_ROTATION = 0.0
  MAP_PROJECTION_TYPE = SINUSOIDAL
  MAP_RESOLUTION = 1185.42760773333
  MAP_SCALE = 0.05
  MAXIMUM_LATITUDE = -26.9501
  MINIMUM_LATITUDE = -38.3618
  POSITIVE_LONGITUDE_DIRECTION = EAST
  REFERENCE_LATITUDE = "N/A"
  REFERENCE_LONGITUDE = "N/A"
  SAMPLE_FIRST_PIXEL = 1
  SAMPLE_LAST_PIXEL = 2370
  SAMPLE_PROJECTION_OFFSET = 648.125
  SECOND_STANDARD_PARALLEL = "N/A"
  WESTERNMOST_LONGITUDE = 207.339
END_OBJECT = IMAGE_MAP_PROJECTION
END
