PDS_VERSION_ID = PDS3
/* FILE DATA ELEMENTS */
RECORD_TYPE = UNDEFINED
/* POINTERS TO DATA OBJECTS */
^IMAGE = ("HA758_0000_P14.TIF")
/* IDENTIFICATION DATA ELEMENTS */
DATA_SET_ID = "MEX-M-HRSC-4-REFDR-MAPPROJECT-EXT3-V4.0"
DATA_SET_NAME = "MARS EXPRESS HRSC MAP PROJECTED REFDR EXTENSION3 V4.0"
DETECTOR_ID = MEX_HRSC_P1
EVENT_TYPE = "MARS-REGIONAL-MAPPING-Te-Lc-Pf"
INSTRUMENT_HOST_ID = MEX
INSTRUMENT_HOST_NAME = "MARS EXPRESS"
INSTRUMENT_ID = HRSC
INSTRUMENT_NAME = "HIGH RESOLUTION STEREO CAMERA"
MISSION_NAME = "MARS EXPRESS"
MISSION_PHASE_NAME = ME_Phase_26
PROCESSING_LEVEL_ID = 4
PRODUCT_CREATION_TIME = 2023-02-05T03:55:10.000Z
PRODUCT_ID = "HA758_0000_P14.TIF"
RELEASE_ID = 0009
REVISION_ID = 0000
/* QUALITY DATA ELEMENTS */
DATA_QUALITY_ID = 1
DATA_QUALITY_DESC = "Data calculated based on original SPICE kernels"
/* TIME DATA ELEMENTS */
SPACECRAFT_CLOCK_START_COUNT = "1/0287576340.08260"
SPACECRAFT_CLOCK_STOP_COUNT = "1/0287576735.08190"
START_TIME = 2012-06-12T10:20:19.722Z
STOP_TIME = 2012-06-12T10:25:02.787Z
/* ORBITAL DATA ELEMENTS */
ASCENDING_NODE_LONGITUDE = 12.03
MAXIMUM_RESOLUTION = 0.0816
FOOTPRINT_POINT_LATITUDE = (-51.3352,-51.3258,-51.3113,-51.2843, -51.2835,-51.3196,-50.8061,-50.0236, -49.4947,-48.9621,-48.5578,-48.2878, -48.0141,-47.6028,-47.3254,-47.0486, -46.7684,-46.4876,-46.2046,-45.9212, -45.6358,-45.349,-45.0597,-44.7691, -44.4748,-44.1807,-43.883,-43.4343, -42.9812,-42.6766,-42.3694,-42.0582, -41.5902,-41.1195,-40.8045,-40.486, -40.1648,-39.8426,-39.3591,-39.0274, -38.5283,-38.03,-37.6939,-37.3629, -37.0328,-36.7039,-36.5396,-36.4369, -36.437,-36.4347,-36.4311,-36.4264, -36.4212,-36.4136,-36.4085,-36.408, -36.4092,-36.7391,-37.0701,-37.4029, -37.738,-38.0738,-38.4111,-38.7465, -39.0793,-39.4085,-39.8987,-40.3845, -40.7084,-41.1836,-41.4999,-41.9697, -42.4355,-42.8964,-43.2022,-43.5056, -43.9565,-44.2561,-44.5508,-44.9922, -45.2852,-45.574,-45.8633,-46.1486, -46.4347,-46.7163,-46.9988,-47.277, -47.6945,-48.109,-48.383,-48.7847, -49.0553,-49.3229,-49.5939,-49.9933, -50.389,-51.1664,-51.2945,-51.3352)
FOOTPRINT_POINT_LONGITUDE = (219.99,219.179,218.348,217.227,217.2, 217.11,217.171,217.259,217.318,217.369, 217.406,217.43,217.454,217.49,217.512, 217.533,217.554,217.574,217.594,217.612 ,217.629,217.646,217.662,217.679, 217.696,217.712,217.728,217.75,217.771, 217.785,217.798,217.815,217.835,217.85, 217.856,217.865,217.874,217.881,217.884 ,217.894,217.905,217.907,217.915, 217.918,217.921,217.923,217.925,217.926 ,218.531,219.068,219.57,220.005,220.345 ,220.835,221.231,221.261,221.271, 221.252,221.232,221.211,221.191,221.17, 221.148,221.126,221.105,221.083,221.049 ,221.015,220.992,220.958,220.935,220.9, 220.864,220.827,220.803,220.778,220.741 ,220.715,220.69,220.651,220.625,220.599 ,220.572,220.545,220.518,220.491, 220.463,220.436,220.393,220.35,220.321, 220.278,220.248,220.219,220.187,220.14, 220.093,219.998,219.982,219.99)
ORBIT_NUMBER = 10758
ORBITAL_ECCENTRICITY = 0.577
ORBITAL_INCLINATION = 86.89
ORBITAL_SEMIMAJOR_AXIS = 8760.29
PERIAPSIS_ALTITUDE = 327.85
PERIAPSIS_ARGUMENT_ANGLE = 281.64
PERIAPSIS_TIME = 2012-06-12T10:12:51.000Z
SPACECRAFT_ORIENTATION = (0.0,1.0,0.0)
^MEX_ORIENTATION_DESC = "MEX_ORIENTATION_DESC.TXT"
SPACECRAFT_POINTING_MODE = ACROSSTRACK
^MEX_POINTING_DESC = "MEX_POINTING_DESC.TXT"
RIGHT_ASCENSION = -1e+32
DECLINATION = -1e+32
OFFSET_ANGLE = 1.3
SPACECRAFT_SOLAR_DISTANCE = 2.39497e+08
TARGET_NAME = MARS
/* CAMERA DATA ELEMENTS */
DETECTOR_TEMPERATURE = 17.9627
FOCAL_PLANE_TEMPERATURE = 8.7872
INST_CMPRS_NAME = "DISCRETE COSINE TRANSFORMATION (DCT)"
INST_CMPRS_RATIO = 6.64835
INST_CMPRS_QUALITY = 0
INST_CMPRS_QUANTZ_TBL_ID = 0
INSTRUMENT_TEMPERATURE = 12.0496
LENS_TEMPERATURE = 8.7872
MACROPIXEL_SIZE = 4
MISSING_FRAMES = 0
PIXEL_SUBSAMPLING_FLAG = N
SIGNAL_CHAIN_ID = 3
/* RADIOMETRIC DATA ELEMENTS */
BANDWIDTH = 174.0
CENTER_FILTER_WAVELENGTH = 675.0
RADIANCE_OFFSET = 0.560567
RADIANCE_SCALING_FACTOR = 0.0192851
REFLECTANCE_SCALING_FACTOR = 0.000594983
MEX:REFLECTANCE_OFFSET = 0.0172946
/* IMAGE OBJECT DEFINITIONS */
OBJECT = IMAGE
  INTERCHANGE_FORMAT = BINARY
  LINES = 8900
  LINE_SAMPLES = 1694
  SAMPLE_TYPE = UNSIGNED_INTEGER
  SAMPLE_BITS = 8
  BANDS = 1
  BAND_STORAGE_TYPE = BAND_SEQUENTIAL
  MAXIMUM = 255
  MEAN = 112.659
  MINIMUM = 1
  STANDARD_DEVIATION = 26.4378
END_OBJECT = IMAGE
/* MAP OBJECT DEFINITIONS */
OBJECT = IMAGE_MAP_PROJECTION
  ^DATA_SET_MAP_PROJECTION_CATALOG= "DSMAP.CAT"
  A_AXIS_RADIUS = 3396.0
  B_AXIS_RADIUS = 3396.0
  C_AXIS_RADIUS = 3396.0
  CENTER_LATITUDE = 0.0
  CENTER_LONGITUDE = 219.0
  COORDINATE_SYSTEM_NAME = PLANETOGRAPHIC
  COORDINATE_SYSTEM_TYPE = "BODY-FIXED ROTATING"
  EASTERNMOST_LONGITUDE = 221.271
  FIRST_STANDARD_PARALLEL = "N/A"
  LINE_FIRST_PIXEL = 1
  LINE_LAST_PIXEL = 8900
  LINE_PROJECTION_OFFSET = -21580.125
  MAP_PROJECTION_ROTATION = 0.0
  MAP_PROJECTION_TYPE = SINUSOIDAL
  MAP_RESOLUTION = 592.713803866667
  MAP_SCALE = 0.1
  MAXIMUM_LATITUDE = -36.408
  MINIMUM_LATITUDE = -51.3352
  POSITIVE_LONGITUDE_DIRECTION = EAST
  REFERENCE_LATITUDE = "N/A"
  REFERENCE_LONGITUDE = "N/A"
  SAMPLE_FIRST_PIXEL = 1
  SAMPLE_LAST_PIXEL = 1694
  SAMPLE_PROJECTION_OFFSET = 677.125
  SECOND_STANDARD_PARALLEL = "N/A"
  WESTERNMOST_LONGITUDE = 217.11
END_OBJECT = IMAGE_MAP_PROJECTION
END
