PDS_VERSION_ID = PDS3
/* FILE DATA ELEMENTS */
RECORD_TYPE = UNDEFINED
/* POINTERS TO DATA OBJECTS */
^IMAGE = ("HB451_0000_RE4.TIF")
/* IDENTIFICATION DATA ELEMENTS */
DATA_SET_ID = "MEX-M-HRSC-4-REFDR-MAPPROJECT-EXT3-V4.0"
DATA_SET_NAME = "MARS EXPRESS HRSC MAP PROJECTED REFDR EXTENSION3 V4.0"
DETECTOR_ID = MEX_HRSC_RED
EVENT_TYPE = "MARS-REGIONAL-MAPPING-Im-Fl-Lc"
INSTRUMENT_HOST_ID = MEX
INSTRUMENT_HOST_NAME = "MARS EXPRESS"
INSTRUMENT_ID = HRSC
INSTRUMENT_NAME = "HIGH RESOLUTION STEREO CAMERA"
MISSION_NAME = "MARS EXPRESS"
MISSION_PHASE_NAME = ME_Phase_27
PROCESSING_LEVEL_ID = 4
PRODUCT_CREATION_TIME = 2023-02-05T12:42:46.000Z
PRODUCT_ID = "HB451_0000_RE4.TIF"
RELEASE_ID = 0010
REVISION_ID = 0000
/* QUALITY DATA ELEMENTS */
DATA_QUALITY_ID = 1
DATA_QUALITY_DESC = "Data calculated based on original SPICE kernels"
/* TIME DATA ELEMENTS */
SPACECRAFT_CLOCK_START_COUNT = "1/0305014314.09059"
SPACECRAFT_CLOCK_STOP_COUNT = "1/0305014780.58701"
START_TIME = 2012-12-31T06:13:20.278Z
STOP_TIME = 2012-12-31T06:19:22.835Z
/* ORBITAL DATA ELEMENTS */
ASCENDING_NODE_LONGITUDE = 358.96
MAXIMUM_RESOLUTION = 0.0838
FOOTPRINT_POINT_LATITUDE = (-7.13443,-7.13048,-7.12655,-7.11519, -7.1149,-7.12229,-7.58701,-8.21542, -8.6894,-9.32849,-9.9758,-10.4706, -10.8003,-11.2963,-11.8046,-12.1451, -12.6482,-12.9926,-13.5135,-14.0397, -14.5722,-15.1093,-15.47,-15.8359, -16.2032,-16.5742,-16.9534,-17.5167, -17.8982,-18.4689,-18.8525,-19.243, -19.6368,-20.0339,-20.6412,-21.047, -21.4547,-21.8662,-22.2835,-22.7037, -23.126,-23.5543,-23.9844,-24.4185, -24.8545,-25.2948,-25.5174,-25.579, -25.5921,-25.5987,-25.5982,-25.6051, -25.6025,-25.5928,-25.5924,-25.5906, -24.9295,-24.4837,-24.0497,-23.6278, -23.2015,-22.7769,-22.3584,-21.9427, -21.5325,-21.1229,-20.7165,-20.315, -19.9163,-19.5198,-19.1274,-18.7375, -18.3507,-17.966,-17.5865,-17.2097, -16.8355,-16.4648,-16.0969,-15.7314, -15.1853,-14.8252,-14.469,-14.1149, -13.5869,-13.2379,-12.8924,-12.3775, -12.0363,-11.6981,-11.3612,-11.0286, -10.6965,-10.368,-9.7137,-8.91063, -8.27781,-7.32803,-7.16934,-7.13443)
FOOTPRINT_POINT_LONGITUDE = (132.85,132.24,131.861,131.102,131.086, 131.084,131.067,131.045,131.028,131.003 ,130.978,130.959,130.946,130.924, 130.905,130.891,130.866,130.85,130.827, 130.802,130.778,130.751,130.734,130.716 ,130.697,130.679,130.662,130.631, 130.612,130.578,130.555,130.533,130.51, 130.487,130.453,130.429,130.403,130.377 ,130.351,130.324,130.296,130.268, 130.239,130.209,130.177,130.145,130.129 ,130.124,130.732,131.188,131.826, 132.221,132.86,133.349,133.38,133.39, 133.354,133.336,133.314,133.291,133.271 ,133.253,133.234,133.217,133.199, 133.183,133.168,133.152,133.138,133.124 ,133.11,133.097,133.085,133.073,133.061 ,133.05,133.039,133.028,133.017,133.007 ,132.994,132.985,132.976,132.968, 132.956,132.948,132.941,132.931,132.924 ,132.918,132.912,132.906,132.9,132.894, 132.884,132.871,132.862,132.854,132.853 ,132.85)
ORBIT_NUMBER = 11451
ORBITAL_ECCENTRICITY = 0.576
ORBITAL_INCLINATION = 86.87
ORBITAL_SEMIMAJOR_AXIS = 8847.49
PERIAPSIS_ALTITUDE = 354.0
PERIAPSIS_ARGUMENT_ANGLE = 163.23
PERIAPSIS_TIME = 2012-12-31T06:06:23.000Z
SPACECRAFT_ORIENTATION = (0.0,-1.0,0.0)
^MEX_ORIENTATION_DESC = "MEX_ORIENTATION_DESC.TXT"
SPACECRAFT_POINTING_MODE = NADIR
^MEX_POINTING_DESC = "MEX_POINTING_DESC.TXT"
RIGHT_ASCENSION = -1e+32
DECLINATION = -1e+32
OFFSET_ANGLE = -1e+32
SPACECRAFT_SOLAR_DISTANCE = 2.07293e+08
TARGET_NAME = MARS
/* CAMERA DATA ELEMENTS */
DETECTOR_TEMPERATURE = 18.7783
FOCAL_PLANE_TEMPERATURE = 8.1755
INST_CMPRS_NAME = "DISCRETE COSINE TRANSFORMATION (DCT)"
INST_CMPRS_RATIO = 29.302
INST_CMPRS_QUALITY = 0
INST_CMPRS_QUANTZ_TBL_ID = 0
INSTRUMENT_TEMPERATURE = 11.4379
LENS_TEMPERATURE = 8.7872
MACROPIXEL_SIZE = 4
MISSING_FRAMES = 0
PIXEL_SUBSAMPLING_FLAG = N
SIGNAL_CHAIN_ID = 2
/* RADIOMETRIC DATA ELEMENTS */
BANDWIDTH = 48.0
CENTER_FILTER_WAVELENGTH = 748.0
RADIANCE_OFFSET = 0.42936
RADIANCE_SCALING_FACTOR = 0.00225624
REFLECTANCE_SCALING_FACTOR = 0.00022125
MEX:REFLECTANCE_OFFSET = 0.0421035
/* IMAGE OBJECT DEFINITIONS */
OBJECT = IMAGE
  INTERCHANGE_FORMAT = BINARY
  LINES = 10952
  LINE_SAMPLES = 1555
  SAMPLE_TYPE = UNSIGNED_INTEGER
  SAMPLE_BITS = 8
  BANDS = 1
  BAND_STORAGE_TYPE = BAND_SEQUENTIAL
  MAXIMUM = 255
  MEAN = 106.322
  MINIMUM = 1
  STANDARD_DEVIATION = 38.7999
END_OBJECT = IMAGE
/* MAP OBJECT DEFINITIONS */
OBJECT = IMAGE_MAP_PROJECTION
  ^DATA_SET_MAP_PROJECTION_CATALOG= "DSMAP.CAT"
  A_AXIS_RADIUS = 3396.0
  B_AXIS_RADIUS = 3396.0
  C_AXIS_RADIUS = 3396.0
  CENTER_LATITUDE = 0.0
  CENTER_LONGITUDE = 132.0
  COORDINATE_SYSTEM_NAME = PLANETOGRAPHIC
  COORDINATE_SYSTEM_TYPE = "BODY-FIXED ROTATING"
  EASTERNMOST_LONGITUDE = 133.39
  FIRST_STANDARD_PARALLEL = "N/A"
  LINE_FIRST_PIXEL = 1
  LINE_LAST_PIXEL = 10952
  LINE_PROJECTION_OFFSET = -4223.875
  MAP_PROJECTION_ROTATION = 0.0
  MAP_PROJECTION_TYPE = SINUSOIDAL
  MAP_RESOLUTION = 592.713803866667
  MAP_SCALE = 0.1
  MAXIMUM_LATITUDE = -7.1149
  MINIMUM_LATITUDE = -25.6051
  POSITIVE_LONGITUDE_DIRECTION = EAST
  REFERENCE_LATITUDE = "N/A"
  REFERENCE_LONGITUDE = "N/A"
  SAMPLE_FIRST_PIXEL = 1
  SAMPLE_LAST_PIXEL = 1555
  SAMPLE_PROJECTION_OFFSET = 904.375
  SECOND_STANDARD_PARALLEL = "N/A"
  WESTERNMOST_LONGITUDE = 130.124
END_OBJECT = IMAGE_MAP_PROJECTION
END
