PDS_VERSION_ID = PDS3
/* FILE DATA ELEMENTS */
RECORD_TYPE = UNDEFINED
/* POINTERS TO DATA OBJECTS */
^IMAGE = ("HC609_0000_IR4.TIF")
/* IDENTIFICATION DATA ELEMENTS */
DATA_SET_ID = "MEX-M-HRSC-4-REFDR-MAPPROJECT-EXT4-V4.0"
DATA_SET_NAME = "MARS EXPRESS HRSC MAP PROJECTED REFDR EXTENSION4 V4.0"
DETECTOR_ID = MEX_HRSC_IR
EVENT_TYPE = "MARS-REGIONAL-MAPPING-Im-Fl-La"
INSTRUMENT_HOST_ID = MEX
INSTRUMENT_HOST_NAME = "MARS EXPRESS"
INSTRUMENT_ID = HRSC
INSTRUMENT_NAME = "HIGH RESOLUTION STEREO CAMERA"
MISSION_NAME = "MARS EXPRESS"
MISSION_PHASE_NAME = ME_Phase_29
PROCESSING_LEVEL_ID = 4
PRODUCT_CREATION_TIME = 2023-01-31T11:51:40.000Z
PRODUCT_ID = "HC609_0000_IR4.TIF"
RELEASE_ID = 0003
REVISION_ID = 0000
/* QUALITY DATA ELEMENTS */
DATA_QUALITY_ID = 1
DATA_QUALITY_DESC = "Data calculated based on original SPICE kernels"
/* TIME DATA ELEMENTS */
SPACECRAFT_CLOCK_START_COUNT = "1/0334146361.07296"
SPACECRAFT_CLOCK_STOP_COUNT = "1/0334146525.37889"
START_TIME = 2013-12-03T10:27:00.917Z
STOP_TIME = 2013-12-03T10:28:42.279Z
/* ORBITAL DATA ELEMENTS */
ASCENDING_NODE_LONGITUDE = 337.04
MAXIMUM_RESOLUTION = 0.0575
FOOTPRINT_POINT_LATITUDE = (-31.342,-31.3432,-31.3443,-31.3452, -31.3459,-31.3465,-31.347,-31.347, -31.3882,-31.2589,-31.129,-30.9339, -30.7402,-30.6097,-30.4147,-30.2863, -30.1573,-29.9639,-29.7689,-29.6399, -29.5114,-29.3832,-29.1897,-29.0607, -28.9322,-28.8025,-28.5487,-28.4208, -28.2928,-28.1645,-28.037,-27.846, -27.7177,-27.5256,-27.3975,-27.2702, -27.0805,-26.9536,-26.574,-26.3199, -26.0686,-25.8152,-25.6839,-25.4901, -25.0539,-24.9927,-24.9432,-24.9423, -24.9396,-24.9371,-24.9347,-24.9307, -24.9267,-24.9255,-24.9266,-24.9274, -25.1183,-25.2451,-25.4348,-25.6262, -25.8158,-26.0689,-26.3221,-26.4495, -26.639,-26.8296,-26.9565,-27.1471, -27.2741,-27.4015,-27.5285,-27.6563, -27.7837,-27.9116,-28.1033,-28.231, -28.359,-28.4867,-28.6156,-28.7439, -28.8714,-29.0619,-29.1894,-29.3183, -29.4488,-29.5784,-29.7108,-29.9081, -30.0366,-30.1653,-30.2944,-30.4232, -30.5522,-30.6809,-30.8127,-30.9438, -31.0773,-31.2737,-31.3369,-31.342)
FOOTPRINT_POINT_LONGITUDE = (55.6146,55.4114,55.2075,55.0027, 54.7973,54.5911,54.2539,54.2409,54.209, 54.2115,54.2144,54.2189,54.2224,54.2257 ,54.2301,54.2319,54.2341,54.2374, 54.2417,54.2439,54.2457,54.2474,54.2506 ,54.2528,54.2546,54.2573,54.2588, 54.2602,54.2618,54.2634,54.2647,54.2663 ,54.268,54.2703,54.2718,54.2729,54.2737 ,54.2745,54.2764,54.2783,54.2784, 54.2799,54.2836,54.287,54.2853,54.2844, 54.2835,54.4957,54.7487,54.9211,55.0665 ,55.2511,55.5,55.6829,55.6962,55.7006, 55.6989,55.6977,55.6956,55.6939,55.6918 ,55.6889,55.686,55.6846,55.6822,55.68, 55.6784,55.6761,55.6745,55.673,55.6714, 55.6699,55.6683,55.6668,55.6644,55.6628 ,55.6612,55.6595,55.6581,55.6565, 55.6547,55.6518,55.65,55.6484,55.6472, 55.6457,55.6447,55.643,55.6412,55.6395, 55.6377,55.6359,55.6341,55.6323,55.631, 55.6296,55.6286,55.6263,55.6251, 55.6146)
ORBIT_NUMBER = 12609
ORBITAL_ECCENTRICITY = 0.578
ORBITAL_INCLINATION = 86.9
ORBITAL_SEMIMAJOR_AXIS = 8820.12
PERIAPSIS_ALTITUDE = 332.71
PERIAPSIS_ARGUMENT_ANGLE = 323.27
PERIAPSIS_TIME = 2013-12-03T10:25:15.000Z
SPACECRAFT_ORIENTATION = (0.0,1.0,0.0)
^MEX_ORIENTATION_DESC = "MEX_ORIENTATION_DESC.TXT"
SPACECRAFT_POINTING_MODE = ACROSSTRACK
^MEX_POINTING_DESC = "MEX_POINTING_DESC.TXT"
RIGHT_ASCENSION = -1e+32
DECLINATION = -1e+32
OFFSET_ANGLE = 0.3
SPACECRAFT_SOLAR_DISTANCE = 2.48545e+08
TARGET_NAME = MARS
/* CAMERA DATA ELEMENTS */
DETECTOR_TEMPERATURE = 18.3705
FOCAL_PLANE_TEMPERATURE = 9.8067
INST_CMPRS_NAME = "DISCRETE COSINE TRANSFORMATION (DCT)"
INST_CMPRS_RATIO = 7.02761
INST_CMPRS_QUALITY = 0
INST_CMPRS_QUANTZ_TBL_ID = 0
INSTRUMENT_TEMPERATURE = 12.4574
LENS_TEMPERATURE = 10.4184
MACROPIXEL_SIZE = 4
MISSING_FRAMES = 0
PIXEL_SUBSAMPLING_FLAG = N
SIGNAL_CHAIN_ID = 2
/* RADIOMETRIC DATA ELEMENTS */
BANDWIDTH = 81.0
CENTER_FILTER_WAVELENGTH = 955.5
RADIANCE_OFFSET = 0.15821
RADIANCE_SCALING_FACTOR = 0.0026196
REFLECTANCE_SCALING_FACTOR = 0.00034912
MEX:REFLECTANCE_OFFSET = 0.021085
/* IMAGE OBJECT DEFINITIONS */
OBJECT = IMAGE
  INTERCHANGE_FORMAT = BINARY
  LINES = 7635
  LINE_SAMPLES = 1526
  SAMPLE_TYPE = UNSIGNED_INTEGER
  SAMPLE_BITS = 8
  BANDS = 1
  BAND_STORAGE_TYPE = BAND_SEQUENTIAL
  MAXIMUM = 255
  MEAN = 94.342
  MINIMUM = 1
  STANDARD_DEVIATION = 26.1811
END_OBJECT = IMAGE
/* MAP OBJECT DEFINITIONS */
OBJECT = IMAGE_MAP_PROJECTION
  ^DATA_SET_MAP_PROJECTION_CATALOG= "DSMAP.CAT"
  A_AXIS_RADIUS = 3396.0
  B_AXIS_RADIUS = 3396.0
  C_AXIS_RADIUS = 3396.0
  CENTER_LATITUDE = 0.0
  CENTER_LONGITUDE = 55.0
  COORDINATE_SYSTEM_NAME = PLANETOGRAPHIC
  COORDINATE_SYSTEM_TYPE = "BODY-FIXED ROTATING"
  EASTERNMOST_LONGITUDE = 55.7006
  FIRST_STANDARD_PARALLEL = "N/A"
  LINE_FIRST_PIXEL = 1
  LINE_LAST_PIXEL = 7635
  LINE_PROJECTION_OFFSET = -29559.625
  MAP_PROJECTION_ROTATION = 0.0
  MAP_PROJECTION_TYPE = SINUSOIDAL
  MAP_RESOLUTION = 1185.42760773333
  MAP_SCALE = 0.05
  MAXIMUM_LATITUDE = -24.9255
  MINIMUM_LATITUDE = -31.3882
  POSITIVE_LONGITUDE_DIRECTION = EAST
  REFERENCE_LATITUDE = "N/A"
  REFERENCE_LONGITUDE = "N/A"
  SAMPLE_FIRST_PIXEL = 1
  SAMPLE_LAST_PIXEL = 1526
  SAMPLE_PROJECTION_OFFSET = 794.625
  SECOND_STANDARD_PARALLEL = "N/A"
  WESTERNMOST_LONGITUDE = 54.209
END_OBJECT = IMAGE_MAP_PROJECTION
END
