PDS_VERSION_ID = PDS3
/* FILE DATA ELEMENTS */
RECORD_TYPE = UNDEFINED
/* POINTERS TO DATA OBJECTS */
^IMAGE = ("HC954_0000_IR4.TIF")
/* IDENTIFICATION DATA ELEMENTS */
DATA_SET_ID = "MEX-M-HRSC-4-REFDR-MAPPROJECT-EXT4-V4.0"
DATA_SET_NAME = "MARS EXPRESS HRSC MAP PROJECTED REFDR EXTENSION4 V4.0"
DETECTOR_ID = MEX_HRSC_IR
EVENT_TYPE = "MARS-REGIONAL-MAPPING-Gl-Pf-At"
INSTRUMENT_HOST_ID = MEX
INSTRUMENT_HOST_NAME = "MARS EXPRESS"
INSTRUMENT_ID = HRSC
INSTRUMENT_NAME = "HIGH RESOLUTION STEREO CAMERA"
MISSION_NAME = "MARS EXPRESS"
MISSION_PHASE_NAME = ME_Phase_30
PROCESSING_LEVEL_ID = 4
PRODUCT_CREATION_TIME = 2023-01-31T11:51:40.000Z
PRODUCT_ID = "HC954_0000_IR4.TIF"
RELEASE_ID = 0003
REVISION_ID = 0000
/* QUALITY DATA ELEMENTS */
DATA_QUALITY_ID = 1
DATA_QUALITY_DESC = "Data calculated based on original SPICE kernels"
/* TIME DATA ELEMENTS */
SPACECRAFT_CLOCK_START_COUNT = "1/0342825497.07344"
SPACECRAFT_CLOCK_STOP_COUNT = "1/0342825987.04064"
START_TIME = 2014-03-13T21:20:36.236Z
STOP_TIME = 2014-03-13T21:25:56.510Z
/* ORBITAL DATA ELEMENTS */
ASCENDING_NODE_LONGITUDE = 330.6
MAXIMUM_RESOLUTION = 0.1274
FOOTPRINT_POINT_LATITUDE = (-54.2566,-54.2514,-54.242,-54.2297, -54.2147,-54.1969,-54.1762,-54.1558, -54.1542,-54.2379,-53.7682,-53.4138, -53.0562,-52.5753,-52.0889,-51.5962, -51.0989,-50.4687,-49.9595,-49.4433, -48.922,-48.395,-48.1306,-47.8636, -47.5942,-47.324,-46.9161,-46.6442, -46.2291,-45.9523,-45.6698,-45.3906, -44.9733,-44.6924,-44.4057,-44.121, -43.8336,-43.3948,-43.1014,-42.8084, -42.5145,-42.2165,-41.7669,-41.4669, -41.0121,-40.8588,-40.784,-40.7863, -40.788,-40.7874,-40.7859,-40.7839, -40.7762,-40.7743,-40.7673,-40.7621, -40.7544,-40.7405,-40.7392,-40.7407, -41.0515,-41.359,-41.8169,-42.1216, -42.4233,-42.7249,-43.0196,-43.3173, -43.6121,-44.0518,-44.3429,-44.632, -44.9199,-45.2052,-45.4896,-45.7722, -46.0534,-46.3335,-46.611,-47.0272, -47.3017,-47.5736,-47.8464,-48.1155, -48.3841,-48.6517,-48.9172,-49.4446, -49.965,-50.4808,-50.8648,-51.3704, -51.8686,-52.3596,-52.723,-53.2127, -53.6948,-54.1642,-54.2811,-54.2566)
FOOTPRINT_POINT_LONGITUDE = (79.9118,79.4136,78.7496,78.0846, 77.4191,76.7531,76.0855,75.4999,75.458, 75.3684,75.4047,75.4298,75.4543,75.4854 ,75.5145,75.5427,75.5686,75.599,75.6201 ,75.6404,75.6585,75.6746,75.6808, 75.6874,75.6943,75.7,75.7074,75.7105, 75.7173,75.7197,75.7246,75.7255,75.7228 ,75.7211,75.7215,75.7189,75.7166, 75.7152,75.7126,75.7083,75.7028,75.6983 ,75.6901,75.6828,75.6717,75.6683, 75.6664,76.1704,76.5252,76.981,77.5868, 77.9902,78.4942,78.8969,79.5009,79.8529 ,80.3558,81.0096,81.0598,81.0764, 81.0576,81.0382,81.0087,80.9896,80.9701 ,80.9512,80.9296,80.9104,80.8905, 80.8606,80.8407,80.8204,80.8001,80.7793 ,80.7587,80.738,80.7173,80.6964,80.675, 80.644,80.6226,80.6006,80.5796,80.5575, 80.5357,80.5139,80.4916,80.4467,80.4003 ,80.3541,80.319,80.2711,80.221,80.1694, 80.1294,80.0798,80.0277,79.9715,79.9574 ,79.9118)
ORBIT_NUMBER = 12954
ORBITAL_ECCENTRICITY = 0.577
ORBITAL_INCLINATION = 86.9
ORBITAL_SEMIMAJOR_AXIS = 8754.51
PERIAPSIS_ALTITUDE = 327.2
PERIAPSIS_ARGUMENT_ANGLE = 264.78
PERIAPSIS_TIME = 2014-03-13T21:08:31.000Z
SPACECRAFT_ORIENTATION = (0.0,1.0,0.0)
^MEX_ORIENTATION_DESC = "MEX_ORIENTATION_DESC.TXT"
SPACECRAFT_POINTING_MODE = ACROSSTRACK
^MEX_POINTING_DESC = "MEX_POINTING_DESC.TXT"
RIGHT_ASCENSION = -1e+32
DECLINATION = -1e+32
OFFSET_ANGLE = 0.269
SPACECRAFT_SOLAR_DISTANCE = 2.45668e+08
TARGET_NAME = MARS
/* CAMERA DATA ELEMENTS */
DETECTOR_TEMPERATURE = 17.5549
FOCAL_PLANE_TEMPERATURE = 7.7677
INST_CMPRS_NAME = "DISCRETE COSINE TRANSFORMATION (DCT)"
INST_CMPRS_RATIO = 15.1838
INST_CMPRS_QUALITY = 0
INST_CMPRS_QUANTZ_TBL_ID = 0
INSTRUMENT_TEMPERATURE = 11.4379
LENS_TEMPERATURE = 8.3794
MACROPIXEL_SIZE = 4
MISSING_FRAMES = 0
PIXEL_SUBSAMPLING_FLAG = N
SIGNAL_CHAIN_ID = 2
/* RADIOMETRIC DATA ELEMENTS */
BANDWIDTH = 81.0
CENTER_FILTER_WAVELENGTH = 955.5
RADIANCE_OFFSET = 0.0156569
RADIANCE_SCALING_FACTOR = 0.00580226
REFLECTANCE_SCALING_FACTOR = 0.000755474
MEX:REFLECTANCE_OFFSET = 0.00203858
/* IMAGE OBJECT DEFINITIONS */
OBJECT = IMAGE
  INTERCHANGE_FORMAT = BINARY
  LINES = 8095
  LINE_SAMPLES = 2069
  SAMPLE_TYPE = UNSIGNED_INTEGER
  SAMPLE_BITS = 8
  BANDS = 1
  BAND_STORAGE_TYPE = BAND_SEQUENTIAL
  MAXIMUM = 255
  MEAN = 159.806
  MINIMUM = 1
  STANDARD_DEVIATION = 53.9998
END_OBJECT = IMAGE
/* MAP OBJECT DEFINITIONS */
OBJECT = IMAGE_MAP_PROJECTION
  ^DATA_SET_MAP_PROJECTION_CATALOG= "DSMAP.CAT"
  A_AXIS_RADIUS = 3396.0
  B_AXIS_RADIUS = 3396.0
  C_AXIS_RADIUS = 3396.0
  CENTER_LATITUDE = 0.0
  CENTER_LONGITUDE = 78.0
  COORDINATE_SYSTEM_NAME = PLANETOGRAPHIC
  COORDINATE_SYSTEM_TYPE = "BODY-FIXED ROTATING"
  EASTERNMOST_LONGITUDE = 81.07640000000001
  FIRST_STANDARD_PARALLEL = "N/A"
  LINE_FIRST_PIXEL = 1
  LINE_LAST_PIXEL = 8095
  LINE_PROJECTION_OFFSET = -24119.375
  MAP_PROJECTION_ROTATION = 0.0
  MAP_PROJECTION_TYPE = SINUSOIDAL
  MAP_RESOLUTION = 592.713803866667
  MAP_SCALE = 0.1
  MAXIMUM_LATITUDE = -40.7392
  MINIMUM_LATITUDE = -54.2811
  POSITIVE_LONGITUDE_DIRECTION = EAST
  REFERENCE_LATITUDE = "N/A"
  REFERENCE_LONGITUDE = "N/A"
  SAMPLE_FIRST_PIXEL = 1
  SAMPLE_LAST_PIXEL = 2069
  SAMPLE_PROJECTION_OFFSET = 894.375
  SECOND_STANDARD_PARALLEL = "N/A"
  WESTERNMOST_LONGITUDE = 75.36839999999999
END_OBJECT = IMAGE_MAP_PROJECTION
END
