PDS_VERSION_ID = PDS3
/* FILE DATA ELEMENTS */
RECORD_TYPE = UNDEFINED
/* POINTERS TO DATA OBJECTS */
^IMAGE = ("HF702_0000_P24.TIF")
/* IDENTIFICATION DATA ELEMENTS */
DATA_SET_ID = "MEX-M-HRSC-4-REFDR-MAPPROJECT-EXT5-V4.0"
DATA_SET_NAME = "MARS EXPRESS HRSC MAP PROJECTED REFDR EXTENSION5 V4.0"
DETECTOR_ID = MEX_HRSC_P2
EVENT_TYPE = "MARS-REGIONAL-MAPPING-Vo-Pf-Eo"
INSTRUMENT_HOST_ID = MEX
INSTRUMENT_HOST_NAME = "MARS EXPRESS"
INSTRUMENT_ID = HRSC
INSTRUMENT_NAME = "HIGH RESOLUTION STEREO CAMERA"
MISSION_NAME = "MARS EXPRESS"
MISSION_PHASE_NAME = ME_Phase_34
PROCESSING_LEVEL_ID = 4
PRODUCT_CREATION_TIME = 2023-01-31T07:53:46.000Z
PRODUCT_ID = "HF702_0000_P24.TIF"
RELEASE_ID = 0004
REVISION_ID = 0000
/* QUALITY DATA ELEMENTS */
DATA_QUALITY_ID = 1
DATA_QUALITY_DESC = "Data calculated based on original SPICE kernels"
/* TIME DATA ELEMENTS */
SPACECRAFT_CLOCK_START_COUNT = "1/0411994064.08277"
SPACECRAFT_CLOCK_STOP_COUNT = "1/0411994280.17202"
START_TIME = 2016-05-22T10:48:53.757Z
STOP_TIME = 2016-05-22T10:51:14.397Z
/* ORBITAL DATA ELEMENTS */
ASCENDING_NODE_LONGITUDE = 278.91
MAXIMUM_RESOLUTION = 0.0301
FOOTPRINT_POINT_LATITUDE = (40.127,40.1207,40.1157,40.1101,40.1043 ,40.098,40.0912,40.0908,40.1403,39.9424 ,39.7446,39.5468,39.3487,39.1507, 38.9527,38.7546,38.5565,38.3586,38.1605 ,37.9625,37.7643,37.5657,37.3675, 37.1693,36.8719,36.6737,36.3763,36.079, 35.7816,35.5835,35.3851,35.1869,35.0042 ,34.8379,34.6716,34.5055,34.0902,33.841 ,33.6748,33.3427,33.0936,32.8445, 32.5125,32.2635,32.0146,31.7657,31.351, 31.1021,31.0192,30.9939,30.9983,31.0019 ,31.0054,31.0088,31.0159,31.0161, 31.0165,31.3484,31.5146,31.93,32.2623, 32.4286,32.5948,32.8444,33.094,33.2604, 33.4267,33.5931,33.7595,34.009,34.2584, 34.5081,34.7578,34.9242,35.0907,35.3843 ,35.5828,35.7817,35.9802,36.1788, 36.3776,36.5761,36.7747,36.9735,37.172, 37.3707,37.5693,37.8671,38.0656,38.2641 ,38.5616,38.76,38.9585,39.1572,39.3557, 39.554,39.8515,40.0498,40.1488,40.127)
FOOTPRINT_POINT_LONGITUDE = (98.6692,98.2906,98.0167,97.7435, 97.4715,97.2002,96.9294,96.9125,96.8878 ,96.8973,96.9065,96.9156,96.9246, 96.9333,96.9419,96.9504,96.9587,96.9668 ,96.9748,96.9827,96.9904,96.9981, 97.0056,97.0128,97.0235,97.0304,97.0406 ,97.0504,97.06,97.0661,97.0722,97.0782, 97.0836,97.0884,97.0932,97.0978,97.109, 97.1154,97.1197,97.1278,97.1337,97.1394 ,97.1468,97.1521,97.1572,97.1622, 97.1701,97.1747,97.1761,97.1767,97.3922 ,97.6233,97.855,98.0877,98.6585,98.6732 ,98.6785,98.6797,98.6804,98.6821, 98.6833,98.684,98.6846,98.6858,98.6869, 98.6875,98.6882,98.6889,98.6895,98.6904 ,98.6912,98.6923,98.6932,98.6939, 98.6945,98.6957,98.6963,98.6972,98.6978 ,98.6984,98.6992,98.6999,98.7005, 98.7013,98.7018,98.7026,98.7033,98.7042 ,98.7048,98.7053,98.7061,98.7066, 98.7072,98.708,98.7087,98.7092,98.71, 98.7105,98.7107,98.6692)
ORBIT_NUMBER = 15702
ORBITAL_ECCENTRICITY = 0.576
ORBITAL_INCLINATION = 86.92
ORBITAL_SEMIMAJOR_AXIS = 8845.56
PERIAPSIS_ALTITUDE = 359.19
PERIAPSIS_ARGUMENT_ANGLE = 152.93
PERIAPSIS_TIME = 2016-05-22T10:51:54.000Z
SPACECRAFT_ORIENTATION = (0.0,-1.0,0.0)
^MEX_ORIENTATION_DESC = "MEX_ORIENTATION_DESC.TXT"
SPACECRAFT_POINTING_MODE = ACROSSTRACK
^MEX_POINTING_DESC = "MEX_POINTING_DESC.TXT"
RIGHT_ASCENSION = -1e+32
DECLINATION = -1e+32
OFFSET_ANGLE = 0.269
SPACECRAFT_SOLAR_DISTANCE = 2.27658e+08
TARGET_NAME = MARS
/* CAMERA DATA ELEMENTS */
DETECTOR_TEMPERATURE = 18.9822
FOCAL_PLANE_TEMPERATURE = 8.3794
INST_CMPRS_NAME = "DISCRETE COSINE TRANSFORMATION (DCT)"
INST_CMPRS_RATIO = 5.44874
INST_CMPRS_QUALITY = 0
INST_CMPRS_QUANTZ_TBL_ID = 0
INSTRUMENT_TEMPERATURE = 11.6418
LENS_TEMPERATURE = 8.7872
MACROPIXEL_SIZE = 2
MISSING_FRAMES = 0
PIXEL_SUBSAMPLING_FLAG = N
SIGNAL_CHAIN_ID = 3
/* RADIOMETRIC DATA ELEMENTS */
BANDWIDTH = 177.0
CENTER_FILTER_WAVELENGTH = 676.5
RADIANCE_OFFSET = 1.60288
RADIANCE_SCALING_FACTOR = 0.0152523
REFLECTANCE_SCALING_FACTOR = 0.000419143
MEX:REFLECTANCE_OFFSET = 0.0440481
/* IMAGE OBJECT DEFINITIONS */
OBJECT = IMAGE
  INTERCHANGE_FORMAT = BINARY
  LINES = 21769
  LINE_SAMPLES = 3424
  SAMPLE_TYPE = UNSIGNED_INTEGER
  SAMPLE_BITS = 8
  BANDS = 1
  BAND_STORAGE_TYPE = BAND_SEQUENTIAL
  MAXIMUM = 255
  MEAN = 94.5924
  MINIMUM = 1
  STANDARD_DEVIATION = 20.6985
END_OBJECT = IMAGE
/* MAP OBJECT DEFINITIONS */
OBJECT = IMAGE_MAP_PROJECTION
  ^DATA_SET_MAP_PROJECTION_CATALOG= "DSMAP.CAT"
  A_AXIS_RADIUS = 3396.0
  B_AXIS_RADIUS = 3396.0
  C_AXIS_RADIUS = 3396.0
  CENTER_LATITUDE = 0.0
  CENTER_LONGITUDE = 98.0
  COORDINATE_SYSTEM_NAME = PLANETOGRAPHIC
  COORDINATE_SYSTEM_TYPE = "BODY-FIXED ROTATING"
  EASTERNMOST_LONGITUDE = 98.7107
  FIRST_STANDARD_PARALLEL = "N/A"
  LINE_FIRST_PIXEL = 1
  LINE_LAST_PIXEL = 21769
  LINE_PROJECTION_OFFSET = 95231.25
  MAP_PROJECTION_ROTATION = 0.0
  MAP_PROJECTION_TYPE = SINUSOIDAL
  MAP_RESOLUTION = 2370.85521546667
  MAP_SCALE = 0.025
  MAXIMUM_LATITUDE = 40.1488
  MINIMUM_LATITUDE = 30.9939
  POSITIVE_LONGITUDE_DIRECTION = EAST
  REFERENCE_LATITUDE = "N/A"
  REFERENCE_LONGITUDE = "N/A"
  SAMPLE_FIRST_PIXEL = 1
  SAMPLE_LAST_PIXEL = 3424
  SAMPLE_PROJECTION_OFFSET = 2045.25
  SECOND_STANDARD_PARALLEL = "N/A"
  WESTERNMOST_LONGITUDE = 96.8878
END_OBJECT = IMAGE_MAP_PROJECTION
END
