PDS_VERSION_ID = PDS3
/* FILE DATA ELEMENTS */
RECORD_TYPE = UNDEFINED
/* POINTERS TO DATA OBJECTS */
^IMAGE = ("HF759_0000_BL4.TIF")
/* IDENTIFICATION DATA ELEMENTS */
DATA_SET_ID = "MEX-M-HRSC-4-REFDR-MAPPROJECT-EXT5-V4.0"
DATA_SET_NAME = "MARS EXPRESS HRSC MAP PROJECTED REFDR EXTENSION5 V4.0"
DETECTOR_ID = MEX_HRSC_BLUE
EVENT_TYPE = "MARS-REGIONAL-STEREO-Te-Gl-Mw"
INSTRUMENT_HOST_ID = MEX
INSTRUMENT_HOST_NAME = "MARS EXPRESS"
INSTRUMENT_ID = HRSC
INSTRUMENT_NAME = "HIGH RESOLUTION STEREO CAMERA"
MISSION_NAME = "MARS EXPRESS"
MISSION_PHASE_NAME = ME_Phase_34
PROCESSING_LEVEL_ID = 4
PRODUCT_CREATION_TIME = 2023-01-31T07:53:46.000Z
PRODUCT_ID = "HF759_0000_BL4.TIF"
RELEASE_ID = 0004
REVISION_ID = 0000
/* QUALITY DATA ELEMENTS */
DATA_QUALITY_ID = 1
DATA_QUALITY_DESC = "Data calculated based on original SPICE kernels"
/* TIME DATA ELEMENTS */
SPACECRAFT_CLOCK_START_COUNT = "1/0413429638.09062"
SPACECRAFT_CLOCK_STOP_COUNT = "1/0413429928.07249"
START_TIME = 2016-06-08T01:34:54.241Z
STOP_TIME = 2016-06-08T01:38:25.440Z
/* ORBITAL DATA ELEMENTS */
ASCENDING_NODE_LONGITUDE = 277.84
MAXIMUM_RESOLUTION = 0.0593
FOOTPRINT_POINT_LATITUDE = (52.5097,52.4959,52.4808,52.4621, 52.4614,52.4792,52.1991,51.7803,51.3696 ,51.0959,50.8219,50.5476,50.1378, 49.7363,49.2005,48.6642,48.3958,48.1271 ,47.8582,47.5893,47.3201,47.0508, 46.7814,46.5119,46.2423,45.8371,45.5673 ,45.2973,44.8919,44.6213,44.2158, 43.9453,43.6747,43.4036,43.133,42.8617, 42.5903,42.3203,42.0493,41.7786,41.5076 ,41.1003,40.6934,40.4207,40.1494, 39.8784,39.6065,39.3352,39.0638,38.9281 ,38.9261,38.9384,38.9475,38.9476, 38.9486,39.2203,39.4923,39.8997,40.308, 40.5794,40.9865,41.2596,41.6668,41.9387 ,42.3459,42.6174,42.8888,43.2959, 43.5661,43.8382,44.1086,44.3801,44.6505 ,45.0565,45.3272,45.5978,45.868,46.1388 ,46.408,46.6787,47.0845,47.3545,47.6243 ,47.8936,48.2977,48.5674,48.8379, 49.1079,49.5107,50.0466,50.3156,50.5903 ,51.0035,51.2789,51.5523,51.8253, 52.1044,52.386,52.5267,52.5097)
FOOTPRINT_POINT_LONGITUDE = (27.9159,26.9466,26.2309,25.5329, 25.5114,25.5383,25.5606,25.5921,25.6219 ,25.6416,25.6609,25.6793,25.706,25.7312 ,25.7636,25.7946,25.8094,25.8238, 25.8377,25.8513,25.8645,25.8772,25.8898 ,25.9019,25.914,25.9302,25.9415,25.9524 ,25.9675,25.9769,25.9916,26.001,26.0099 ,26.0178,26.0264,26.0337,26.0406, 26.0501,26.0574,26.0651,26.0721,26.0809 ,26.09,26.0931,26.0987,26.1047,26.1088, 26.1137,26.1184,26.1207,26.1207,26.8872 ,27.8259,27.8428,27.8485,27.8517, 27.8562,27.8603,27.8703,27.8719,27.8752 ,27.8878,27.8918,27.8979,27.9033, 27.9074,27.9114,27.9181,27.9153,27.9251 ,27.9247,27.9319,27.9325,27.9365, 27.9409,27.945,27.9466,27.9536,27.9501, 27.9575,27.9689,27.9741,27.9786,27.9807 ,27.9863,27.9933,28.007,28.0182,28.0225 ,28.0239,28.0231,28.0238,28.0344, 28.0424,28.039,28.0335,28.0373,28.0446, 28.048,27.9159)
ORBIT_NUMBER = 15759
ORBITAL_ECCENTRICITY = 0.575
ORBITAL_INCLINATION = 86.92
ORBITAL_SEMIMAJOR_AXIS = 8826.98
PERIAPSIS_ALTITUDE = 365.86
PERIAPSIS_ARGUMENT_ANGLE = 143.08
PERIAPSIS_TIME = 2016-06-08T01:38:51.000Z
SPACECRAFT_ORIENTATION = (0.0,-1.0,0.0)
^MEX_ORIENTATION_DESC = "MEX_ORIENTATION_DESC.TXT"
SPACECRAFT_POINTING_MODE = ACROSSTRACK
^MEX_POINTING_DESC = "MEX_POINTING_DESC.TXT"
RIGHT_ASCENSION = -1e+32
DECLINATION = -1e+32
OFFSET_ANGLE = 1.2
SPACECRAFT_SOLAR_DISTANCE = 2.2441e+08
TARGET_NAME = MARS
/* CAMERA DATA ELEMENTS */
DETECTOR_TEMPERATURE = 18.5744
FOCAL_PLANE_TEMPERATURE = 7.9716
INST_CMPRS_NAME = "DISCRETE COSINE TRANSFORMATION (DCT)"
INST_CMPRS_RATIO = 8.03
INST_CMPRS_QUALITY = 0
INST_CMPRS_QUANTZ_TBL_ID = 0
INSTRUMENT_TEMPERATURE = 11.8457
LENS_TEMPERATURE = 8.9911
MACROPIXEL_SIZE = 4
MISSING_FRAMES = 0
PIXEL_SUBSAMPLING_FLAG = N
SIGNAL_CHAIN_ID = 2
/* RADIOMETRIC DATA ELEMENTS */
BANDWIDTH = 76.0
CENTER_FILTER_WAVELENGTH = 444.0
RADIANCE_OFFSET = 0.224539
RADIANCE_SCALING_FACTOR = 0.00202525
REFLECTANCE_SCALING_FACTOR = 0.000104791
MEX:REFLECTANCE_OFFSET = 0.0116181
/* IMAGE OBJECT DEFINITIONS */
OBJECT = IMAGE
  INTERCHANGE_FORMAT = BINARY
  LINES = 16091
  LINE_SAMPLES = 1867
  SAMPLE_TYPE = UNSIGNED_INTEGER
  SAMPLE_BITS = 8
  BANDS = 1
  BAND_STORAGE_TYPE = BAND_SEQUENTIAL
  MAXIMUM = 255
  MEAN = 138.302
  MINIMUM = 1
  STANDARD_DEVIATION = 20.1051
END_OBJECT = IMAGE
/* MAP OBJECT DEFINITIONS */
OBJECT = IMAGE_MAP_PROJECTION
  ^DATA_SET_MAP_PROJECTION_CATALOG= "DSMAP.CAT"
  A_AXIS_RADIUS = 3396.0
  B_AXIS_RADIUS = 3396.0
  C_AXIS_RADIUS = 3396.0
  CENTER_LATITUDE = 0.0
  CENTER_LONGITUDE = 27.0
  COORDINATE_SYSTEM_NAME = PLANETOGRAPHIC
  COORDINATE_SYSTEM_TYPE = "BODY-FIXED ROTATING"
  EASTERNMOST_LONGITUDE = 28.048
  FIRST_STANDARD_PARALLEL = "N/A"
  LINE_FIRST_PIXEL = 1
  LINE_LAST_PIXEL = 16091
  LINE_PROJECTION_OFFSET = 62248.375
  MAP_PROJECTION_ROTATION = 0.0
  MAP_PROJECTION_TYPE = SINUSOIDAL
  MAP_RESOLUTION = 1185.42760773333
  MAP_SCALE = 0.05
  MAXIMUM_LATITUDE = 52.5267
  MINIMUM_LATITUDE = 38.9261
  POSITIVE_LONGITUDE_DIRECTION = EAST
  REFERENCE_LATITUDE = "N/A"
  REFERENCE_LONGITUDE = "N/A"
  SAMPLE_FIRST_PIXEL = 1
  SAMPLE_LAST_PIXEL = 1867
  SAMPLE_PROJECTION_OFFSET = 1072.125
  SECOND_STANDARD_PARALLEL = "N/A"
  WESTERNMOST_LONGITUDE = 25.5114
END_OBJECT = IMAGE_MAP_PROJECTION
END
