PDS_VERSION_ID = PDS3
/* FILE DATA ELEMENTS */
RECORD_TYPE = UNDEFINED
/* POINTERS TO DATA OBJECTS */
^IMAGE = ("HF759_0000_P24.TIF")
/* IDENTIFICATION DATA ELEMENTS */
DATA_SET_ID = "MEX-M-HRSC-4-REFDR-MAPPROJECT-EXT5-V4.0"
DATA_SET_NAME = "MARS EXPRESS HRSC MAP PROJECTED REFDR EXTENSION5 V4.0"
DETECTOR_ID = MEX_HRSC_P2
EVENT_TYPE = "MARS-REGIONAL-STEREO-Te-Gl-Mw"
INSTRUMENT_HOST_ID = MEX
INSTRUMENT_HOST_NAME = "MARS EXPRESS"
INSTRUMENT_ID = HRSC
INSTRUMENT_NAME = "HIGH RESOLUTION STEREO CAMERA"
MISSION_NAME = "MARS EXPRESS"
MISSION_PHASE_NAME = ME_Phase_34
PROCESSING_LEVEL_ID = 4
PRODUCT_CREATION_TIME = 2023-01-31T07:53:46.000Z
PRODUCT_ID = "HF759_0000_P24.TIF"
RELEASE_ID = 0004
REVISION_ID = 0000
/* QUALITY DATA ELEMENTS */
DATA_QUALITY_ID = 1
DATA_QUALITY_DESC = "Data calculated based on original SPICE kernels"
/* TIME DATA ELEMENTS */
SPACECRAFT_CLOCK_START_COUNT = "1/0413429638.09062"
SPACECRAFT_CLOCK_STOP_COUNT = "1/0413429928.07249"
START_TIME = 2016-06-08T01:35:13.237Z
STOP_TIME = 2016-06-08T01:38:41.997Z
/* ORBITAL DATA ELEMENTS */
ASCENDING_NODE_LONGITUDE = 277.84
MAXIMUM_RESOLUTION = 0.0305
FOOTPRINT_POINT_LATITUDE = (52.4888,52.4571,52.4273,52.3947, 52.3936,52.4596,52.1843,51.7699,51.4938 ,51.0874,50.6842,50.2805,50.0117, 49.7423,49.3386,49.0695,48.8003,48.5313 ,48.127,47.7224,47.4527,47.1827,46.778, 46.5082,46.1035,45.8309,45.5625,45.293, 45.0223,44.7512,44.347,44.078,43.8076, 43.5373,43.1318,42.8606,42.5884,42.0543 ,41.7859,41.5166,41.2468,40.8421, 40.5692,40.1629,39.895,39.4895,39.0863, 38.952,38.906,38.9289,38.9493,38.9764, 38.977,38.9777,39.2466,39.5164,39.9207, 40.1925,40.4613,40.7278,40.9987,41.2715 ,41.6767,41.9494,42.2179,42.4898,42.76, 43.0309,43.3013,43.5678,43.8416,44.1096 ,44.3819,44.6505,45.0538,45.3259, 45.5966,45.866,46.1382,46.6764,46.9493, 47.2208,47.4917,47.897,48.3022,48.5737, 48.8516,49.1233,49.5272,49.7982,50.1982 ,50.7327,51.0064,51.2776,51.5457, 51.8168,52.093,52.3713,52.5101,52.4888)
FOOTPRINT_POINT_LONGITUDE = (27.9083,27.0035,26.2658,25.5481,25.526 ,25.5494,25.5707,25.6011,25.6209, 25.6491,25.6763,25.7023,25.7193,25.7356 ,25.7596,25.7752,25.7902,25.8051, 25.8263,25.8466,25.8597,25.8723,25.8907 ,25.9026,25.9198,25.9295,25.9409, 25.9515,25.9611,25.9703,25.9847,25.9942 ,26.0026,26.0109,26.0227,26.0297, 26.0359,26.0528,26.0602,26.0667,26.0728 ,26.0814,26.0852,26.092,26.0976,26.1038 ,26.1106,26.1127,26.1134,26.6343, 27.1369,27.8327,27.8504,27.8568,27.8595 ,27.8637,27.869,27.8761,27.878,27.876, 27.8813,27.8896,27.8953,27.9034,27.9042 ,27.9107,27.9141,27.9188,27.9225, 27.9193,27.929,27.9282,27.9352,27.9356, 27.9368,27.9433,27.9473,27.9489,27.9557 ,27.958,27.9661,27.9719,27.9763,27.9815 ,27.9865,27.9925,28.0107,28.0172, 28.0205,28.0261,28.0224,28.02,28.0314, 28.0382,28.0359,28.0287,28.0316,28.0388 ,28.0418,27.9083)
ORBIT_NUMBER = 15759
ORBITAL_ECCENTRICITY = 0.575
ORBITAL_INCLINATION = 86.92
ORBITAL_SEMIMAJOR_AXIS = 8826.98
PERIAPSIS_ALTITUDE = 365.86
PERIAPSIS_ARGUMENT_ANGLE = 143.08
PERIAPSIS_TIME = 2016-06-08T01:38:51.000Z
SPACECRAFT_ORIENTATION = (0.0,-1.0,0.0)
^MEX_ORIENTATION_DESC = "MEX_ORIENTATION_DESC.TXT"
SPACECRAFT_POINTING_MODE = ACROSSTRACK
^MEX_POINTING_DESC = "MEX_POINTING_DESC.TXT"
RIGHT_ASCENSION = -1e+32
DECLINATION = -1e+32
OFFSET_ANGLE = 1.2
SPACECRAFT_SOLAR_DISTANCE = 2.2441e+08
TARGET_NAME = MARS
/* CAMERA DATA ELEMENTS */
DETECTOR_TEMPERATURE = 18.7783
FOCAL_PLANE_TEMPERATURE = 7.9716
INST_CMPRS_NAME = "DISCRETE COSINE TRANSFORMATION (DCT)"
INST_CMPRS_RATIO = 7.13956
INST_CMPRS_QUALITY = 0
INST_CMPRS_QUANTZ_TBL_ID = 0
INSTRUMENT_TEMPERATURE = 11.8457
LENS_TEMPERATURE = 8.9911
MACROPIXEL_SIZE = 2
MISSING_FRAMES = 0
PIXEL_SUBSAMPLING_FLAG = N
SIGNAL_CHAIN_ID = 3
/* RADIOMETRIC DATA ELEMENTS */
BANDWIDTH = 177.0
CENTER_FILTER_WAVELENGTH = 676.5
RADIANCE_OFFSET = 1.48257
RADIANCE_SCALING_FACTOR = 0.0208941
REFLECTANCE_SCALING_FACTOR = 0.000557917
MEX:REFLECTANCE_OFFSET = 0.0395878
/* IMAGE OBJECT DEFINITIONS */
OBJECT = IMAGE
  INTERCHANGE_FORMAT = BINARY
  LINES = 32182
  LINE_SAMPLES = 3733
  SAMPLE_TYPE = UNSIGNED_INTEGER
  SAMPLE_BITS = 8
  BANDS = 1
  BAND_STORAGE_TYPE = BAND_SEQUENTIAL
  MAXIMUM = 255
  MEAN = 103.3
  MINIMUM = 1
  STANDARD_DEVIATION = 22.5485
END_OBJECT = IMAGE
/* MAP OBJECT DEFINITIONS */
OBJECT = IMAGE_MAP_PROJECTION
  ^DATA_SET_MAP_PROJECTION_CATALOG= "DSMAP.CAT"
  A_AXIS_RADIUS = 3396.0
  B_AXIS_RADIUS = 3396.0
  C_AXIS_RADIUS = 3396.0
  CENTER_LATITUDE = 0.0
  CENTER_LONGITUDE = 27.0
  COORDINATE_SYSTEM_NAME = PLANETOGRAPHIC
  COORDINATE_SYSTEM_TYPE = "BODY-FIXED ROTATING"
  EASTERNMOST_LONGITUDE = 28.0418
  FIRST_STANDARD_PARALLEL = "N/A"
  LINE_FIRST_PIXEL = 1
  LINE_LAST_PIXEL = 32182
  LINE_PROJECTION_OFFSET = 124497.25
  MAP_PROJECTION_ROTATION = 0.0
  MAP_PROJECTION_TYPE = SINUSOIDAL
  MAP_RESOLUTION = 2370.85521546667
  MAP_SCALE = 0.025
  MAXIMUM_LATITUDE = 52.5101
  MINIMUM_LATITUDE = 38.906
  POSITIVE_LONGITUDE_DIRECTION = EAST
  REFERENCE_LATITUDE = "N/A"
  REFERENCE_LONGITUDE = "N/A"
  SAMPLE_FIRST_PIXEL = 1
  SAMPLE_LAST_PIXEL = 3733
  SAMPLE_PROJECTION_OFFSET = 2144.75
  SECOND_STANDARD_PARALLEL = "N/A"
  WESTERNMOST_LONGITUDE = 25.526
END_OBJECT = IMAGE_MAP_PROJECTION
END
