PDS_VERSION_ID = PDS3
/* FILE DATA ELEMENTS */
RECORD_TYPE = UNDEFINED
/* POINTERS TO DATA OBJECTS */
^IMAGE = ("HF856_0000_RE4.TIF")
/* IDENTIFICATION DATA ELEMENTS */
DATA_SET_ID = "MEX-M-HRSC-4-REFDR-MAPPROJECT-EXT5-V4.0"
DATA_SET_NAME = "MARS EXPRESS HRSC MAP PROJECTED REFDR EXTENSION5 V4.0"
DETECTOR_ID = MEX_HRSC_RED
EVENT_TYPE = "MARS-REGIONAL-MAPPING-Vo-Te"
INSTRUMENT_HOST_ID = MEX
INSTRUMENT_HOST_NAME = "MARS EXPRESS"
INSTRUMENT_ID = HRSC
INSTRUMENT_NAME = "HIGH RESOLUTION STEREO CAMERA"
MISSION_NAME = "MARS EXPRESS"
MISSION_PHASE_NAME = ME_Phase_35
PROCESSING_LEVEL_ID = 4
PRODUCT_CREATION_TIME = 2023-01-31T07:53:46.000Z
PRODUCT_ID = "HF856_0000_RE4.TIF"
RELEASE_ID = 0004
REVISION_ID = 0000
/* QUALITY DATA ELEMENTS */
DATA_QUALITY_ID = 1
DATA_QUALITY_DESC = "Data calculated based on original SPICE kernels"
/* TIME DATA ELEMENTS */
SPACECRAFT_CLOCK_START_COUNT = "1/0415872793.07313"
SPACECRAFT_CLOCK_STOP_COUNT = "1/0415873255.53338"
START_TIME = 2016-07-06T08:14:23.439Z
STOP_TIME = 2016-07-06T08:20:51.883Z
/* ORBITAL DATA ELEMENTS */
ASCENDING_NODE_LONGITUDE = 276.0
MAXIMUM_RESOLUTION = 0.0638
FOOTPRINT_POINT_LATITUDE = (52.2232,52.1917,52.1657,52.1651,52.249 ,51.5609,51.1031,50.6455,50.1891, 49.5054,49.0503,48.596,48.1424,47.6895, 47.2374,46.7861,46.3355,45.8853,45.4371 ,44.7655,44.3187,43.873,43.4284,42.5416 ,41.6591,40.9848,40.5349,40.0862, 39.4017,38.9443,38.2549,37.7892,37.3248 ,36.6169,36.1448,35.4259,34.9464, 34.4587,33.9712,33.4764,32.9818,32.4804 ,31.978,31.4677,30.6974,29.9166,29.1255 ,28.8596,28.8153,28.8155,28.8123, 28.8122,28.8133,29.3471,29.8737,30.3978 ,30.9115,31.6865,32.4454,33.1974, 33.6912,34.4304,34.9202,35.4014,36.1226 ,36.5959,37.3062,37.7716,38.2385, 38.7019,39.1596,39.6187,40.076,40.5259, 41.2026,41.6536,42.5381,42.9821,43.4269 ,43.8727,44.3196,44.7674,45.216,45.6654 ,46.116,46.5672,47.0192,47.4723,47.926, 48.3805,48.8359,49.2918,49.7487,50.2062 ,50.6643,51.1231,51.5825,52.0423, 52.2728,52.2232)
FOOTPRINT_POINT_LONGITUDE = (181.743,180.5,179.684,179.665,179.601, 179.669,179.712,179.753,179.793,179.849 ,179.884,179.918,179.95,179.981,180.01, 180.039,180.065,180.091,180.115,180.15, 180.171,180.191,180.211,180.246,180.278 ,180.299,180.312,180.325,180.342, 180.352,180.366,180.375,180.382,180.392 ,180.398,180.405,180.408,180.411, 180.413,180.415,180.415,180.415,180.414 ,180.412,180.408,180.402,180.393,180.39 ,180.39,181.466,182.504,182.524,182.53, 182.521,182.512,182.502,182.49,182.479, 182.463,182.449,182.437,182.423,182.413 ,182.403,182.386,182.375,182.358, 182.347,182.335,182.323,182.311,182.299 ,182.286,182.274,182.254,182.241, 182.213,182.199,182.184,182.169,182.154 ,182.138,182.121,182.104,182.087, 182.069,182.05,182.031,182.012,181.991, 181.97,181.949,181.927,181.904,181.88, 181.856,181.831,181.805,181.792, 181.743)
ORBIT_NUMBER = 15856
ORBITAL_ECCENTRICITY = 0.572
ORBITAL_INCLINATION = 86.95
ORBITAL_SEMIMAJOR_AXIS = 8792.47
PERIAPSIS_ALTITUDE = 375.77
PERIAPSIS_ARGUMENT_ANGLE = 126.31
PERIAPSIS_TIME = 2016-07-06T08:13:34.000Z
SPACECRAFT_ORIENTATION = (0.0,-1.0,0.0)
^MEX_ORIENTATION_DESC = "MEX_ORIENTATION_DESC.TXT"
SPACECRAFT_POINTING_MODE = NADIR
^MEX_POINTING_DESC = "MEX_POINTING_DESC.TXT"
RIGHT_ASCENSION = -1e+32
DECLINATION = -1e+32
OFFSET_ANGLE = -1e+32
SPACECRAFT_SOLAR_DISTANCE = 2.19014e+08
TARGET_NAME = MARS
/* CAMERA DATA ELEMENTS */
DETECTOR_TEMPERATURE = 19.39
FOCAL_PLANE_TEMPERATURE = 9.6028
INST_CMPRS_NAME = "DISCRETE COSINE TRANSFORMATION (DCT)"
INST_CMPRS_RATIO = 10.2486
INST_CMPRS_QUALITY = 0
INST_CMPRS_QUANTZ_TBL_ID = 0
INSTRUMENT_TEMPERATURE = 11.6418
LENS_TEMPERATURE = 8.5833
MACROPIXEL_SIZE = 4
MISSING_FRAMES = 0
PIXEL_SUBSAMPLING_FLAG = N
SIGNAL_CHAIN_ID = 2
/* RADIOMETRIC DATA ELEMENTS */
BANDWIDTH = 48.0
CENTER_FILTER_WAVELENGTH = 748.0
RADIANCE_OFFSET = 0.94673
RADIANCE_SCALING_FACTOR = 0.00810036
REFLECTANCE_SCALING_FACTOR = 0.000886692
MEX:REFLECTANCE_OFFSET = 0.103632
/* IMAGE OBJECT DEFINITIONS */
OBJECT = IMAGE
  INTERCHANGE_FORMAT = BINARY
  LINES = 27875
  LINE_SAMPLES = 2531
  SAMPLE_TYPE = UNSIGNED_INTEGER
  SAMPLE_BITS = 8
  BANDS = 1
  BAND_STORAGE_TYPE = BAND_SEQUENTIAL
  MAXIMUM = 255
  MEAN = 90.1279
  MINIMUM = 1
  STANDARD_DEVIATION = 26.7995
END_OBJECT = IMAGE
/* MAP OBJECT DEFINITIONS */
OBJECT = IMAGE_MAP_PROJECTION
  ^DATA_SET_MAP_PROJECTION_CATALOG= "DSMAP.CAT"
  A_AXIS_RADIUS = 3396.0
  B_AXIS_RADIUS = 3396.0
  C_AXIS_RADIUS = 3396.0
  CENTER_LATITUDE = 0.0
  CENTER_LONGITUDE = 181.0
  COORDINATE_SYSTEM_NAME = PLANETOGRAPHIC
  COORDINATE_SYSTEM_TYPE = "BODY-FIXED ROTATING"
  EASTERNMOST_LONGITUDE = 182.53
  FIRST_STANDARD_PARALLEL = "N/A"
  LINE_FIRST_PIXEL = 1
  LINE_LAST_PIXEL = 27875
  LINE_PROJECTION_OFFSET = 61998.875
  MAP_PROJECTION_ROTATION = 0.0
  MAP_PROJECTION_TYPE = SINUSOIDAL
  MAP_RESOLUTION = 1185.42760773333
  MAP_SCALE = 0.05
  MAXIMUM_LATITUDE = 52.2728
  MINIMUM_LATITUDE = 28.8122
  POSITIVE_LONGITUDE_DIRECTION = EAST
  REFERENCE_LATITUDE = "N/A"
  REFERENCE_LONGITUDE = "N/A"
  SAMPLE_FIRST_PIXEL = 1
  SAMPLE_LAST_PIXEL = 2531
  SAMPLE_PROJECTION_OFFSET = 1012.375
  SECOND_STANDARD_PARALLEL = "N/A"
  WESTERNMOST_LONGITUDE = 179.601
END_OBJECT = IMAGE_MAP_PROJECTION
END
