PDS_VERSION_ID = PDS3
/* FILE DATA ELEMENTS */
RECORD_TYPE = UNDEFINED
/* POINTERS TO DATA OBJECTS */
^IMAGE = ("HG000_0000_P14.TIF")
/* IDENTIFICATION DATA ELEMENTS */
DATA_SET_ID = "MEX-M-HRSC-4-REFDR-MAPPROJECT-EXT5-V4.0"
DATA_SET_NAME = "MARS EXPRESS HRSC MAP PROJECTED REFDR EXTENSION5 V4.0"
DETECTOR_ID = MEX_HRSC_P1
EVENT_TYPE = "MARS-REGIONAL-MAPPING-Te-Im-Pf"
INSTRUMENT_HOST_ID = MEX
INSTRUMENT_HOST_NAME = "MARS EXPRESS"
INSTRUMENT_ID = HRSC
INSTRUMENT_NAME = "HIGH RESOLUTION STEREO CAMERA"
MISSION_NAME = "MARS EXPRESS"
MISSION_PHASE_NAME = ME_Phase_35
PROCESSING_LEVEL_ID = 4
PRODUCT_CREATION_TIME = 2023-01-31T07:53:46.000Z
PRODUCT_ID = "HG000_0000_P14.TIF"
RELEASE_ID = 0004
REVISION_ID = 0000
/* QUALITY DATA ELEMENTS */
DATA_QUALITY_ID = 1
DATA_QUALITY_DESC = "Data calculated based on original SPICE kernels"
/* TIME DATA ELEMENTS */
SPACECRAFT_CLOCK_START_COUNT = "1/0419499320.08250"
SPACECRAFT_CLOCK_STOP_COUNT = "1/0419499621.04231"
START_TIME = 2016-08-17T07:35:41.082Z
STOP_TIME = 2016-08-17T07:38:52.093Z
/* ORBITAL DATA ELEMENTS */
ASCENDING_NODE_LONGITUDE = 273.32
MAXIMUM_RESOLUTION = 0.0354
FOOTPRINT_POINT_LATITUDE = (62.0581,62.035,62.0167,61.9781,61.9357 ,61.9341,61.8524,61.3067,60.9794, 60.4216,60.0863,59.6397,59.1871,58.9587 ,58.7301,58.5016,58.2733,58.0452, 57.6951,57.4615,57.2281,56.9949,56.7619 ,56.5232,56.1654,55.9273,55.6893,55.449 ,55.2056,54.9624,54.7194,54.4767, 54.2293,53.9812,53.7334,53.4858,53.2356 ,52.9831,52.6042,52.3518,52.0944, 51.8373,51.5804,51.191,50.9292,50.5367, 50.2713,50.005,49.8719,49.837,49.8651, 49.8823,49.8971,49.9105,49.9163,49.9166 ,49.9174,50.1846,50.5854,50.8478, 51.1105,51.5044,51.7622,52.0204,52.2788 ,52.5353,52.7888,53.0417,53.2953, 53.5472,53.7957,54.0447,54.2935,54.5425 ,54.7864,55.1519,55.3961,55.7607, 55.9995,56.2387,56.478,56.7174,56.955, 57.1892,57.5406,57.775,58.1271,58.4713, 58.7008,58.9303,59.1603,59.3896,59.7301 ,60.1786,60.4034,60.7404,61.2966, 61.8449,61.9546,62.0581)
FOOTPRINT_POINT_LONGITUDE = (209.517,208.773,208.268,207.35,206.492 ,206.462,206.396,206.505,206.568, 206.671,206.731,206.807,206.88,206.917, 206.952,206.986,207.02,207.053,207.102, 207.134,207.165,207.195,207.225,207.255 ,207.298,207.326,207.353,207.38,207.407 ,207.432,207.458,207.482,207.507, 207.531,207.554,207.577,207.599,207.621 ,207.653,207.673,207.693,207.713, 207.732,207.76,207.778,207.804,207.821, 207.838,207.846,207.848,208.576,209.109 ,209.67,210.316,210.709,210.737,210.747 ,210.732,210.707,210.691,210.674, 210.648,210.631,210.613,210.595,210.577 ,210.559,210.541,210.522,210.503, 210.484,210.464,210.444,210.424,210.403 ,210.373,210.352,210.319,210.298, 210.275,210.253,210.23,210.207,210.184, 210.148,210.124,210.087,210.049,210.024 ,209.998,209.971,209.945,209.904, 209.848,209.82,209.776,209.701,209.624, 209.608,209.517)
ORBIT_NUMBER = 16000
ORBITAL_ECCENTRICITY = 0.571
ORBITAL_INCLINATION = 86.96
ORBITAL_SEMIMAJOR_AXIS = 8764.38
PERIAPSIS_ALTITUDE = 384.92
PERIAPSIS_ARGUMENT_ANGLE = 101.45
PERIAPSIS_TIME = 2016-08-17T07:31:49.000Z
SPACECRAFT_ORIENTATION = (0.0,-1.0,0.0)
^MEX_ORIENTATION_DESC = "MEX_ORIENTATION_DESC.TXT"
SPACECRAFT_POINTING_MODE = NADIR
^MEX_POINTING_DESC = "MEX_POINTING_DESC.TXT"
RIGHT_ASCENSION = -1e+32
DECLINATION = -1e+32
OFFSET_ANGLE = -1e+32
SPACECRAFT_SOLAR_DISTANCE = 2.12095e+08
TARGET_NAME = MARS
/* CAMERA DATA ELEMENTS */
DETECTOR_TEMPERATURE = 17.5549
FOCAL_PLANE_TEMPERATURE = 8.5833
INST_CMPRS_NAME = "DISCRETE COSINE TRANSFORMATION (DCT)"
INST_CMPRS_RATIO = 11.3457
INST_CMPRS_QUALITY = 0
INST_CMPRS_QUANTZ_TBL_ID = 0
INSTRUMENT_TEMPERATURE = 11.4379
LENS_TEMPERATURE = 8.5833
MACROPIXEL_SIZE = 2
MISSING_FRAMES = 0
PIXEL_SUBSAMPLING_FLAG = N
SIGNAL_CHAIN_ID = 3
/* RADIOMETRIC DATA ELEMENTS */
BANDWIDTH = 174.0
CENTER_FILTER_WAVELENGTH = 675.0
RADIANCE_OFFSET = 3.54236
RADIANCE_SCALING_FACTOR = 0.0133404
REFLECTANCE_SCALING_FACTOR = 0.000322783
MEX:REFLECTANCE_OFFSET = 0.085711
/* IMAGE OBJECT DEFINITIONS */
OBJECT = IMAGE
  INTERCHANGE_FORMAT = BINARY
  LINES = 28770
  LINE_SAMPLES = 5715
  SAMPLE_TYPE = UNSIGNED_INTEGER
  SAMPLE_BITS = 8
  BANDS = 1
  BAND_STORAGE_TYPE = BAND_SEQUENTIAL
  MAXIMUM = 255
  MEAN = 122.337
  MINIMUM = 1
  STANDARD_DEVIATION = 75.8696
END_OBJECT = IMAGE
/* MAP OBJECT DEFINITIONS */
OBJECT = IMAGE_MAP_PROJECTION
  ^DATA_SET_MAP_PROJECTION_CATALOG= "DSMAP.CAT"
  A_AXIS_RADIUS = 3396.0
  B_AXIS_RADIUS = 3396.0
  C_AXIS_RADIUS = 3396.0
  CENTER_LATITUDE = 0.0
  CENTER_LONGITUDE = 209.0
  COORDINATE_SYSTEM_NAME = PLANETOGRAPHIC
  COORDINATE_SYSTEM_TYPE = "BODY-FIXED ROTATING"
  EASTERNMOST_LONGITUDE = 210.747
  FIRST_STANDARD_PARALLEL = "N/A"
  LINE_FIRST_PIXEL = 1
  LINE_LAST_PIXEL = 28770
  LINE_PROJECTION_OFFSET = 146991.75
  MAP_PROJECTION_ROTATION = 0.0
  MAP_PROJECTION_TYPE = SINUSOIDAL
  MAP_RESOLUTION = 2370.85521546667
  MAP_SCALE = 0.025
  MAXIMUM_LATITUDE = 62.0581
  MINIMUM_LATITUDE = 49.837
  POSITIVE_LONGITUDE_DIRECTION = EAST
  REFERENCE_LATITUDE = "N/A"
  REFERENCE_LONGITUDE = "N/A"
  SAMPLE_FIRST_PIXEL = 1
  SAMPLE_LAST_PIXEL = 5715
  SAMPLE_PROJECTION_OFFSET = 2967.75
  SECOND_STANDARD_PARALLEL = "N/A"
  WESTERNMOST_LONGITUDE = 206.396
END_OBJECT = IMAGE_MAP_PROJECTION
END
