PDS_VERSION_ID = PDS3
/* FILE DATA ELEMENTS */
RECORD_TYPE = UNDEFINED
/* POINTERS TO DATA OBJECTS */
^IMAGE = ("HG000_0000_RE4.TIF")
/* IDENTIFICATION DATA ELEMENTS */
DATA_SET_ID = "MEX-M-HRSC-4-REFDR-MAPPROJECT-EXT5-V4.0"
DATA_SET_NAME = "MARS EXPRESS HRSC MAP PROJECTED REFDR EXTENSION5 V4.0"
DETECTOR_ID = MEX_HRSC_RED
EVENT_TYPE = "MARS-REGIONAL-MAPPING-Te-Im-Pf"
INSTRUMENT_HOST_ID = MEX
INSTRUMENT_HOST_NAME = "MARS EXPRESS"
INSTRUMENT_ID = HRSC
INSTRUMENT_NAME = "HIGH RESOLUTION STEREO CAMERA"
MISSION_NAME = "MARS EXPRESS"
MISSION_PHASE_NAME = ME_Phase_35
PROCESSING_LEVEL_ID = 4
PRODUCT_CREATION_TIME = 2023-01-31T07:53:46.000Z
PRODUCT_ID = "HG000_0000_RE4.TIF"
RELEASE_ID = 0004
REVISION_ID = 0000
/* QUALITY DATA ELEMENTS */
DATA_QUALITY_ID = 1
DATA_QUALITY_DESC = "Data calculated based on original SPICE kernels"
/* TIME DATA ELEMENTS */
SPACECRAFT_CLOCK_START_COUNT = "1/0419499320.08250"
SPACECRAFT_CLOCK_STOP_COUNT = "1/0419499621.04231"
START_TIME = 2016-08-17T07:36:43.122Z
STOP_TIME = 2016-08-17T07:40:15.627Z
/* ORBITAL DATA ELEMENTS */
ASCENDING_NODE_LONGITUDE = 273.32
MAXIMUM_RESOLUTION = 0.0768
FOOTPRINT_POINT_LATITUDE = (61.9054,61.8812,61.8606,61.8415, 61.7872,61.7858,61.8816,61.3325,60.8945 ,60.4495,59.7812,59.556,59.3293,58.9898 ,58.7638,58.4202,58.1901,57.9602, 57.7309,57.4981,57.2645,57.0315,56.7987 ,56.4441,56.0895,55.8531,55.6126, 55.3724,55.1331,54.7692,54.5259,54.283, 54.0373,53.7908,53.5447,53.296,53.0452, 52.7967,52.5449,52.2921,52.0398,51.7842 ,51.4003,51.1427,50.8834,50.6247, 50.3622,50.1003,49.969,49.9,49.9167, 49.9295,49.9414,49.9501,49.9577,49.9657 ,49.966,49.9674,50.4951,50.7582,51.1482 ,51.4083,51.6651,51.9224,52.3049, 52.5584,52.8122,53.0631,53.4394,53.6888 ,53.9358,54.1836,54.5515,54.7958, 55.0404,55.4033,55.6443,56.0058,56.2429 ,56.4806,56.8384,57.1892,57.5411, 57.7763,58.1219,58.3525,58.584,58.815, 59.0419,59.2692,59.4969,59.8385,60.1739 ,60.5098,60.7341,60.9587,61.3986, 61.8403,61.9511,61.9054)
FOOTPRINT_POINT_LONGITUDE = (209.642,208.82,208.211,207.695,206.422 ,206.392,206.286,206.394,206.476, 206.556,206.669,206.705,206.741,206.794 ,206.827,206.877,206.91,206.942,206.973 ,207.003,207.033,207.062,207.091, 207.133,207.174,207.2,207.226,207.251, 207.276,207.312,207.335,207.358,207.38, 207.402,207.423,207.444,207.465,207.484 ,207.503,207.522,207.54,207.558,207.584 ,207.6,207.616,207.632,207.647,207.661, 207.668,207.672,208.247,208.762,209.307 ,209.761,210.246,210.884,210.914, 210.924,210.889,210.87,210.843,210.824, 210.805,210.786,210.757,210.737,210.717 ,210.697,210.666,210.646,210.625, 210.604,210.571,210.55,210.527,210.494, 210.471,210.437,210.413,210.39,210.353, 210.317,210.279,210.254,210.215,210.189 ,210.162,210.135,210.108,210.08,210.052 ,210.009,209.966,209.921,209.89,209.86, 209.797,209.733,209.716,209.642)
ORBIT_NUMBER = 16000
ORBITAL_ECCENTRICITY = 0.571
ORBITAL_INCLINATION = 86.96
ORBITAL_SEMIMAJOR_AXIS = 8764.38
PERIAPSIS_ALTITUDE = 384.92
PERIAPSIS_ARGUMENT_ANGLE = 101.45
PERIAPSIS_TIME = 2016-08-17T07:31:49.000Z
SPACECRAFT_ORIENTATION = (0.0,-1.0,0.0)
^MEX_ORIENTATION_DESC = "MEX_ORIENTATION_DESC.TXT"
SPACECRAFT_POINTING_MODE = NADIR
^MEX_POINTING_DESC = "MEX_POINTING_DESC.TXT"
RIGHT_ASCENSION = -1e+32
DECLINATION = -1e+32
OFFSET_ANGLE = -1e+32
SPACECRAFT_SOLAR_DISTANCE = 2.12095e+08
TARGET_NAME = MARS
/* CAMERA DATA ELEMENTS */
DETECTOR_TEMPERATURE = 18.5744
FOCAL_PLANE_TEMPERATURE = 8.5833
INST_CMPRS_NAME = "DISCRETE COSINE TRANSFORMATION (DCT)"
INST_CMPRS_RATIO = 28.7447
INST_CMPRS_QUALITY = 0
INST_CMPRS_QUANTZ_TBL_ID = 0
INSTRUMENT_TEMPERATURE = 11.4379
LENS_TEMPERATURE = 8.5833
MACROPIXEL_SIZE = 4
MISSING_FRAMES = 0
PIXEL_SUBSAMPLING_FLAG = N
SIGNAL_CHAIN_ID = 2
/* RADIOMETRIC DATA ELEMENTS */
BANDWIDTH = 48.0
CENTER_FILTER_WAVELENGTH = 748.0
RADIANCE_OFFSET = 0.916343
RADIANCE_SCALING_FACTOR = 0.00425353
REFLECTANCE_SCALING_FACTOR = 0.000436651
MEX:REFLECTANCE_OFFSET = 0.0940682
/* IMAGE OBJECT DEFINITIONS */
OBJECT = IMAGE
  INTERCHANGE_FORMAT = BINARY
  LINES = 14385
  LINE_SAMPLES = 2858
  SAMPLE_TYPE = UNSIGNED_INTEGER
  SAMPLE_BITS = 8
  BANDS = 1
  BAND_STORAGE_TYPE = BAND_SEQUENTIAL
  MAXIMUM = 255
  MEAN = 117.172
  MINIMUM = 1
  STANDARD_DEVIATION = 78.0551
END_OBJECT = IMAGE
/* MAP OBJECT DEFINITIONS */
OBJECT = IMAGE_MAP_PROJECTION
  ^DATA_SET_MAP_PROJECTION_CATALOG= "DSMAP.CAT"
  A_AXIS_RADIUS = 3396.0
  B_AXIS_RADIUS = 3396.0
  C_AXIS_RADIUS = 3396.0
  CENTER_LATITUDE = 0.0
  CENTER_LONGITUDE = 209.0
  COORDINATE_SYSTEM_NAME = PLANETOGRAPHIC
  COORDINATE_SYSTEM_TYPE = "BODY-FIXED ROTATING"
  EASTERNMOST_LONGITUDE = 210.924
  FIRST_STANDARD_PARALLEL = "N/A"
  LINE_FIRST_PIXEL = 1
  LINE_LAST_PIXEL = 14385
  LINE_PROJECTION_OFFSET = 73495.625
  MAP_PROJECTION_ROTATION = 0.0
  MAP_PROJECTION_TYPE = SINUSOIDAL
  MAP_RESOLUTION = 1185.42760773333
  MAP_SCALE = 0.05
  MAXIMUM_LATITUDE = 61.9511
  MINIMUM_LATITUDE = 49.9
  POSITIVE_LONGITUDE_DIRECTION = EAST
  REFERENCE_LATITUDE = "N/A"
  REFERENCE_LONGITUDE = "N/A"
  SAMPLE_FIRST_PIXEL = 1
  SAMPLE_LAST_PIXEL = 2858
  SAMPLE_PROJECTION_OFFSET = 1483.625
  SECOND_STANDARD_PARALLEL = "N/A"
  WESTERNMOST_LONGITUDE = 206.286
END_OBJECT = IMAGE_MAP_PROJECTION
END
