PDS_VERSION_ID = PDS3
/* FILE DATA ELEMENTS */
RECORD_TYPE = UNDEFINED
/* POINTERS TO DATA OBJECTS */
^IMAGE = ("HG477_0000_BL4.TIF")
/* IDENTIFICATION DATA ELEMENTS */
DATA_SET_ID = "MEX-M-HRSC-4-REFDR-MAPPROJECT-EXT6-V4.0"
DATA_SET_NAME = "MARS EXPRESS HRSC MAP PROJECTED REFDR EXTENSION6 V4.0"
DETECTOR_ID = MEX_HRSC_BLUE
EVENT_TYPE = "MARS-TERMINATOR-CALIBRATION-Tc"
INSTRUMENT_HOST_ID = MEX
INSTRUMENT_HOST_NAME = "MARS EXPRESS"
INSTRUMENT_ID = HRSC
INSTRUMENT_NAME = "HIGH RESOLUTION STEREO CAMERA"
MISSION_NAME = "MARS EXPRESS"
MISSION_PHASE_NAME = ME_Phase_36
PROCESSING_LEVEL_ID = 4
PRODUCT_CREATION_TIME = 2023-01-26T14:39:22.000Z
PRODUCT_ID = "HG477_0000_BL4.TIF"
RELEASE_ID = 0001
REVISION_ID = 0000
/* QUALITY DATA ELEMENTS */
DATA_QUALITY_ID = 1
DATA_QUALITY_DESC = "Data calculated based on original SPICE kernels"
/* TIME DATA ELEMENTS */
SPACECRAFT_CLOCK_START_COUNT = "1/0431500301.07293"
SPACECRAFT_CLOCK_STOP_COUNT = "1/0431500740.64838"
START_TIME = 2017-01-03T05:13:29.667Z
STOP_TIME = 2017-01-03T05:16:41.666Z
/* ORBITAL DATA ELEMENTS */
ASCENDING_NODE_LONGITUDE = 264.44
MAXIMUM_RESOLUTION = 0.8412
FOOTPRINT_POINT_LATITUDE = (-23.0476,-23.5742,-24.0961,-24.6134, -25.1262,-25.6348,-26.1392,-26.6396, -27.1364,-27.6298,-28.1202,-28.6076, -29.0922,-29.574,-30.0529,-30.5292, -31.0028,-31.9431,-32.8752,-33.7995, -34.7164,-35.6265,-36.53,-37.4276, -38.3198,-39.2072,-39.6493,-40.0904, -40.5305,-40.9695,-41.4076,-41.8447, -42.2809,-42.7163,-43.1511,-43.585, -44.018,-44.4498,-44.8803,-45.3095, -45.7375,-46.1641,-46.5896,-46.8018, -47.008,-48.2878,-50.0013,-51.1435, -51.1866,-51.2019,-50.5457,-50.1021, -49.6563,-49.2098,-48.761,-48.3076, -47.8543,-47.402,-46.9479,-46.4958, -46.0432,-45.5939,-45.1386,-44.6808, -44.2221,-43.7681,-43.3096,-42.8496, -42.3895,-41.9298,-41.4694,-41.0059, -40.5437,-40.077,-39.6126,-39.1439, -38.2071,-37.2668,-36.3166,-34.8715, -34.3894,-33.6576,-33.1677,-32.6769, -32.1854,-31.4459,-30.7005,-30.1995, -29.4425,-28.9325,-28.4197,-27.9029, -27.1206,-26.8573,-26.7624,-25.4317, -24.4309,-23.0959,-23.0587,-23.0476)
FOOTPRINT_POINT_LONGITUDE = (42.6138,43.2438,43.871,44.4958,45.1185 ,45.7395,46.3591,46.9779,47.596,48.214, 48.8323,49.4514,50.0715,50.6929,51.3157 ,51.9401,52.5666,53.8273,55.1008, 56.3894,57.6955,59.0216,60.3704,61.745, 63.1488,64.586,65.3185,66.0608,66.8135, 67.577,68.3518,69.1388,69.9389,70.7529, 71.5817,72.4258,73.2857,74.1618,75.0546 ,75.9652,76.8949,77.8447,78.8162, 79.3104,79.5813,79.7895,80.121,80.379, 80.3897,80.3933,78.7354,77.6542,76.6006 ,75.5736,74.5706,73.5893,72.6308, 71.6945,70.7785,69.8829,69.0058,68.1466 ,67.3027,66.474,65.6599,64.8592,64.0719 ,63.2972,62.5343,61.782,61.0401,60.3087 ,59.5854,58.8726,58.166,57.4693,56.0938 ,54.7414,53.4162,51.483,50.8425,49.9017 ,49.2788,48.6567,48.0323,47.0912,46.153 ,45.5322,44.5929,43.981,43.3578,42.7385 ,41.8029,41.4823,41.3721,41.8416, 42.1628,42.5851,42.5965,42.6138)
ORBIT_NUMBER = 16477
ORBITAL_ECCENTRICITY = 0.576
ORBITAL_INCLINATION = 86.93
ORBITAL_SEMIMAJOR_AXIS = 8846.47
PERIAPSIS_ALTITUDE = 354.91
PERIAPSIS_ARGUMENT_ANGLE = 19.05
PERIAPSIS_TIME = 2017-01-03T08:21:41.000Z
SPACECRAFT_ORIENTATION = (0.0,1.0,0.0)
^MEX_ORIENTATION_DESC = "MEX_ORIENTATION_DESC.TXT"
SPACECRAFT_POINTING_MODE = INERT
^MEX_POINTING_DESC = "MEX_POINTING_DESC.TXT"
RIGHT_ASCENSION = 313.845
DECLINATION = -12.232
OFFSET_ANGLE = -1e+32
SPACECRAFT_SOLAR_DISTANCE = 2.11095e+08
TARGET_NAME = MARS
/* CAMERA DATA ELEMENTS */
DETECTOR_TEMPERATURE = 18.5744
FOCAL_PLANE_TEMPERATURE = 9.3989
INST_CMPRS_NAME = "DISCRETE COSINE TRANSFORMATION (DCT)"
INST_CMPRS_RATIO = 3.2872
INST_CMPRS_QUALITY = 0
INST_CMPRS_QUANTZ_TBL_ID = 0
INSTRUMENT_TEMPERATURE = 12.0496
LENS_TEMPERATURE = 9.6028
MACROPIXEL_SIZE = 2
MISSING_FRAMES = 0
PIXEL_SUBSAMPLING_FLAG = N
SIGNAL_CHAIN_ID = 2
/* RADIOMETRIC DATA ELEMENTS */
BANDWIDTH = 76.0
CENTER_FILTER_WAVELENGTH = 444.0
RADIANCE_OFFSET = 0.172009
RADIANCE_SCALING_FACTOR = 0.00409379
REFLECTANCE_SCALING_FACTOR = 0.000187399
MEX:REFLECTANCE_OFFSET = 0.00787393
/* IMAGE OBJECT DEFINITIONS */
OBJECT = IMAGE
  INTERCHANGE_FORMAT = BINARY
  LINES = 1883
  LINE_SAMPLES = 2290
  SAMPLE_TYPE = UNSIGNED_INTEGER
  SAMPLE_BITS = 8
  BANDS = 1
  BAND_STORAGE_TYPE = BAND_SEQUENTIAL
  MAXIMUM = 233
  MEAN = 142.714
  MINIMUM = 51
  STANDARD_DEVIATION = 34.5901
END_OBJECT = IMAGE
/* MAP OBJECT DEFINITIONS */
OBJECT = IMAGE_MAP_PROJECTION
  ^DATA_SET_MAP_PROJECTION_CATALOG= "DSMAP.CAT"
  A_AXIS_RADIUS = 3396.0
  B_AXIS_RADIUS = 3396.0
  C_AXIS_RADIUS = 3396.0
  CENTER_LATITUDE = 0.0
  CENTER_LONGITUDE = 66.0
  COORDINATE_SYSTEM_NAME = PLANETOGRAPHIC
  COORDINATE_SYSTEM_TYPE = "BODY-FIXED ROTATING"
  EASTERNMOST_LONGITUDE = 80.3933
  FIRST_STANDARD_PARALLEL = "N/A"
  LINE_FIRST_PIXEL = 1
  LINE_LAST_PIXEL = 1883
  LINE_PROJECTION_OFFSET = -1189.75
  MAP_PROJECTION_ROTATION = 0.0
  MAP_PROJECTION_TYPE = SINUSOIDAL
  MAP_RESOLUTION = 74.08922548333329
  MAP_SCALE = 0.8
  MAXIMUM_LATITUDE = -23.0476
  MINIMUM_LATITUDE = -51.2019
  POSITIVE_LONGITUDE_DIRECTION = EAST
  REFERENCE_LATITUDE = "N/A"
  REFERENCE_LONGITUDE = "N/A"
  SAMPLE_FIRST_PIXEL = 1
  SAMPLE_LAST_PIXEL = 2290
  SAMPLE_PROJECTION_OFFSET = 1128.75
  SECOND_STANDARD_PARALLEL = "N/A"
  WESTERNMOST_LONGITUDE = 41.3721
END_OBJECT = IMAGE_MAP_PROJECTION
END
