PDS_VERSION_ID = PDS3
/* FILE DATA ELEMENTS */
RECORD_TYPE = UNDEFINED
/* POINTERS TO DATA OBJECTS */
^IMAGE = ("HG486_0000_GR4.TIF")
/* IDENTIFICATION DATA ELEMENTS */
DATA_SET_ID = "MEX-M-HRSC-4-REFDR-MAPPROJECT-EXT6-V4.0"
DATA_SET_NAME = "MARS EXPRESS HRSC MAP PROJECTED REFDR EXTENSION6 V4.0"
DETECTOR_ID = MEX_HRSC_GREEN
EVENT_TYPE = "MARS-TERMINATOR-CALIBRATION-Tc"
INSTRUMENT_HOST_ID = MEX
INSTRUMENT_HOST_NAME = "MARS EXPRESS"
INSTRUMENT_ID = HRSC
INSTRUMENT_NAME = "HIGH RESOLUTION STEREO CAMERA"
MISSION_NAME = "MARS EXPRESS"
MISSION_PHASE_NAME = ME_Phase_36
PROCESSING_LEVEL_ID = 4
PRODUCT_CREATION_TIME = 2023-01-26T14:39:22.000Z
PRODUCT_ID = "HG486_0000_GR4.TIF"
RELEASE_ID = 0001
REVISION_ID = 0000
/* QUALITY DATA ELEMENTS */
DATA_QUALITY_ID = 1
DATA_QUALITY_DESC = "Data calculated based on original SPICE kernels"
/* TIME DATA ELEMENTS */
SPACECRAFT_CLOCK_START_COUNT = "1/0431726964.08245"
SPACECRAFT_CLOCK_STOP_COUNT = "1/0431727403.64163"
START_TIME = 2017-01-05T20:11:56.770Z
STOP_TIME = 2017-01-05T20:15:07.671Z
/* ORBITAL DATA ELEMENTS */
ASCENDING_NODE_LONGITUDE = 264.27
MAXIMUM_RESOLUTION = 0.8303
FOOTPRINT_POINT_LATITUDE = (45.3081,39.1488,33.9699,30.3352,27.485 ,25.1684,23.2877,21.8119,20.7846, 20.3882,20.9157,21.9948,22.8907,22.473, 19.5724,17.0966,13.4648,10.2153,7.80973 ,5.78967,2.35763,-0.579442,-3.21525, -5.60735,-7.88659,-12.0746,-15.9302, -19.5808,-23.0905,-26.5128,-29.8854, -33.2414,-36.6118,-40.0311,-43.5481, -47.1783,-50.9829,-55.0281,-59.4045, -61.7584,-64.2671,-66.9482,-69.8912, -73.1048,-76.7141,-80.7466,-82.7622, -83.9034,-80.2937,-78.1424,-76.4423, -72.9261,-69.7232,-65.6661,-62.2467, -61.8414,-58.9419,-53.3458,-48.0712, -47.3052,-46.5979,-42.2535,-38.1291, -38.28,-38.9221,-39.0872,-39.0118, -38.8028,-38.1408,-37.281,-36.3006, -35.2397,-34.1224,-31.7772,-29.3354, -26.8262,-24.2627,-21.6463,-18.9766, -16.2361,-13.4245,-10.5209,-7.50093, -4.33488,-0.993367,2.57648,6.44178, 10.7373,13.0819,15.5171,18.3472,21.4743 ,25.0132,29.1972,31.7045,34.6798, 38.4344,44.6825,44.9703,45.3081)
FOOTPRINT_POINT_LONGITUDE = (249.87,249.401,250.991,253.18,255.673, 258.419,261.432,264.793,268.652,273.367 ,278.158,281.844,283.921,282.814, 284.556,286.12,283.526,279.476,276.783, 274.687,271.399,268.817,266.646,264.809 ,263.099,260.153,257.633,255.362, 253.276,251.306,249.405,247.548,245.698 ,243.83,241.918,239.88,237.663,235.159, 232.173,230.39,228.309,225.776,222.513, 217.941,210.56,195.146,178.008,143.13, 90.8329,97.7484,109.275,108.404,114.345 ,122.695,120.294,131.669,137.511, 139.198,134.81,133.425,131.203,137.101, 138.075,146.136,152.388,157.079,160.835 ,164.075,169.51,174.054,177.946,181.386 ,184.468,189.775,194.243,198.133, 201.558,204.638,207.459,210.051,212.488 ,214.795,217.001,219.139,221.241, 223.337,225.465,227.678,228.839,230.047 ,231.348,232.762,234.341,236.191, 237.293,238.602,240.28,243.167,247.52, 249.87)
ORBIT_NUMBER = 16486
ORBITAL_ECCENTRICITY = 0.576
ORBITAL_INCLINATION = 86.92
ORBITAL_SEMIMAJOR_AXIS = 8850.0
PERIAPSIS_ALTITUDE = 354.31
PERIAPSIS_ARGUMENT_ANGLE = 17.5
PERIAPSIS_TIME = 2017-01-05T23:19:27.000Z
SPACECRAFT_ORIENTATION = (0.0,1.0,0.0)
^MEX_ORIENTATION_DESC = "MEX_ORIENTATION_DESC.TXT"
SPACECRAFT_POINTING_MODE = INERT
^MEX_POINTING_DESC = "MEX_POINTING_DESC.TXT"
RIGHT_ASCENSION = 313.523
DECLINATION = -13.787
OFFSET_ANGLE = -1e+32
SPACECRAFT_SOLAR_DISTANCE = 2.11438e+08
TARGET_NAME = MARS
/* CAMERA DATA ELEMENTS */
DETECTOR_TEMPERATURE = 18.3705
FOCAL_PLANE_TEMPERATURE = 8.7872
INST_CMPRS_NAME = "DISCRETE COSINE TRANSFORMATION (DCT)"
INST_CMPRS_RATIO = 8.97311
INST_CMPRS_QUALITY = 0
INST_CMPRS_QUANTZ_TBL_ID = 0
INSTRUMENT_TEMPERATURE = 11.234
LENS_TEMPERATURE = 8.9911
MACROPIXEL_SIZE = 2
MISSING_FRAMES = 0
PIXEL_SUBSAMPLING_FLAG = N
SIGNAL_CHAIN_ID = 2
/* RADIOMETRIC DATA ELEMENTS */
BANDWIDTH = 88.0
CENTER_FILTER_WAVELENGTH = 538.0
RADIANCE_OFFSET = 0.0
RADIANCE_SCALING_FACTOR = 0.00985415
REFLECTANCE_SCALING_FACTOR = 0.000379231
MEX:REFLECTANCE_OFFSET = 0.0
/* IMAGE OBJECT DEFINITIONS */
OBJECT = IMAGE
  INTERCHANGE_FORMAT = BINARY
  LINES = 9910
  LINE_SAMPLES = 9940
  SAMPLE_TYPE = UNSIGNED_INTEGER
  SAMPLE_BITS = 8
  BANDS = 1
  BAND_STORAGE_TYPE = BAND_SEQUENTIAL
  MAXIMUM = 255
  MEAN = 159.053
  MINIMUM = 1
  STANDARD_DEVIATION = 89.0849
END_OBJECT = IMAGE
/* MAP OBJECT DEFINITIONS */
OBJECT = IMAGE_MAP_PROJECTION
  ^DATA_SET_MAP_PROJECTION_CATALOG= "DSMAP.CAT"
  A_AXIS_RADIUS = 3396.0
  B_AXIS_RADIUS = 3396.0
  C_AXIS_RADIUS = 3396.0
  CENTER_LATITUDE = 0.0
  CENTER_LONGITUDE = 227.0
  COORDINATE_SYSTEM_NAME = PLANETOGRAPHIC
  COORDINATE_SYSTEM_TYPE = "BODY-FIXED ROTATING"
  EASTERNMOST_LONGITUDE = 286.12
  FIRST_STANDARD_PARALLEL = "N/A"
  LINE_FIRST_PIXEL = 1
  LINE_LAST_PIXEL = 9910
  LINE_PROJECTION_OFFSET = 3702.25
  MAP_PROJECTION_ROTATION = 0.0
  MAP_PROJECTION_TYPE = SINUSOIDAL
  MAP_RESOLUTION = 74.08922548333329
  MAP_SCALE = 0.8
  MAXIMUM_LATITUDE = 45.3081
  MINIMUM_LATITUDE = -83.9034
  POSITIVE_LONGITUDE_DIRECTION = EAST
  REFERENCE_LATITUDE = "N/A"
  REFERENCE_LONGITUDE = "N/A"
  SAMPLE_FIRST_PIXEL = 1
  SAMPLE_LAST_PIXEL = 9940
  SAMPLE_PROJECTION_OFFSET = 5473.75
  SECOND_STANDARD_PARALLEL = "N/A"
  WESTERNMOST_LONGITUDE = 90.8329
END_OBJECT = IMAGE_MAP_PROJECTION
END
