PDS_VERSION_ID = PDS3
/* FILE DATA ELEMENTS */
RECORD_TYPE = UNDEFINED
/* POINTERS TO DATA OBJECTS */
^IMAGE = ("HG491_0000_BL4.TIF")
/* IDENTIFICATION DATA ELEMENTS */
DATA_SET_ID = "MEX-M-HRSC-4-REFDR-MAPPROJECT-EXT6-V4.0"
DATA_SET_NAME = "MARS EXPRESS HRSC MAP PROJECTED REFDR EXTENSION6 V4.0"
DETECTOR_ID = MEX_HRSC_BLUE
EVENT_TYPE = "MARS-TERMINATOR-CALIBRATION-Tc"
INSTRUMENT_HOST_ID = MEX
INSTRUMENT_HOST_NAME = "MARS EXPRESS"
INSTRUMENT_ID = HRSC
INSTRUMENT_NAME = "HIGH RESOLUTION STEREO CAMERA"
MISSION_NAME = "MARS EXPRESS"
MISSION_PHASE_NAME = ME_Phase_36
PROCESSING_LEVEL_ID = 4
PRODUCT_CREATION_TIME = 2023-01-26T14:39:22.000Z
PRODUCT_ID = "HG491_0000_BL4.TIF"
RELEASE_ID = 0001
REVISION_ID = 0000
/* QUALITY DATA ELEMENTS */
DATA_QUALITY_ID = 1
DATA_QUALITY_DESC = "Data calculated based on original SPICE kernels"
/* TIME DATA ELEMENTS */
SPACECRAFT_CLOCK_START_COUNT = "1/0431852884.08236"
SPACECRAFT_CLOCK_STOP_COUNT = "1/0431853323.64129"
START_TIME = 2017-01-07T07:09:52.737Z
STOP_TIME = 2017-01-07T07:13:04.747Z
/* ORBITAL DATA ELEMENTS */
ASCENDING_NODE_LONGITUDE = 264.18
MAXIMUM_RESOLUTION = 0.8306
FOOTPRINT_POINT_LATITUDE = (46.5564,43.3368,39.4282,36.6122, 32.3508,29.0665,26.3805,24.1299,22.2425 ,20.6923,19.4971,18.7446,18.7213, 19.3123,20.0292,20.6961,20.8171,18.922, 14.647,11.3463,8.92061,6.88646,3.43075, 0.514951,-2.10373,-4.51722,-6.77781, -10.959,-14.8247,-18.4803,-21.9946, -25.4173,-28.7918,-32.154,-35.5318, -38.964,-42.4821,-46.128,-49.9423, -53.9432,-58.3136,-60.65,-63.1593, -65.8447,-68.7594,-71.9444,-75.5369, -79.6427,-81.6589,-82.9604,-80.5207, -77.7725,-75.1724,-72.0514,-68.1995, -62.8734,-59.6425,-59.0496,-55.5797, -50.4012,-49.587,-49.4861,-42.9017, -39.3253,-36.5295,-37.7699,-37.9882, -37.9441,-37.7365,-37.0553,-36.1682, -35.1606,-34.0731,-32.9334,-30.5466, -28.07,-25.5303,-22.9401,-20.2987, -17.603,-14.8445,-12.0087,-9.08057, -6.03987,-2.83039,0.540361,4.15976, 8.10086,12.504,14.9497,17.5795,20.418, 23.6194,27.3494,31.9636,34.8087,38.37, 43.7209,46.7194,46.5564)
FOOTPRINT_POINT_LONGITUDE = (455.648,455.201,455.548,456.334, 458.356,460.674,463.195,465.911,468.848 ,472.064,475.67,479.877,485.236,488.93, 491.497,493.307,493.001,496.34,492.538, 488.256,485.441,483.256,479.832,477.208 ,475.005,473.082,471.36,468.356,465.753 ,463.412,461.251,459.219,457.276, 455.374,453.47,451.546,449.553,447.44, 445.128,442.484,439.356,437.485,435.307 ,432.662,429.272,424.581,417.156, 401.997,386.252,354.57,312.996,314.605, 319.937,323.986,328.551,334.719,332.784 ,340.237,344.773,341.271,339.642, 339.957,344.609,347.975,350.736,359.628 ,364.633,368.75,372.159,377.768,382.431 ,386.346,389.823,392.89,398.208,402.665 ,406.543,409.972,413.047,415.859, 418.464,420.902,423.214,425.432,427.578 ,429.699,431.816,433.975,436.233, 437.427,438.686,440.028,441.5,443.177, 445.217,446.478,448.071,450.529,454.899 ,455.648)
ORBIT_NUMBER = 16491
ORBITAL_ECCENTRICITY = 0.577
ORBITAL_INCLINATION = 86.93
ORBITAL_SEMIMAJOR_AXIS = 8851.35
PERIAPSIS_ALTITUDE = 353.41
PERIAPSIS_ARGUMENT_ANGLE = 16.63
PERIAPSIS_TIME = 2017-01-07T10:18:03.000Z
SPACECRAFT_ORIENTATION = (0.0,1.0,0.0)
^MEX_ORIENTATION_DESC = "MEX_ORIENTATION_DESC.TXT"
SPACECRAFT_POINTING_MODE = INERT
^MEX_POINTING_DESC = "MEX_POINTING_DESC.TXT"
RIGHT_ASCENSION = 313.332
DECLINATION = -14.632
OFFSET_ANGLE = -1e+32
SPACECRAFT_SOLAR_DISTANCE = 2.11634e+08
TARGET_NAME = MARS
/* CAMERA DATA ELEMENTS */
DETECTOR_TEMPERATURE = 18.3705
FOCAL_PLANE_TEMPERATURE = 8.9911
INST_CMPRS_NAME = "DISCRETE COSINE TRANSFORMATION (DCT)"
INST_CMPRS_RATIO = 4.38776
INST_CMPRS_QUALITY = 0
INST_CMPRS_QUANTZ_TBL_ID = 0
INSTRUMENT_TEMPERATURE = 12.0496
LENS_TEMPERATURE = 9.3989
MACROPIXEL_SIZE = 2
MISSING_FRAMES = 0
PIXEL_SUBSAMPLING_FLAG = N
SIGNAL_CHAIN_ID = 2
/* RADIOMETRIC DATA ELEMENTS */
BANDWIDTH = 76.0
CENTER_FILTER_WAVELENGTH = 444.0
RADIANCE_OFFSET = 0.0
RADIANCE_SCALING_FACTOR = 0.00412071
REFLECTANCE_SCALING_FACTOR = 0.000189594
MEX:REFLECTANCE_OFFSET = 0.0
/* IMAGE OBJECT DEFINITIONS */
OBJECT = IMAGE
  INTERCHANGE_FORMAT = BINARY
  LINES = 9939
  LINE_SAMPLES = 9939
  SAMPLE_TYPE = UNSIGNED_INTEGER
  SAMPLE_BITS = 8
  BANDS = 1
  BAND_STORAGE_TYPE = BAND_SEQUENTIAL
  MAXIMUM = 255
  MEAN = 167.958
  MINIMUM = 1
  STANDARD_DEVIATION = 90.8225
END_OBJECT = IMAGE
/* MAP OBJECT DEFINITIONS */
OBJECT = IMAGE_MAP_PROJECTION
  ^DATA_SET_MAP_PROJECTION_CATALOG= "DSMAP.CAT"
  A_AXIS_RADIUS = 3396.0
  B_AXIS_RADIUS = 3396.0
  C_AXIS_RADIUS = 3396.0
  CENTER_LATITUDE = 0.0
  CENTER_LONGITUDE = 75.0
  COORDINATE_SYSTEM_NAME = PLANETOGRAPHIC
  COORDINATE_SYSTEM_TYPE = "BODY-FIXED ROTATING"
  EASTERNMOST_LONGITUDE = 136.34
  FIRST_STANDARD_PARALLEL = "N/A"
  LINE_FIRST_PIXEL = 1
  LINE_LAST_PIXEL = 9939
  LINE_PROJECTION_OFFSET = 3754.75
  MAP_PROJECTION_ROTATION = 0.0
  MAP_PROJECTION_TYPE = SINUSOIDAL
  MAP_RESOLUTION = 74.08922548333329
  MAP_SCALE = 0.8
  MAXIMUM_LATITUDE = 46.7194
  MINIMUM_LATITUDE = -82.96040000000001
  POSITIVE_LONGITUDE_DIRECTION = EAST
  REFERENCE_LATITUDE = "N/A"
  REFERENCE_LONGITUDE = "N/A"
  SAMPLE_FIRST_PIXEL = 1
  SAMPLE_LAST_PIXEL = 9939
  SAMPLE_PROJECTION_OFFSET = 5412.25
  SECOND_STANDARD_PARALLEL = "N/A"
  WESTERNMOST_LONGITUDE = -47.004
END_OBJECT = IMAGE_MAP_PROJECTION
END
