PDS_VERSION_ID = PDS3
/* FILE DATA ELEMENTS */
RECORD_TYPE = UNDEFINED
/* POINTERS TO DATA OBJECTS */
^IMAGE = ("HG505_0000_RE4.TIF")
/* IDENTIFICATION DATA ELEMENTS */
DATA_SET_ID = "MEX-M-HRSC-4-REFDR-MAPPROJECT-EXT6-V4.0"
DATA_SET_NAME = "MARS EXPRESS HRSC MAP PROJECTED REFDR EXTENSION6 V4.0"
DETECTOR_ID = MEX_HRSC_RED
EVENT_TYPE = "MARS-TERMINATOR-CALIBRATION-Tc"
INSTRUMENT_HOST_ID = MEX
INSTRUMENT_HOST_NAME = "MARS EXPRESS"
INSTRUMENT_ID = HRSC
INSTRUMENT_NAME = "HIGH RESOLUTION STEREO CAMERA"
MISSION_NAME = "MARS EXPRESS"
MISSION_PHASE_NAME = ME_Phase_36
PROCESSING_LEVEL_ID = 4
PRODUCT_CREATION_TIME = 2023-01-26T14:39:22.000Z
PRODUCT_ID = "HG505_0000_RE4.TIF"
RELEASE_ID = 0001
REVISION_ID = 0000
/* QUALITY DATA ELEMENTS */
DATA_QUALITY_ID = 1
DATA_QUALITY_DESC = "Data calculated based on original SPICE kernels"
/* TIME DATA ELEMENTS */
SPACECRAFT_CLOCK_START_COUNT = "1/0432229408.08254"
SPACECRAFT_CLOCK_STOP_COUNT = "1/0432229847.02663"
START_TIME = 2017-01-11T15:43:55.796Z
STOP_TIME = 2017-01-11T15:47:05.681Z
/* ORBITAL DATA ELEMENTS */
ASCENDING_NODE_LONGITUDE = 263.92
MAXIMUM_RESOLUTION = 0.8426
FOOTPRINT_POINT_LATITUDE = (41.8852,41.966,40.9647,37.4434,34.3274 ,30.7572,27.1381,22.8652,20.5158, 18.8424,16.1855,14.2097,12.4966,9.52725 ,6.95181,2.99686,0.931673,-1.49832, -5.15464,-9.22415,-11.7931,-14.0035, -17.7485,-21.0581,-24.4592,-26.6076, -29.3781,-32.0994,-35.4149,-40.0937, -43.2088,-47.0271,-49.6674,-53.9826, -56.5248,-59.22,-62.0563,-65.6547, -69.6293,-71.9939,-74.6788,-76.1908, -77.8231,-78.6569,-76.7214,-73.6543, -70.7752,-65.3047,-61.5584,-58.101, -56.363,-52.1016,-48.6228,-44.8708, -40.0572,-35.5927,-33.1958,-33.3422, -33.2228,-32.6281,-31.4197,-30.1653, -29.2,-27.466,-25.8923,-24.6424, -22.6429,-19.8172,-17.6598,-14.0032, -11.5773,-7.50197,-4.0275,-1.36149, 1.48653,4.05063,8.25305,12.6767,15.6047 ,18.4776,21.164,23.6234,26.1423,28.7076 ,32.3715,35.0294,39.1864,44.2982, 48.1127,50.7561,54.8861,57.9771,54.9849 ,53.4212,52.1596,50.2931,48.0885, 46.4764,45.1763,41.8852)
FOOTPRINT_POINT_LONGITUDE = (400.449,400.649,400.821,403.914, 404.944,405.922,410.384,412.049,409.09, 405.55,400.762,397.665,395.201,391.318, 388.283,384.092,382.073,379.834,376.663 ,373.384,371.42,369.786,367.116,364.837 ,362.546,361.114,359.295,357.511, 355.328,352.19,350.026,347.253,345.222, 341.618,339.274,336.484,333.203,328.182 ,320.837,314.947,305.57,297.918,285.132 ,273.137,257.455,259.702,255.701, 260.438,258.265,259.274,259.312,258.956 ,259.293,261.335,262.409,261.874, 266.961,271.1,276.187,282.368,288.937, 293.659,296.578,301.06,304.447,306.864, 310.32,314.555,317.41,321.685,324.217, 328.046,331.009,333.138,335.265,337.088 ,339.91,342.716,344.49,346.195,347.761, 349.177,350.609,352.069,354.159,355.691 ,358.153,361.344,363.911,365.824, 369.135,371.94,373.224,380.06,383.819, 386.61,389.962,394.552,396.653,400.449)
ORBIT_NUMBER = 16505
ORBITAL_ECCENTRICITY = 0.577
ORBITAL_INCLINATION = 86.93
ORBITAL_SEMIMAJOR_AXIS = 8857.02
PERIAPSIS_ALTITUDE = 351.61
PERIAPSIS_ARGUMENT_ANGLE = 14.18
PERIAPSIS_TIME = 2017-01-11T12:13:52.000Z
SPACECRAFT_ORIENTATION = (0.0,1.0,0.0)
^MEX_ORIENTATION_DESC = "MEX_ORIENTATION_DESC.TXT"
SPACECRAFT_POINTING_MODE = INERT
^MEX_POINTING_DESC = "MEX_POINTING_DESC.TXT"
RIGHT_ASCENSION = 312.07
DECLINATION = -22.917
OFFSET_ANGLE = -1e+32
SPACECRAFT_SOLAR_DISTANCE = 2.12197e+08
TARGET_NAME = MARS
/* CAMERA DATA ELEMENTS */
DETECTOR_TEMPERATURE = 18.9822
FOCAL_PLANE_TEMPERATURE = 7.9716
INST_CMPRS_NAME = "DISCRETE COSINE TRANSFORMATION (DCT)"
INST_CMPRS_RATIO = 10.9185
INST_CMPRS_QUALITY = 0
INST_CMPRS_QUANTZ_TBL_ID = 0
INSTRUMENT_TEMPERATURE = 11.4379
LENS_TEMPERATURE = 8.5833
MACROPIXEL_SIZE = 2
MISSING_FRAMES = 0
PIXEL_SUBSAMPLING_FLAG = N
SIGNAL_CHAIN_ID = 1
/* RADIOMETRIC DATA ELEMENTS */
BANDWIDTH = 48.0
CENTER_FILTER_WAVELENGTH = 748.0
RADIANCE_OFFSET = 0.0
RADIANCE_SCALING_FACTOR = 0.00630694
REFLECTANCE_SCALING_FACTOR = 0.000648201
MEX:REFLECTANCE_OFFSET = 0.0
/* IMAGE OBJECT DEFINITIONS */
OBJECT = IMAGE
  INTERCHANGE_FORMAT = BINARY
  LINES = 10303
  LINE_SAMPLES = 9950
  SAMPLE_TYPE = UNSIGNED_INTEGER
  SAMPLE_BITS = 8
  BANDS = 1
  BAND_STORAGE_TYPE = BAND_SEQUENTIAL
  MAXIMUM = 255
  MEAN = 138.986
  MINIMUM = 1
  STANDARD_DEVIATION = 95.2707
END_OBJECT = IMAGE
/* MAP OBJECT DEFINITIONS */
OBJECT = IMAGE_MAP_PROJECTION
  ^DATA_SET_MAP_PROJECTION_CATALOG= "DSMAP.CAT"
  A_AXIS_RADIUS = 3396.0
  B_AXIS_RADIUS = 3396.0
  C_AXIS_RADIUS = 3396.0
  CENTER_LATITUDE = 0.0
  CENTER_LONGITUDE = 346.0
  COORDINATE_SYSTEM_NAME = PLANETOGRAPHIC
  COORDINATE_SYSTEM_TYPE = "BODY-FIXED ROTATING"
  EASTERNMOST_LONGITUDE = 52.049
  FIRST_STANDARD_PARALLEL = "N/A"
  LINE_FIRST_PIXEL = 1
  LINE_LAST_PIXEL = 10303
  LINE_PROJECTION_OFFSET = 4274.75
  MAP_PROJECTION_ROTATION = 0.0
  MAP_PROJECTION_TYPE = SINUSOIDAL
  MAP_RESOLUTION = 74.08922548333329
  MAP_SCALE = 0.8
  MAXIMUM_LATITUDE = 57.9771
  MINIMUM_LATITUDE = -78.65689999999999
  POSITIVE_LONGITUDE_DIRECTION = EAST
  REFERENCE_LATITUDE = "N/A"
  REFERENCE_LONGITUDE = "N/A"
  SAMPLE_FIRST_PIXEL = 1
  SAMPLE_LAST_PIXEL = 9950
  SAMPLE_PROJECTION_OFFSET = 5263.25
  SECOND_STANDARD_PARALLEL = "N/A"
  WESTERNMOST_LONGITUDE = -104.299
END_OBJECT = IMAGE_MAP_PROJECTION
END
