PDS_VERSION_ID = PDS3
/* FILE DATA ELEMENTS */
RECORD_TYPE = UNDEFINED
/* POINTERS TO DATA OBJECTS */
^IMAGE = ("HG550_0000_ND4.TIF")
/* IDENTIFICATION DATA ELEMENTS */
DATA_SET_ID = "MEX-M-HRSC-4-REFDR-MAPPROJECT-EXT6-V4.0"
DATA_SET_NAME = "MARS EXPRESS HRSC MAP PROJECTED REFDR EXTENSION6 V4.0"
DETECTOR_ID = MEX_HRSC_NADIR
EVENT_TYPE = "MARS-TERMINATOR-PHOTOMETRY-Tc-At-Sh"
INSTRUMENT_HOST_ID = MEX
INSTRUMENT_HOST_NAME = "MARS EXPRESS"
INSTRUMENT_ID = HRSC
INSTRUMENT_NAME = "HIGH RESOLUTION STEREO CAMERA"
MISSION_NAME = "MARS EXPRESS"
MISSION_PHASE_NAME = ME_Phase_36
PROCESSING_LEVEL_ID = 4
PRODUCT_CREATION_TIME = 2023-01-26T14:39:22.000Z
PRODUCT_ID = "HG550_0000_ND4.TIF"
RELEASE_ID = 0001
REVISION_ID = 0000
/* QUALITY DATA ELEMENTS */
DATA_QUALITY_ID = 1
DATA_QUALITY_DESC = "Data calculated based on original SPICE kernels"
/* TIME DATA ELEMENTS */
SPACECRAFT_CLOCK_START_COUNT = "1/0433349646.09046"
SPACECRAFT_CLOCK_STOP_COUNT = "1/0433349841.57544"
START_TIME = 2017-01-24T14:55:00.819Z
STOP_TIME = 2017-01-24T14:56:51.819Z
/* ORBITAL DATA ELEMENTS */
ASCENDING_NODE_LONGITUDE = 263.06
MAXIMUM_RESOLUTION = 0.0157
FOOTPRINT_POINT_LATITUDE = (-15.9505,-15.9517,-15.9526,-15.9532, -15.9535,-15.9535,-15.953,-15.9529, -15.9529,-15.8079,-15.6628,-15.5175, -15.2995,-15.1541,-15.012,-14.7943, -14.6519,-14.5094,-14.3668,-14.2241, -14.0819,-13.9425,-13.8031,-13.6635, -13.5238,-13.314,-13.174,-13.0339, -12.8947,-12.7581,-12.6214,-12.4847, -12.2792,-12.142,-12.0049,-11.8677, -11.5963,-11.3954,-11.1273,-10.8589, -10.5232,-10.2544,-9.98526,-9.85076, -9.58108,-9.44613,-9.31112,-9.17607, -9.10851,-9.04144,-9.04067,-9.03988, -9.03905,-9.03823,-9.03699,-9.03557, -9.03451,-9.03442,-9.03463,-9.23742, -9.37252,-9.50755,-9.64253,-9.77745, -9.91228,-10.1818,-10.451,-10.7199, -10.988,-11.3901,-11.6581,-11.7943, -11.9316,-12.0688,-12.206,-12.3433, -12.5489,-12.7539,-12.8906,-13.0998, -13.2398,-13.3798,-13.5198,-13.6596, -13.7996,-13.9392,-14.0787,-14.221, -14.3638,-14.5065,-14.6491,-14.7916, -15.0095,-15.1518,-15.2973,-15.5155, -15.6609,-15.8061,-15.8787,-15.9505)
FOOTPRINT_POINT_LONGITUDE = (292.689,292.431,292.171,291.908, 291.642,291.373,291.033,291.016,291.019 ,291.022,291.025,291.027,291.031, 291.034,291.036,291.04,291.043,291.045, 291.047,291.049,291.051,291.053,291.056 ,291.058,291.06,291.053,291.052,291.045 ,291.037,291.039,291.044,291.05,291.047 ,291.04,291.04,291.042,291.056,291.052, 291.054,291.054,291.066,291.082,291.091 ,291.107,291.11,291.11,291.112,291.114, 291.115,291.116,291.348,291.549,291.734 ,291.903,292.125,292.36,292.523,292.537 ,292.544,292.548,292.55,292.553,292.555 ,292.558,292.561,292.566,292.571, 292.576,292.577,292.583,292.589,292.591 ,292.595,292.597,292.6,292.605,292.612, 292.614,292.617,292.621,292.624,292.628 ,292.632,292.636,292.641,292.645, 292.648,292.651,292.654,292.657,292.66, 292.664,292.669,292.672,292.675,292.68, 292.684,292.687,292.689,292.689)
ORBIT_NUMBER = 16550
ORBITAL_ECCENTRICITY = 0.578
ORBITAL_INCLINATION = 86.92
ORBITAL_SEMIMAJOR_AXIS = 8860.89
PERIAPSIS_ALTITUDE = 346.77
PERIAPSIS_ARGUMENT_ANGLE = 6.41
PERIAPSIS_TIME = 2017-01-24T15:00:52.000Z
SPACECRAFT_ORIENTATION = (0.0,1.0,0.0)
^MEX_ORIENTATION_DESC = "MEX_ORIENTATION_DESC.TXT"
SPACECRAFT_POINTING_MODE = ACROSSTRACK
^MEX_POINTING_DESC = "MEX_POINTING_DESC.TXT"
RIGHT_ASCENSION = -1e+32
DECLINATION = -1e+32
OFFSET_ANGLE = 1.0
SPACECRAFT_SOLAR_DISTANCE = 2.14164e+08
TARGET_NAME = MARS
/* CAMERA DATA ELEMENTS */
DETECTOR_TEMPERATURE = 18.5744
FOCAL_PLANE_TEMPERATURE = 8.5833
INST_CMPRS_NAME = "DISCRETE COSINE TRANSFORMATION (DCT)"
INST_CMPRS_RATIO = 5.89792
INST_CMPRS_QUALITY = 0
INST_CMPRS_QUANTZ_TBL_ID = 0
INSTRUMENT_TEMPERATURE = 11.8457
LENS_TEMPERATURE = 9.6028
MACROPIXEL_SIZE = 1
MISSING_FRAMES = 2
PIXEL_SUBSAMPLING_FLAG = N
SIGNAL_CHAIN_ID = 0
/* RADIOMETRIC DATA ELEMENTS */
BANDWIDTH = 177.0
CENTER_FILTER_WAVELENGTH = 677.5
RADIANCE_OFFSET = 0.603886
RADIANCE_SCALING_FACTOR = 0.0051007
REFLECTANCE_SCALING_FACTOR = 0.000124282
MEX:REFLECTANCE_OFFSET = 0.0147141
/* IMAGE OBJECT DEFINITIONS */
OBJECT = IMAGE
  INTERCHANGE_FORMAT = BINARY
  LINES = 32810
  LINE_SAMPLES = 7623
  SAMPLE_TYPE = UNSIGNED_INTEGER
  SAMPLE_BITS = 8
  BANDS = 1
  BAND_STORAGE_TYPE = BAND_SEQUENTIAL
  MAXIMUM = 255
  MEAN = 67.639
  MINIMUM = 1
  STANDARD_DEVIATION = 29.6203
END_OBJECT = IMAGE
/* MAP OBJECT DEFINITIONS */
OBJECT = IMAGE_MAP_PROJECTION
  ^DATA_SET_MAP_PROJECTION_CATALOG= "DSMAP.CAT"
  A_AXIS_RADIUS = 3396.0
  B_AXIS_RADIUS = 3396.0
  C_AXIS_RADIUS = 3396.0
  CENTER_LATITUDE = 0.0
  CENTER_LONGITUDE = 292.0
  COORDINATE_SYSTEM_NAME = PLANETOGRAPHIC
  COORDINATE_SYSTEM_TYPE = "BODY-FIXED ROTATING"
  EASTERNMOST_LONGITUDE = 292.689
  FIRST_STANDARD_PARALLEL = "N/A"
  LINE_FIRST_PIXEL = 1
  LINE_LAST_PIXEL = 32810
  LINE_PROJECTION_OFFSET = -42840.0
  MAP_PROJECTION_ROTATION = 0.0
  MAP_PROJECTION_TYPE = SINUSOIDAL
  MAP_RESOLUTION = 4741.71043093333
  MAP_SCALE = 0.0125
  MAXIMUM_LATITUDE = -9.034420000000001
  MINIMUM_LATITUDE = -15.9535
  POSITIVE_LONGITUDE_DIRECTION = EAST
  REFERENCE_LATITUDE = "N/A"
  REFERENCE_LONGITUDE = "N/A"
  SAMPLE_FIRST_PIXEL = 1
  SAMPLE_LAST_PIXEL = 7623
  SAMPLE_PROJECTION_OFFSET = 4473.0
  SECOND_STANDARD_PARALLEL = "N/A"
  WESTERNMOST_LONGITUDE = 291.016
END_OBJECT = IMAGE_MAP_PROJECTION
END
