PDS_VERSION_ID = PDS3
/* FILE DATA ELEMENTS */
RECORD_TYPE = UNDEFINED
/* POINTERS TO DATA OBJECTS */
^IMAGE = ("HG559_0000_S14.TIF")
/* IDENTIFICATION DATA ELEMENTS */
DATA_SET_ID = "MEX-M-HRSC-4-REFDR-MAPPROJECT-EXT6-V4.0"
DATA_SET_NAME = "MARS EXPRESS HRSC MAP PROJECTED REFDR EXTENSION6 V4.0"
DETECTOR_ID = MEX_HRSC_S1
EVENT_TYPE = "MARS-REGIONAL-STEREO-Vo-Fl"
INSTRUMENT_HOST_ID = MEX
INSTRUMENT_HOST_NAME = "MARS EXPRESS"
INSTRUMENT_ID = HRSC
INSTRUMENT_NAME = "HIGH RESOLUTION STEREO CAMERA"
MISSION_NAME = "MARS EXPRESS"
MISSION_PHASE_NAME = ME_Phase_36
PROCESSING_LEVEL_ID = 4
PRODUCT_CREATION_TIME = 2023-01-26T14:39:22.000Z
PRODUCT_ID = "HG559_0000_S14.TIF"
RELEASE_ID = 0001
REVISION_ID = 0000
/* QUALITY DATA ELEMENTS */
DATA_QUALITY_ID = 1
DATA_QUALITY_DESC = "Data calculated based on original SPICE kernels"
/* TIME DATA ELEMENTS */
SPACECRAFT_CLOCK_START_COUNT = "1/0433575884.08242"
SPACECRAFT_CLOCK_STOP_COUNT = "1/0433576235.48820"
START_TIME = 2017-01-27T05:47:48.340Z
STOP_TIME = 2017-01-27T05:50:41.444Z
/* ORBITAL DATA ELEMENTS */
ASCENDING_NODE_LONGITUDE = 262.9
MAXIMUM_RESOLUTION = 0.0226
FOOTPRINT_POINT_LATITUDE = (-38.1311,-38.1243,-38.1175,-38.1099, -38.1014,-38.0919,-38.0815,-38.0808, -38.1536,-37.9164,-37.6785,-37.3211, -37.0825,-36.7273,-36.3742,-36.1468, -35.9127,-35.5644,-35.2259,-34.8832, -34.6545,-34.4234,-34.1995,-33.9772, -33.7567,-33.5367,-33.3167,-33.0996, -32.8827,-32.6663,-32.4525,-32.2372, -32.023,-31.8113,-31.6005,-31.3901, -31.1833,-30.9747,-30.6635,-30.4589, -30.2542,-30.049,-29.7477,-29.5468, -29.1464,-28.7507,-28.453,-27.8744, -27.4901,-27.3944,-27.3761,-27.3788, -27.3767,-27.385,-27.4016,-27.4103, -27.4103,-27.4109,-27.7991,-28.0922, -28.3848,-28.7778,-29.2739,-29.8743, -30.1805,-30.3847,-30.5882,-30.7926, -31.0001,-31.2163,-31.4237,-31.6281, -31.8395,-32.0507,-32.2642,-32.4792, -32.6938,-33.0194,-33.2359,-33.451, -33.6702,-33.8943,-34.1237,-34.3352, -34.5579,-34.7831,-35.0097,-35.2355, -35.4647,-35.8149,-36.1633,-36.3956, -36.6312,-36.9818,-37.2231,-37.4609, -37.6957,-38.0506,-38.1836,-38.1311)
FOOTPRINT_POINT_LONGITUDE = (94.6228,94.01,93.5234,93.0395,92.559, 92.0804,91.6038,91.5741,91.5475,91.5605 ,91.5734,91.5923,91.6046,91.6226,91.64, 91.6505,91.6618,91.6783,91.6924,91.7079 ,91.718,91.7285,91.7379,91.747,91.7559, 91.7647,91.7733,91.7817,91.7899,91.798, 91.8058,91.8136,91.8213,91.8287,91.836, 91.843,91.8498,91.8567,91.8667,91.8731, 91.8794,91.8857,91.8946,91.9004,91.9117 ,91.9226,91.9307,91.9452,91.9547,91.957 ,91.9575,92.494,92.8244,93.2417,93.541, 94.0514,94.0726,94.0831,94.1039,94.118, 94.1317,94.1504,94.1745,94.202,94.2183, 94.2281,94.2376,94.2477,94.2579,94.2738 ,94.2843,94.2913,94.3024,94.3137, 94.3252,94.337,94.3488,94.3669,94.3782, 94.3885,94.3998,94.4144,94.4321,94.4368 ,94.449,94.4616,94.4746,94.4873,94.5004 ,94.5206,94.5412,94.555,94.5694,94.5892 ,94.6056,94.6198,94.6325,94.6537, 94.6706,94.6228)
ORBIT_NUMBER = 16559
ORBITAL_ECCENTRICITY = 0.578
ORBITAL_INCLINATION = 86.92
ORBITAL_SEMIMAJOR_AXIS = 8863.98
PERIAPSIS_ALTITUDE = 345.46
PERIAPSIS_ARGUMENT_ANGLE = 4.82
PERIAPSIS_TIME = 2017-01-27T05:58:25.000Z
SPACECRAFT_ORIENTATION = (0.0,1.0,0.0)
^MEX_ORIENTATION_DESC = "MEX_ORIENTATION_DESC.TXT"
SPACECRAFT_POINTING_MODE = ACROSSTRACK
^MEX_POINTING_DESC = "MEX_POINTING_DESC.TXT"
RIGHT_ASCENSION = -1e+32
DECLINATION = -1e+32
OFFSET_ANGLE = -0.7
SPACECRAFT_SOLAR_DISTANCE = 2.14584e+08
TARGET_NAME = MARS
/* CAMERA DATA ELEMENTS */
DETECTOR_TEMPERATURE = 17.7588
FOCAL_PLANE_TEMPERATURE = 8.5833
INST_CMPRS_NAME = "DISCRETE COSINE TRANSFORMATION (DCT)"
INST_CMPRS_RATIO = 8.65097
INST_CMPRS_QUALITY = 0
INST_CMPRS_QUANTZ_TBL_ID = 0
INSTRUMENT_TEMPERATURE = 11.8457
LENS_TEMPERATURE = 9.195
MACROPIXEL_SIZE = 1
MISSING_FRAMES = 2
PIXEL_SUBSAMPLING_FLAG = N
SIGNAL_CHAIN_ID = 2
/* RADIOMETRIC DATA ELEMENTS */
BANDWIDTH = 180.0
CENTER_FILTER_WAVELENGTH = 677.0
RADIANCE_OFFSET = 1.58566
RADIANCE_SCALING_FACTOR = 0.0072904
REFLECTANCE_SCALING_FACTOR = 0.000175138
MEX:REFLECTANCE_OFFSET = 0.0380925
/* IMAGE OBJECT DEFINITIONS */
OBJECT = IMAGE
  INTERCHANGE_FORMAT = BINARY
  LINES = 25576
  LINE_SAMPLES = 6400
  SAMPLE_TYPE = UNSIGNED_INTEGER
  SAMPLE_BITS = 8
  BANDS = 1
  BAND_STORAGE_TYPE = BAND_SEQUENTIAL
  MAXIMUM = 255
  MEAN = 114.049
  MINIMUM = 1
  STANDARD_DEVIATION = 47.6572
END_OBJECT = IMAGE
/* MAP OBJECT DEFINITIONS */
OBJECT = IMAGE_MAP_PROJECTION
  ^DATA_SET_MAP_PROJECTION_CATALOG= "DSMAP.CAT"
  A_AXIS_RADIUS = 3396.0
  B_AXIS_RADIUS = 3396.0
  C_AXIS_RADIUS = 3396.0
  CENTER_LATITUDE = 0.0
  CENTER_LONGITUDE = 93.0
  COORDINATE_SYSTEM_NAME = PLANETOGRAPHIC
  COORDINATE_SYSTEM_TYPE = "BODY-FIXED ROTATING"
  EASTERNMOST_LONGITUDE = 94.67059999999999
  FIRST_STANDARD_PARALLEL = "N/A"
  LINE_FIRST_PIXEL = 1
  LINE_LAST_PIXEL = 25576
  LINE_PROJECTION_OFFSET = -64931.0
  MAP_PROJECTION_ROTATION = 0.0
  MAP_PROJECTION_TYPE = SINUSOIDAL
  MAP_RESOLUTION = 2370.85521546667
  MAP_SCALE = 0.025
  MAXIMUM_LATITUDE = -27.3761
  MINIMUM_LATITUDE = -38.1836
  POSITIVE_LONGITUDE_DIRECTION = EAST
  REFERENCE_LATITUDE = "N/A"
  REFERENCE_LONGITUDE = "N/A"
  SAMPLE_FIRST_PIXEL = 1
  SAMPLE_LAST_PIXEL = 6400
  SAMPLE_PROJECTION_OFFSET = 3034.0
  SECOND_STANDARD_PARALLEL = "N/A"
  WESTERNMOST_LONGITUDE = 91.5475
END_OBJECT = IMAGE_MAP_PROJECTION
END
