PDS_VERSION_ID = PDS3
/* FILE DATA ELEMENTS */
RECORD_TYPE = UNDEFINED
/* POINTERS TO DATA OBJECTS */
^IMAGE = ("HG560_0000_GR4.TIF")
/* IDENTIFICATION DATA ELEMENTS */
DATA_SET_ID = "MEX-M-HRSC-4-REFDR-MAPPROJECT-EXT6-V4.0"
DATA_SET_NAME = "MARS EXPRESS HRSC MAP PROJECTED REFDR EXTENSION6 V4.0"
DETECTOR_ID = MEX_HRSC_GREEN
EVENT_TYPE = "MARS-REGIONAL-SYSTEMTEST-Im-Fl-Gl"
INSTRUMENT_HOST_ID = MEX
INSTRUMENT_HOST_NAME = "MARS EXPRESS"
INSTRUMENT_ID = HRSC
INSTRUMENT_NAME = "HIGH RESOLUTION STEREO CAMERA"
MISSION_NAME = "MARS EXPRESS"
MISSION_PHASE_NAME = ME_Phase_36
PROCESSING_LEVEL_ID = 4
PRODUCT_CREATION_TIME = 2023-01-26T14:39:22.000Z
PRODUCT_ID = "HG560_0000_GR4.TIF"
RELEASE_ID = 0001
REVISION_ID = 0000
/* QUALITY DATA ELEMENTS */
DATA_QUALITY_ID = 1
DATA_QUALITY_DESC = "Data calculated based on original SPICE kernels"
/* TIME DATA ELEMENTS */
SPACECRAFT_CLOCK_START_COUNT = "1/0433601348.08248"
SPACECRAFT_CLOCK_STOP_COUNT = "1/0433601607.55323"
START_TIME = 2017-01-27T12:50:24.004Z
STOP_TIME = 2017-01-27T12:53:01.956Z
/* ORBITAL DATA ELEMENTS */
ASCENDING_NODE_LONGITUDE = 262.88
MAXIMUM_RESOLUTION = 0.0689
FOOTPRINT_POINT_LATITUDE = (-24.9828,-24.985,-24.9864,-24.9877, -24.9883,-24.9883,-24.988,-24.9872, -24.9872,-24.9906,-24.6913,-24.3983, -24.1068,-23.9117,-23.7192,-23.5261, -23.3338,-23.1421,-22.7644,-22.3857, -22.0062,-21.5304,-21.149,-20.7669, -20.3838,-20.192,-19.9998,-19.7112, -19.4235,-19.2312,-19.0384,-18.8454, -18.6522,-18.4589,-18.2654,-18.0716, -17.8777,-17.6836,-17.4894,-17.295, -17.1004,-16.9056,-16.7107,-16.5157, -16.3205,-16.1251,-15.9295,-15.7338, -15.4399,-15.3419,-15.3142,-15.3129, -15.3115,-15.3101,-15.3082,-15.3047, -15.3046,-15.3058,-15.5999,-15.7959, -15.9916,-16.1871,-16.4802,-16.6754, -16.8704,-17.0652,-17.2598,-17.4542, -17.6485,-17.8427,-18.0366,-18.3273, -18.6188,-18.8122,-19.0052,-19.1969, -19.3893,-19.582,-19.7742,-19.9665, -20.1585,-20.3502,-20.7331,-21.1165, -21.498,-21.8787,-22.1626,-22.5422, -22.9209,-23.3018,-23.4942,-23.6867, -23.8789,-24.0736,-24.2693,-24.4648, -24.66,-24.8583,-24.9578,-24.9828)
FOOTPRINT_POINT_LONGITUDE = (350.912,350.61,350.364,350.024,349.741 ,349.382,349.155,348.909,348.89,348.875 ,348.887,348.896,348.9,348.906,348.912, 348.918,348.923,348.927,348.936,348.945 ,348.954,348.965,348.974,348.982,348.99 ,348.994,348.998,349.004,349.008,349.01 ,349.014,349.017,349.021,349.024, 349.027,349.03,349.033,349.036,349.039, 349.042,349.045,349.048,349.05,349.053, 349.055,349.058,349.06,349.063,349.066, 349.068,349.068,349.4,349.674,349.905, 350.195,350.599,350.613,350.618,350.626 ,350.632,350.637,350.642,350.651, 350.656,350.662,350.667,350.672,350.678 ,350.683,350.689,350.694,350.703, 350.714,350.72,350.726,350.729,350.734, 350.74,350.746,350.752,350.758,350.764, 350.775,350.789,350.802,350.814,350.821 ,350.834,350.847,350.86,350.866,350.873 ,350.88,350.886,350.893,350.9,350.907, 350.914,350.918,350.912)
ORBIT_NUMBER = 16560
ORBITAL_ECCENTRICITY = 0.577
ORBITAL_INCLINATION = 86.92
ORBITAL_SEMIMAJOR_AXIS = 8856.57
PERIAPSIS_ALTITUDE = 346.26
PERIAPSIS_ARGUMENT_ANGLE = 4.65
PERIAPSIS_TIME = 2017-01-27T12:58:08.000Z
SPACECRAFT_ORIENTATION = (0.0,1.0,0.0)
^MEX_ORIENTATION_DESC = "MEX_ORIENTATION_DESC.TXT"
SPACECRAFT_POINTING_MODE = NADIR
^MEX_POINTING_DESC = "MEX_POINTING_DESC.TXT"
RIGHT_ASCENSION = -1e+32
DECLINATION = -1e+32
OFFSET_ANGLE = -1e+32
SPACECRAFT_SOLAR_DISTANCE = 2.14631e+08
TARGET_NAME = MARS
/* CAMERA DATA ELEMENTS */
DETECTOR_TEMPERATURE = 18.3705
FOCAL_PLANE_TEMPERATURE = 8.7872
INST_CMPRS_NAME = "DISCRETE COSINE TRANSFORMATION (DCT)"
INST_CMPRS_RATIO = 7.21447
INST_CMPRS_QUALITY = 0
INST_CMPRS_QUANTZ_TBL_ID = 0
INSTRUMENT_TEMPERATURE = 11.234
LENS_TEMPERATURE = 8.7872
MACROPIXEL_SIZE = 4
MISSING_FRAMES = 0
PIXEL_SUBSAMPLING_FLAG = N
SIGNAL_CHAIN_ID = 2
/* RADIOMETRIC DATA ELEMENTS */
BANDWIDTH = 88.0
CENTER_FILTER_WAVELENGTH = 538.0
RADIANCE_OFFSET = 0.505334
RADIANCE_SCALING_FACTOR = 0.00124318
REFLECTANCE_SCALING_FACTOR = 4.93062e-05
MEX:REFLECTANCE_OFFSET = 0.0200422
/* IMAGE OBJECT DEFINITIONS */
OBJECT = IMAGE
  INTERCHANGE_FORMAT = BINARY
  LINES = 11483
  LINE_SAMPLES = 2237
  SAMPLE_TYPE = UNSIGNED_INTEGER
  SAMPLE_BITS = 8
  BANDS = 1
  BAND_STORAGE_TYPE = BAND_SEQUENTIAL
  MAXIMUM = 255
  MEAN = 147.354
  MINIMUM = 1
  STANDARD_DEVIATION = 54.6307
END_OBJECT = IMAGE
/* MAP OBJECT DEFINITIONS */
OBJECT = IMAGE_MAP_PROJECTION
  ^DATA_SET_MAP_PROJECTION_CATALOG= "DSMAP.CAT"
  A_AXIS_RADIUS = 3396.0
  B_AXIS_RADIUS = 3396.0
  C_AXIS_RADIUS = 3396.0
  CENTER_LATITUDE = 0.0
  CENTER_LONGITUDE = 350.0
  COORDINATE_SYSTEM_NAME = PLANETOGRAPHIC
  COORDINATE_SYSTEM_TYPE = "BODY-FIXED ROTATING"
  EASTERNMOST_LONGITUDE = 350.918
  FIRST_STANDARD_PARALLEL = "N/A"
  LINE_FIRST_PIXEL = 1
  LINE_LAST_PIXEL = 11483
  LINE_PROJECTION_OFFSET = -18146.125
  MAP_PROJECTION_ROTATION = 0.0
  MAP_PROJECTION_TYPE = SINUSOIDAL
  MAP_RESOLUTION = 1185.42760773333
  MAP_SCALE = 0.05
  MAXIMUM_LATITUDE = -15.3046
  MINIMUM_LATITUDE = -24.9906
  POSITIVE_LONGITUDE_DIRECTION = EAST
  REFERENCE_LATITUDE = "N/A"
  REFERENCE_LONGITUDE = "N/A"
  SAMPLE_FIRST_PIXEL = 1
  SAMPLE_LAST_PIXEL = 2237
  SAMPLE_PROJECTION_OFFSET = 1233.875
  SECOND_STANDARD_PARALLEL = "N/A"
  WESTERNMOST_LONGITUDE = 348.875
END_OBJECT = IMAGE_MAP_PROJECTION
END
