PDS_VERSION_ID = PDS3
/* FILE DATA ELEMENTS */
RECORD_TYPE = UNDEFINED
/* POINTERS TO DATA OBJECTS */
^IMAGE = ("HG560_0000_ND4.TIF")
/* IDENTIFICATION DATA ELEMENTS */
DATA_SET_ID = "MEX-M-HRSC-4-REFDR-MAPPROJECT-EXT6-V4.0"
DATA_SET_NAME = "MARS EXPRESS HRSC MAP PROJECTED REFDR EXTENSION6 V4.0"
DETECTOR_ID = MEX_HRSC_NADIR
EVENT_TYPE = "MARS-REGIONAL-SYSTEMTEST-Im-Fl-Gl"
INSTRUMENT_HOST_ID = MEX
INSTRUMENT_HOST_NAME = "MARS EXPRESS"
INSTRUMENT_ID = HRSC
INSTRUMENT_NAME = "HIGH RESOLUTION STEREO CAMERA"
MISSION_NAME = "MARS EXPRESS"
MISSION_PHASE_NAME = ME_Phase_36
PROCESSING_LEVEL_ID = 4
PRODUCT_CREATION_TIME = 2023-01-26T14:39:22.000Z
PRODUCT_ID = "HG560_0000_ND4.TIF"
RELEASE_ID = 0001
REVISION_ID = 0000
/* QUALITY DATA ELEMENTS */
DATA_QUALITY_ID = 1
DATA_QUALITY_DESC = "Data calculated based on original SPICE kernels"
/* TIME DATA ELEMENTS */
SPACECRAFT_CLOCK_START_COUNT = "1/0433601348.08248"
SPACECRAFT_CLOCK_STOP_COUNT = "1/0433601607.55323"
START_TIME = 2017-01-27T12:50:15.067Z
STOP_TIME = 2017-01-27T12:52:55.080Z
/* ORBITAL DATA ELEMENTS */
ASCENDING_NODE_LONGITUDE = 262.88
MAXIMUM_RESOLUTION = 0.0173
FOOTPRINT_POINT_LATITUDE = (-24.987,-24.9919,-24.9932,-24.9939, -24.9935,-24.9927,-24.9926,-24.9918, -24.6941,-24.4962,-24.2981,-24.1014, -23.9067,-23.6144,-23.4194,-23.0361, -22.8442,-22.6523,-22.2753,-21.8973, -21.5185,-21.1388,-20.7582,-20.3768, -19.9946,-19.6115,-19.4196,-19.2275, -19.0353,-18.8428,-18.6502,-18.4573, -18.2642,-18.071,-17.8775,-17.6839, -17.4901,-17.2961,-17.1019,-16.9075, -16.7129,-16.5181,-16.3231,-16.0254, -15.83,-15.6344,-15.4386,-15.3407, -15.3177,-15.3168,-15.315,-15.3132, -15.3117,-15.3091,-15.3071,-15.307, -15.3072,-15.601,-15.7967,-15.9921, -16.29,-16.485,-16.6799,-16.8745, -17.069,-17.2633,-17.4574,-17.6513, -17.845,-18.0386,-18.2319,-18.425, -18.6179,-18.8106,-19.0032,-19.1957, -19.3879,-19.5799,-19.7716,-19.9632, -20.3457,-20.7274,-21.1081,-21.4881, -21.8672,-22.2456,-22.623,-22.8145, -23.0066,-23.1985,-23.3903,-23.585, -23.7801,-23.9751,-24.1698,-24.3681, -24.6652,-24.863,-24.963,-24.987)
FOOTPRINT_POINT_LONGITUDE = (350.925,350.254,349.949,349.563, 349.136,348.891,348.871,348.851,348.863 ,348.869,348.873,348.877,348.883, 348.894,348.899,348.908,348.913,348.918 ,348.927,348.936,348.946,348.954, 348.963,348.971,348.98,348.988,348.99, 348.993,348.996,349.0,349.003,349.007, 349.01,349.013,349.016,349.02,349.023, 349.026,349.029,349.032,349.035,349.037 ,349.04,349.044,349.047,349.049,349.052 ,349.053,349.053,349.27,349.627,349.905 ,350.107,350.401,350.602,350.617, 350.625,350.633,350.639,350.644,350.652 ,350.658,350.663,350.669,350.674,350.68 ,350.685,350.691,350.697,350.703, 350.708,350.716,350.723,350.729,350.734 ,350.738,350.743,350.749,350.755, 350.761,350.773,350.785,350.799,350.812 ,350.824,350.834,350.848,350.854, 350.862,350.869,350.874,350.881,350.888 ,350.895,350.902,350.909,350.92,350.927 ,350.931,350.925)
ORBIT_NUMBER = 16560
ORBITAL_ECCENTRICITY = 0.577
ORBITAL_INCLINATION = 86.92
ORBITAL_SEMIMAJOR_AXIS = 8856.57
PERIAPSIS_ALTITUDE = 346.26
PERIAPSIS_ARGUMENT_ANGLE = 4.65
PERIAPSIS_TIME = 2017-01-27T12:58:08.000Z
SPACECRAFT_ORIENTATION = (0.0,1.0,0.0)
^MEX_ORIENTATION_DESC = "MEX_ORIENTATION_DESC.TXT"
SPACECRAFT_POINTING_MODE = NADIR
^MEX_POINTING_DESC = "MEX_POINTING_DESC.TXT"
RIGHT_ASCENSION = -1e+32
DECLINATION = -1e+32
OFFSET_ANGLE = -1e+32
SPACECRAFT_SOLAR_DISTANCE = 2.14631e+08
TARGET_NAME = MARS
/* CAMERA DATA ELEMENTS */
DETECTOR_TEMPERATURE = 18.3705
FOCAL_PLANE_TEMPERATURE = 8.7872
INST_CMPRS_NAME = "DISCRETE COSINE TRANSFORMATION (DCT)"
INST_CMPRS_RATIO = 5.74952
INST_CMPRS_QUALITY = 0
INST_CMPRS_QUANTZ_TBL_ID = 0
INSTRUMENT_TEMPERATURE = 11.234
LENS_TEMPERATURE = 8.7872
MACROPIXEL_SIZE = 1
MISSING_FRAMES = 2
PIXEL_SUBSAMPLING_FLAG = N
SIGNAL_CHAIN_ID = 0
/* RADIOMETRIC DATA ELEMENTS */
BANDWIDTH = 177.0
CENTER_FILTER_WAVELENGTH = 677.5
RADIANCE_OFFSET = 0.994656
RADIANCE_SCALING_FACTOR = 0.00465073
REFLECTANCE_SCALING_FACTOR = 0.000113811
MEX:REFLECTANCE_OFFSET = 0.0243409
/* IMAGE OBJECT DEFINITIONS */
OBJECT = IMAGE
  INTERCHANGE_FORMAT = BINARY
  LINES = 45930
  LINE_SAMPLES = 8945
  SAMPLE_TYPE = UNSIGNED_INTEGER
  SAMPLE_BITS = 8
  BANDS = 1
  BAND_STORAGE_TYPE = BAND_SEQUENTIAL
  MAXIMUM = 255
  MEAN = 92.9661
  MINIMUM = 1
  STANDARD_DEVIATION = 37.9358
END_OBJECT = IMAGE
/* MAP OBJECT DEFINITIONS */
OBJECT = IMAGE_MAP_PROJECTION
  ^DATA_SET_MAP_PROJECTION_CATALOG= "DSMAP.CAT"
  A_AXIS_RADIUS = 3396.0
  B_AXIS_RADIUS = 3396.0
  C_AXIS_RADIUS = 3396.0
  CENTER_LATITUDE = 0.0
  CENTER_LONGITUDE = 350.0
  COORDINATE_SYSTEM_NAME = PLANETOGRAPHIC
  COORDINATE_SYSTEM_TYPE = "BODY-FIXED ROTATING"
  EASTERNMOST_LONGITUDE = 350.931
  FIRST_STANDARD_PARALLEL = "N/A"
  LINE_FIRST_PIXEL = 1
  LINE_LAST_PIXEL = 45930
  LINE_PROJECTION_OFFSET = -72583.0
  MAP_PROJECTION_ROTATION = 0.0
  MAP_PROJECTION_TYPE = SINUSOIDAL
  MAP_RESOLUTION = 4741.71043093333
  MAP_SCALE = 0.0125
  MAXIMUM_LATITUDE = -15.307
  MINIMUM_LATITUDE = -24.9939
  POSITIVE_LONGITUDE_DIRECTION = EAST
  REFERENCE_LATITUDE = "N/A"
  REFERENCE_LONGITUDE = "N/A"
  SAMPLE_FIRST_PIXEL = 1
  SAMPLE_LAST_PIXEL = 8945
  SAMPLE_PROJECTION_OFFSET = 4937.0
  SECOND_STANDARD_PARALLEL = "N/A"
  WESTERNMOST_LONGITUDE = 348.851
END_OBJECT = IMAGE_MAP_PROJECTION
END
