PDS_VERSION_ID = PDS3
/* FILE DATA ELEMENTS */
RECORD_TYPE = UNDEFINED
/* POINTERS TO DATA OBJECTS */
^IMAGE = ("HG560_0000_S24.TIF")
/* IDENTIFICATION DATA ELEMENTS */
DATA_SET_ID = "MEX-M-HRSC-4-REFDR-MAPPROJECT-EXT6-V4.0"
DATA_SET_NAME = "MARS EXPRESS HRSC MAP PROJECTED REFDR EXTENSION6 V4.0"
DETECTOR_ID = MEX_HRSC_S2
EVENT_TYPE = "MARS-REGIONAL-SYSTEMTEST-Im-Fl-Gl"
INSTRUMENT_HOST_ID = MEX
INSTRUMENT_HOST_NAME = "MARS EXPRESS"
INSTRUMENT_ID = HRSC
INSTRUMENT_NAME = "HIGH RESOLUTION STEREO CAMERA"
MISSION_NAME = "MARS EXPRESS"
MISSION_PHASE_NAME = ME_Phase_36
PROCESSING_LEVEL_ID = 4
PRODUCT_CREATION_TIME = 2023-01-26T14:39:22.000Z
PRODUCT_ID = "HG560_0000_S24.TIF"
RELEASE_ID = 0001
REVISION_ID = 0000
/* QUALITY DATA ELEMENTS */
DATA_QUALITY_ID = 1
DATA_QUALITY_DESC = "Data calculated based on original SPICE kernels"
/* TIME DATA ELEMENTS */
SPACECRAFT_CLOCK_START_COUNT = "1/0433601348.08248"
SPACECRAFT_CLOCK_STOP_COUNT = "1/0433601607.55323"
START_TIME = 2017-01-27T12:49:15.886Z
STOP_TIME = 2017-01-27T12:52:11.676Z
/* ORBITAL DATA ELEMENTS */
ASCENDING_NODE_LONGITUDE = 262.88
MAXIMUM_RESOLUTION = 0.0392
FOOTPRINT_POINT_LATITUDE = (-25.0015,-25.0045,-25.0075,-25.0093, -25.0104,-25.0097,-25.0076,-25.003, -25.0027,-24.9747,-24.7725,-24.5692, -24.3565,-24.1494,-23.9477,-23.7472, -23.5517,-23.3522,-23.15,-22.9499, -22.7529,-22.5547,-22.3572,-22.1631, -21.9674,-21.7722,-21.5812,-21.3889, -21.1963,-21.0049,-20.7209,-20.5314, -20.2489,-19.8812,-19.6918,-19.4092, -19.0362,-18.6655,-18.3854,-18.0118, -17.6375,-17.2606,-17.072,-16.8831, -16.6936,-16.504,-16.2187,-16.0285, -15.742,-15.4554,-15.3597,-15.3101, -15.3102,-15.3099,-15.3089,-15.306, -15.3023,-15.3021,-15.3023,-15.5899, -15.8759,-16.0666,-16.2569,-16.4471, -16.6367,-16.8262,-17.0152,-17.2043, -17.488,-17.9576,-18.3315,-18.6951, -19.0675,-19.2618,-19.6314,-20.0075, -20.3833,-20.5747,-20.8547,-21.0438, -21.3326,-21.5254,-21.7177,-21.9142, -22.1184,-22.3119,-22.5082,-22.7051, -22.9028,-23.0988,-23.2992,-23.5017, -23.803,-24.0059,-24.208,-24.4134, -24.6185,-24.8235,-24.9267,-25.0015)
FOOTPRINT_POINT_LONGITUDE = (351.033,350.813,350.527,350.263, 349.911,349.559,349.207,348.788,348.766 ,348.75,348.759,348.767,348.772,348.778 ,348.785,348.793,348.802,348.808, 348.814,348.82,348.827,348.833,348.839, 348.845,348.85,348.856,348.862,348.868, 348.873,348.879,348.887,348.892,348.899 ,348.911,348.915,348.92,348.928,348.937 ,348.943,348.951,348.959,348.966,348.97 ,348.974,348.977,348.981,348.986, 348.989,348.994,348.999,349.0,349.001, 349.342,349.715,349.925,350.25,350.655, 350.671,350.677,350.686,350.695,350.701 ,350.708,350.714,350.72,350.726,350.733 ,350.739,350.748,350.764,350.777, 350.793,350.806,350.81,350.823,350.837, 350.851,350.858,350.87,350.878,350.889, 350.897,350.904,350.912,350.917,350.925 ,350.933,350.942,350.95,350.959,350.967 ,350.975,350.988,350.997,351.006, 351.015,351.024,351.033,351.038, 351.033)
ORBIT_NUMBER = 16560
ORBITAL_ECCENTRICITY = 0.577
ORBITAL_INCLINATION = 86.92
ORBITAL_SEMIMAJOR_AXIS = 8856.57
PERIAPSIS_ALTITUDE = 346.26
PERIAPSIS_ARGUMENT_ANGLE = 4.65
PERIAPSIS_TIME = 2017-01-27T12:58:08.000Z
SPACECRAFT_ORIENTATION = (0.0,1.0,0.0)
^MEX_ORIENTATION_DESC = "MEX_ORIENTATION_DESC.TXT"
SPACECRAFT_POINTING_MODE = NADIR
^MEX_POINTING_DESC = "MEX_POINTING_DESC.TXT"
RIGHT_ASCENSION = -1e+32
DECLINATION = -1e+32
OFFSET_ANGLE = -1e+32
SPACECRAFT_SOLAR_DISTANCE = 2.14631e+08
TARGET_NAME = MARS
/* CAMERA DATA ELEMENTS */
DETECTOR_TEMPERATURE = 18.7783
FOCAL_PLANE_TEMPERATURE = 8.7872
INST_CMPRS_NAME = "DISCRETE COSINE TRANSFORMATION (DCT)"
INST_CMPRS_RATIO = 8.71963
INST_CMPRS_QUALITY = 0
INST_CMPRS_QUANTZ_TBL_ID = 0
INSTRUMENT_TEMPERATURE = 11.234
LENS_TEMPERATURE = 8.7872
MACROPIXEL_SIZE = 2
MISSING_FRAMES = 0
PIXEL_SUBSAMPLING_FLAG = N
SIGNAL_CHAIN_ID = 1
/* RADIOMETRIC DATA ELEMENTS */
BANDWIDTH = 178.0
CENTER_FILTER_WAVELENGTH = 679.0
RADIANCE_OFFSET = 1.24969
RADIANCE_SCALING_FACTOR = 0.00479184
REFLECTANCE_SCALING_FACTOR = 0.000116899
MEX:REFLECTANCE_OFFSET = 0.0304868
/* IMAGE OBJECT DEFINITIONS */
OBJECT = IMAGE
  INTERCHANGE_FORMAT = BINARY
  LINES = 22965
  LINE_SAMPLES = 4473
  SAMPLE_TYPE = UNSIGNED_INTEGER
  SAMPLE_BITS = 8
  BANDS = 1
  BAND_STORAGE_TYPE = BAND_SEQUENTIAL
  MAXIMUM = 255
  MEAN = 97.1229
  MINIMUM = 1
  STANDARD_DEVIATION = 40.2098
END_OBJECT = IMAGE
/* MAP OBJECT DEFINITIONS */
OBJECT = IMAGE_MAP_PROJECTION
  ^DATA_SET_MAP_PROJECTION_CATALOG= "DSMAP.CAT"
  A_AXIS_RADIUS = 3396.0
  B_AXIS_RADIUS = 3396.0
  C_AXIS_RADIUS = 3396.0
  CENTER_LATITUDE = 0.0
  CENTER_LONGITUDE = 350.0
  COORDINATE_SYSTEM_NAME = PLANETOGRAPHIC
  COORDINATE_SYSTEM_TYPE = "BODY-FIXED ROTATING"
  EASTERNMOST_LONGITUDE = 351.038
  FIRST_STANDARD_PARALLEL = "N/A"
  LINE_FIRST_PIXEL = 1
  LINE_LAST_PIXEL = 22965
  LINE_PROJECTION_OFFSET = -36291.75
  MAP_PROJECTION_ROTATION = 0.0
  MAP_PROJECTION_TYPE = SINUSOIDAL
  MAP_RESOLUTION = 2370.85521546667
  MAP_SCALE = 0.025
  MAXIMUM_LATITUDE = -15.3021
  MINIMUM_LATITUDE = -25.0104
  POSITIVE_LONGITUDE_DIRECTION = EAST
  REFERENCE_LATITUDE = "N/A"
  REFERENCE_LONGITUDE = "N/A"
  SAMPLE_FIRST_PIXEL = 1
  SAMPLE_LAST_PIXEL = 4473
  SAMPLE_PROJECTION_OFFSET = 2468.25
  SECOND_STANDARD_PARALLEL = "N/A"
  WESTERNMOST_LONGITUDE = 348.75
END_OBJECT = IMAGE_MAP_PROJECTION
END
