PDS_VERSION_ID = PDS3
/* FILE DATA ELEMENTS */
RECORD_TYPE = UNDEFINED
/* POINTERS TO DATA OBJECTS */
^IMAGE = ("HG565_0000_IR4.TIF")
/* IDENTIFICATION DATA ELEMENTS */
DATA_SET_ID = "MEX-M-HRSC-4-REFDR-MAPPROJECT-EXT6-V4.0"
DATA_SET_NAME = "MARS EXPRESS HRSC MAP PROJECTED REFDR EXTENSION6 V4.0"
DETECTOR_ID = MEX_HRSC_IR
EVENT_TYPE = "MARS-REGIONAL-MAPPING-Im-Fl-Gl"
INSTRUMENT_HOST_ID = MEX
INSTRUMENT_HOST_NAME = "MARS EXPRESS"
INSTRUMENT_ID = HRSC
INSTRUMENT_NAME = "HIGH RESOLUTION STEREO CAMERA"
MISSION_NAME = "MARS EXPRESS"
MISSION_PHASE_NAME = ME_Phase_36
PROCESSING_LEVEL_ID = 4
PRODUCT_CREATION_TIME = 2023-01-26T14:39:22.000Z
PRODUCT_ID = "HG565_0000_IR4.TIF"
RELEASE_ID = 0001
REVISION_ID = 0000
/* QUALITY DATA ELEMENTS */
DATA_QUALITY_ID = 1
DATA_QUALITY_DESC = "Data calculated based on original SPICE kernels"
/* TIME DATA ELEMENTS */
SPACECRAFT_CLOCK_START_COUNT = "1/0433726908.08253"
SPACECRAFT_CLOCK_STOP_COUNT = "1/0433727387.48300"
START_TIME = 2017-01-28T23:45:04.757Z
STOP_TIME = 2017-01-28T23:49:45.428Z
/* ORBITAL DATA ELEMENTS */
ASCENDING_NODE_LONGITUDE = 262.78
MAXIMUM_RESOLUTION = 0.0841
FOOTPRINT_POINT_LATITUDE = (-42.4984,-42.499,-42.4981,-42.4944, -42.4888,-42.4824,-42.4722,-42.4717, -42.5087,-42.1042,-41.6971,-41.2905, -40.8804,-40.4725,-39.8644,-39.4986, -39.1307,-38.5862,-38.2153,-37.8489, -37.4827,-36.9348,-36.393,-36.0353, -35.68,-35.3586,-35.0097,-34.6642, -34.3158,-33.9712,-33.6349,-33.3008, -32.9697,-32.6388,-32.15,-31.8255, -31.5043,-31.1834,-30.8671,-30.3939, -30.0819,-29.7705,-29.3122,-29.0068, -28.4036,-27.8074,-27.3655,-26.7817, -26.2131,-25.6428,-25.5021,-25.4484, -25.4476,-25.4463,-25.4442,-25.444, -25.4453,-26.0119,-26.4371,-27.0139, -27.749,-28.3426,-29.0972,-29.4037, -29.7088,-30.0273,-30.4989,-30.9637, -31.2821,-31.6056,-31.9284,-32.2558, -32.7474,-33.0775,-33.4111,-33.7455, -34.0834,-34.4244,-34.7716,-35.1182, -35.4686,-35.7974,-36.1534,-36.5102, -36.8717,-37.2344,-37.6066,-38.1576, -38.5305,-39.0917,-39.4583,-39.8243, -40.2172,-40.6307,-41.0408,-41.4498, -41.8571,-42.2598,-42.4614,-42.4984)
FOOTPRINT_POINT_LONGITUDE = (200.038,199.605,199.074,198.342, 197.712,197.18,196.515,196.481,196.452, 196.487,196.523,196.557,196.591,196.623 ,196.672,196.701,196.73,196.768,196.796 ,196.82,196.844,196.88,196.914,196.935, 196.957,196.973,196.992,197.011,197.031 ,197.051,197.067,197.083,197.099, 197.114,197.136,197.15,197.164,197.177, 197.191,197.21,197.222,197.234,197.251, 197.262,197.283,197.303,197.317,197.335 ,197.35,197.367,197.371,197.373,198.079 ,198.859,199.294,199.313,199.319, 199.339,199.351,199.37,199.397,199.418, 199.445,199.457,199.467,199.483,199.502 ,199.516,199.529,199.542,199.556, 199.569,199.589,199.602,199.615,199.629 ,199.642,199.657,199.672,199.688, 199.703,199.718,199.734,199.75,199.767, 199.783,199.803,199.829,199.849,199.882 ,199.901,199.921,199.942,199.963, 199.984,200.005,200.026,200.045,200.055 ,200.038)
ORBIT_NUMBER = 16565
ORBITAL_ECCENTRICITY = 0.578
ORBITAL_INCLINATION = 86.93
ORBITAL_SEMIMAJOR_AXIS = 8855.96
PERIAPSIS_ALTITUDE = 345.47
PERIAPSIS_ARGUMENT_ANGLE = 3.8
PERIAPSIS_TIME = 2017-01-28T23:56:50.000Z
SPACECRAFT_ORIENTATION = (0.0,1.0,0.0)
^MEX_ORIENTATION_DESC = "MEX_ORIENTATION_DESC.TXT"
SPACECRAFT_POINTING_MODE = NADIR
^MEX_POINTING_DESC = "MEX_POINTING_DESC.TXT"
RIGHT_ASCENSION = -1e+32
DECLINATION = -1e+32
OFFSET_ANGLE = -1e+32
SPACECRAFT_SOLAR_DISTANCE = 2.14868e+08
TARGET_NAME = MARS
/* CAMERA DATA ELEMENTS */
DETECTOR_TEMPERATURE = 18.1666
FOCAL_PLANE_TEMPERATURE = 8.5833
INST_CMPRS_NAME = "DISCRETE COSINE TRANSFORMATION (DCT)"
INST_CMPRS_RATIO = 6.11688
INST_CMPRS_QUALITY = 0
INST_CMPRS_QUANTZ_TBL_ID = 0
INSTRUMENT_TEMPERATURE = 11.6418
LENS_TEMPERATURE = 9.195
MACROPIXEL_SIZE = 4
PIXEL_SUBSAMPLING_FLAG = N
SIGNAL_CHAIN_ID = 2
/* RADIOMETRIC DATA ELEMENTS */
BANDWIDTH = 81.0
CENTER_FILTER_WAVELENGTH = 955.5
RADIANCE_OFFSET = 0.267949
RADIANCE_SCALING_FACTOR = 0.00338386
REFLECTANCE_SCALING_FACTOR = 0.000337035
MEX:REFLECTANCE_OFFSET = 0.0266879
/* IMAGE OBJECT DEFINITIONS */
OBJECT = IMAGE
  INTERCHANGE_FORMAT = BINARY
  LINES = 10145
  LINE_SAMPLES = 1730
  SAMPLE_TYPE = UNSIGNED_INTEGER
  SAMPLE_BITS = 8
  BANDS = 1
  BAND_STORAGE_TYPE = BAND_SEQUENTIAL
  MAXIMUM = 255
  MEAN = 68.0673
  MINIMUM = 1
  STANDARD_DEVIATION = 28.4456
END_OBJECT = IMAGE
/* MAP OBJECT DEFINITIONS */
OBJECT = IMAGE_MAP_PROJECTION
  ^DATA_SET_MAP_PROJECTION_CATALOG= "DSMAP.CAT"
  A_AXIS_RADIUS = 3396.0
  B_AXIS_RADIUS = 3396.0
  C_AXIS_RADIUS = 3396.0
  CENTER_LATITUDE = 0.0
  CENTER_LONGITUDE = 198.0
  COORDINATE_SYSTEM_NAME = PLANETOGRAPHIC
  COORDINATE_SYSTEM_TYPE = "BODY-FIXED ROTATING"
  EASTERNMOST_LONGITUDE = 200.055
  FIRST_STANDARD_PARALLEL = "N/A"
  LINE_FIRST_PIXEL = 1
  LINE_LAST_PIXEL = 10145
  LINE_PROJECTION_OFFSET = -15083.875
  MAP_PROJECTION_ROTATION = 0.0
  MAP_PROJECTION_TYPE = SINUSOIDAL
  MAP_RESOLUTION = 592.713803866667
  MAP_SCALE = 0.1
  MAXIMUM_LATITUDE = -25.444
  MINIMUM_LATITUDE = -42.5087
  POSITIVE_LONGITUDE_DIRECTION = EAST
  REFERENCE_LATITUDE = "N/A"
  REFERENCE_LONGITUDE = "N/A"
  SAMPLE_FIRST_PIXEL = 1
  SAMPLE_LAST_PIXEL = 1730
  SAMPLE_PROJECTION_OFFSET = 760.375
  SECOND_STANDARD_PARALLEL = "N/A"
  WESTERNMOST_LONGITUDE = 196.452
END_OBJECT = IMAGE_MAP_PROJECTION
END
