PDS_VERSION_ID = PDS3
/* FILE DATA ELEMENTS */
RECORD_TYPE = UNDEFINED
/* POINTERS TO DATA OBJECTS */
^IMAGE = ("HG565_0000_P24.TIF")
/* IDENTIFICATION DATA ELEMENTS */
DATA_SET_ID = "MEX-M-HRSC-4-REFDR-MAPPROJECT-EXT6-V4.0"
DATA_SET_NAME = "MARS EXPRESS HRSC MAP PROJECTED REFDR EXTENSION6 V4.0"
DETECTOR_ID = MEX_HRSC_P2
EVENT_TYPE = "MARS-REGIONAL-MAPPING-Im-Fl-Gl"
INSTRUMENT_HOST_ID = MEX
INSTRUMENT_HOST_NAME = "MARS EXPRESS"
INSTRUMENT_ID = HRSC
INSTRUMENT_NAME = "HIGH RESOLUTION STEREO CAMERA"
MISSION_NAME = "MARS EXPRESS"
MISSION_PHASE_NAME = ME_Phase_36
PROCESSING_LEVEL_ID = 4
PRODUCT_CREATION_TIME = 2023-01-26T14:39:22.000Z
PRODUCT_ID = "HG565_0000_P24.TIF"
RELEASE_ID = 0001
REVISION_ID = 0000
/* QUALITY DATA ELEMENTS */
DATA_QUALITY_ID = 1
DATA_QUALITY_DESC = "Data calculated based on original SPICE kernels"
/* TIME DATA ELEMENTS */
SPACECRAFT_CLOCK_START_COUNT = "1/0433726908.08253"
SPACECRAFT_CLOCK_STOP_COUNT = "1/0433727387.48300"
START_TIME = 2017-01-28T23:42:42.309Z
STOP_TIME = 2017-01-28T23:48:27.543Z
/* ORBITAL DATA ELEMENTS */
ASCENDING_NODE_LONGITUDE = 262.78
MAXIMUM_RESOLUTION = 0.0463
FOOTPRINT_POINT_LATITUDE = (-42.6064,-42.6119,-42.6079,-42.5988, -42.5894,-42.5714,-42.5481,-42.5465, -42.5086,-41.9046,-41.5061,-41.1101, -40.7174,-40.3288,-39.9428,-39.5623, -39.1848,-38.6167,-38.2441,-37.8795, -37.5116,-36.9651,-36.6072,-36.2478, -35.894,-35.5377,-35.1843,-34.8298, -34.4735,-34.1158,-33.7676,-33.288, -32.9684,-32.6469,-32.3236,-32.0, -31.6748,-31.3514,-31.0296,-30.7117, -30.2375,-29.8159,-29.5034,-29.1946, -28.7355,-27.979,-27.3823,-26.7923, -26.355,-25.6331,-25.4914,-25.4555, -25.4586,-25.4602,-25.4568,-25.4518, -25.4515,-25.452,-26.0237,-26.7555, -27.3447,-27.9413,-28.2439,-28.7001, -29.1612,-29.6271,-30.1972,-30.5127, -30.8354,-31.1602,-31.4814,-31.8057, -32.13,-32.616,-33.0981,-33.4206, -33.7405,-34.0935,-34.4539,-34.8105, -35.3451,-35.6995,-36.0545,-36.4126, -36.7723,-37.1357,-37.6818,-38.0526, -38.604,-38.9773,-39.3559,-39.7377, -40.1222,-40.5105,-40.903,-41.3008, -41.7019,-42.3106,-42.5178,-42.6064)
FOOTPRINT_POINT_LONGITUDE = (200.422,199.536,198.61,197.936,197.474 ,196.801,196.126,196.084,196.051, 196.122,196.167,196.21,196.252,196.292, 196.332,196.371,196.409,196.46,196.494, 196.53,196.561,196.606,196.637,196.664, 196.692,196.716,196.742,196.767,196.792 ,196.817,196.844,196.874,196.893, 196.913,196.931,196.95,196.968,196.986, 197.003,197.02,197.045,197.066,197.081, 197.096,197.117,197.151,197.176,197.2, 197.216,197.243,197.248,197.249,197.713 ,198.368,198.853,199.403,199.424, 199.432,199.457,199.486,199.512,199.539 ,199.553,199.574,199.595,199.616, 199.649,199.665,199.679,199.693,199.711 ,199.728,199.745,199.771,199.798, 199.814,199.831,199.851,199.872,199.893 ,199.925,199.946,199.968,199.99,200.014 ,200.037,200.075,200.1,200.143,200.172, 200.201,200.229,200.259,200.289,200.319 ,200.349,200.379,200.425,200.44, 200.422)
ORBIT_NUMBER = 16565
ORBITAL_ECCENTRICITY = 0.578
ORBITAL_INCLINATION = 86.93
ORBITAL_SEMIMAJOR_AXIS = 8855.96
PERIAPSIS_ALTITUDE = 345.47
PERIAPSIS_ARGUMENT_ANGLE = 3.8
PERIAPSIS_TIME = 2017-01-28T23:56:50.000Z
SPACECRAFT_ORIENTATION = (0.0,1.0,0.0)
^MEX_ORIENTATION_DESC = "MEX_ORIENTATION_DESC.TXT"
SPACECRAFT_POINTING_MODE = NADIR
^MEX_POINTING_DESC = "MEX_POINTING_DESC.TXT"
RIGHT_ASCENSION = -1e+32
DECLINATION = -1e+32
OFFSET_ANGLE = -1e+32
SPACECRAFT_SOLAR_DISTANCE = 2.14868e+08
TARGET_NAME = MARS
/* CAMERA DATA ELEMENTS */
DETECTOR_TEMPERATURE = 19.1861
FOCAL_PLANE_TEMPERATURE = 8.5833
INST_CMPRS_NAME = "DISCRETE COSINE TRANSFORMATION (DCT)"
INST_CMPRS_RATIO = 5.51608
INST_CMPRS_QUALITY = 0
INST_CMPRS_QUANTZ_TBL_ID = 0
INSTRUMENT_TEMPERATURE = 11.6418
LENS_TEMPERATURE = 9.195
MACROPIXEL_SIZE = 2
PIXEL_SUBSAMPLING_FLAG = N
SIGNAL_CHAIN_ID = 3
/* RADIOMETRIC DATA ELEMENTS */
BANDWIDTH = 177.0
CENTER_FILTER_WAVELENGTH = 676.5
RADIANCE_OFFSET = 1.42458
RADIANCE_SCALING_FACTOR = 0.0122563
REFLECTANCE_SCALING_FACTOR = 0.00030002
MEX:REFLECTANCE_OFFSET = 0.0348721
/* IMAGE OBJECT DEFINITIONS */
OBJECT = IMAGE
  INTERCHANGE_FORMAT = BINARY
  LINES = 20290
  LINE_SAMPLES = 3460
  SAMPLE_TYPE = UNSIGNED_INTEGER
  SAMPLE_BITS = 8
  BANDS = 1
  BAND_STORAGE_TYPE = BAND_SEQUENTIAL
  MAXIMUM = 255
  MEAN = 67.3342
  MINIMUM = 1
  STANDARD_DEVIATION = 30.5424
END_OBJECT = IMAGE
/* MAP OBJECT DEFINITIONS */
OBJECT = IMAGE_MAP_PROJECTION
  ^DATA_SET_MAP_PROJECTION_CATALOG= "DSMAP.CAT"
  A_AXIS_RADIUS = 3396.0
  B_AXIS_RADIUS = 3396.0
  C_AXIS_RADIUS = 3396.0
  CENTER_LATITUDE = 0.0
  CENTER_LONGITUDE = 198.0
  COORDINATE_SYSTEM_NAME = PLANETOGRAPHIC
  COORDINATE_SYSTEM_TYPE = "BODY-FIXED ROTATING"
  EASTERNMOST_LONGITUDE = 200.44
  FIRST_STANDARD_PARALLEL = "N/A"
  LINE_FIRST_PIXEL = 1
  LINE_LAST_PIXEL = 20290
  LINE_PROJECTION_OFFSET = -30167.25
  MAP_PROJECTION_ROTATION = 0.0
  MAP_PROJECTION_TYPE = SINUSOIDAL
  MAP_RESOLUTION = 1185.42760773333
  MAP_SCALE = 0.05
  MAXIMUM_LATITUDE = -25.4515
  MINIMUM_LATITUDE = -42.6119
  POSITIVE_LONGITUDE_DIRECTION = EAST
  REFERENCE_LATITUDE = "N/A"
  REFERENCE_LONGITUDE = "N/A"
  SAMPLE_FIRST_PIXEL = 1
  SAMPLE_LAST_PIXEL = 3460
  SAMPLE_PROJECTION_OFFSET = 1521.25
  SECOND_STANDARD_PARALLEL = "N/A"
  WESTERNMOST_LONGITUDE = 196.051
END_OBJECT = IMAGE_MAP_PROJECTION
END
