PDS_VERSION_ID = PDS3
/* FILE DATA ELEMENTS */
RECORD_TYPE = UNDEFINED
/* POINTERS TO DATA OBJECTS */
^IMAGE = ("HG565_0000_S14.TIF")
/* IDENTIFICATION DATA ELEMENTS */
DATA_SET_ID = "MEX-M-HRSC-4-REFDR-MAPPROJECT-EXT6-V4.0"
DATA_SET_NAME = "MARS EXPRESS HRSC MAP PROJECTED REFDR EXTENSION6 V4.0"
DETECTOR_ID = MEX_HRSC_S1
EVENT_TYPE = "MARS-REGIONAL-MAPPING-Im-Fl-Gl"
INSTRUMENT_HOST_ID = MEX
INSTRUMENT_HOST_NAME = "MARS EXPRESS"
INSTRUMENT_ID = HRSC
INSTRUMENT_NAME = "HIGH RESOLUTION STEREO CAMERA"
MISSION_NAME = "MARS EXPRESS"
MISSION_PHASE_NAME = ME_Phase_36
PROCESSING_LEVEL_ID = 4
PRODUCT_CREATION_TIME = 2023-01-26T14:39:22.000Z
PRODUCT_ID = "HG565_0000_S14.TIF"
RELEASE_ID = 0001
REVISION_ID = 0000
/* QUALITY DATA ELEMENTS */
DATA_QUALITY_ID = 1
DATA_QUALITY_DESC = "Data calculated based on original SPICE kernels"
/* TIME DATA ELEMENTS */
SPACECRAFT_CLOCK_START_COUNT = "1/0433726908.08253"
SPACECRAFT_CLOCK_STOP_COUNT = "1/0433727387.48300"
START_TIME = 2017-01-28T23:45:17.803Z
STOP_TIME = 2017-01-28T23:49:53.475Z
/* ORBITAL DATA ELEMENTS */
ASCENDING_NODE_LONGITUDE = 262.78
MAXIMUM_RESOLUTION = 0.0423
FOOTPRINT_POINT_LATITUDE = (-42.4823,-42.4817,-42.4778,-42.4733, -42.4674,-42.4584,-42.4578,-42.5047, -42.0926,-41.6757,-41.2625,-40.6388, -40.2662,-39.8956,-39.5204,-39.1446, -38.5893,-38.2094,-37.8372,-37.4696, -37.1029,-36.7391,-36.3776,-36.0637, -35.707,-35.3622,-35.0126,-34.6667, -34.3203,-33.8004,-33.4662,-33.1271, -32.7966,-32.467,-32.1426,-31.8173, -31.4965,-31.0163,-30.7003,-30.3836, -30.0724,-29.6064,-29.3023,-28.9966, -28.3944,-27.6479,-27.0616,-26.6268, -25.6286,-25.4889,-25.4344,-25.4337, -25.4317,-25.4302,-25.4301,-25.4307, -25.8574,-26.4208,-27.1446,-27.7357, -28.3305,-28.9323,-29.2376,-29.5414, -29.8505,-30.1753,-30.4892,-30.9514, -31.4332,-31.7559,-32.0824,-32.4076, -32.7373,-33.0672,-33.5745,-33.9102, -34.2502,-34.5948,-34.9421,-35.2923, -35.6428,-35.9989,-36.3107,-36.6715, -37.0338,-37.5905,-37.9588,-38.3337, -38.7202,-39.1019,-39.4773,-39.8516, -40.2252,-40.5972,-41.0008,-41.4185, -41.835,-42.2454,-42.4519,-42.4823)
FOOTPRINT_POINT_LONGITUDE = (200.015,199.061,198.277,197.733, 197.188,196.54,196.506,196.473,196.508, 196.544,196.577,196.628,196.658,196.687 ,196.716,196.745,196.783,196.811, 196.835,196.859,196.882,196.905,196.927 ,196.946,196.967,196.984,197.003, 197.021,197.04,197.07,197.085,197.101, 197.116,197.131,197.145,197.158,197.172 ,197.192,197.205,197.217,197.23,197.247 ,197.257,197.268,197.289,197.314, 197.332,197.345,197.372,197.376,197.377 ,197.975,198.574,199.285,199.304,199.31 ,199.325,199.342,199.366,199.388, 199.408,199.43,199.441,199.451,199.462, 199.479,199.491,199.505,199.524,199.537 ,199.55,199.563,199.576,199.589,199.609 ,199.622,199.636,199.65,199.666,199.681 ,199.696,199.712,199.725,199.742, 199.758,199.786,199.802,199.82,199.843, 199.864,199.883,199.903,199.922,199.942 ,199.962,199.982,200.003,200.022, 200.032,200.015)
ORBIT_NUMBER = 16565
ORBITAL_ECCENTRICITY = 0.578
ORBITAL_INCLINATION = 86.93
ORBITAL_SEMIMAJOR_AXIS = 8855.96
PERIAPSIS_ALTITUDE = 345.47
PERIAPSIS_ARGUMENT_ANGLE = 3.8
PERIAPSIS_TIME = 2017-01-28T23:56:50.000Z
SPACECRAFT_ORIENTATION = (0.0,1.0,0.0)
^MEX_ORIENTATION_DESC = "MEX_ORIENTATION_DESC.TXT"
SPACECRAFT_POINTING_MODE = NADIR
^MEX_POINTING_DESC = "MEX_POINTING_DESC.TXT"
RIGHT_ASCENSION = -1e+32
DECLINATION = -1e+32
OFFSET_ANGLE = -1e+32
SPACECRAFT_SOLAR_DISTANCE = 2.14868e+08
TARGET_NAME = MARS
/* CAMERA DATA ELEMENTS */
DETECTOR_TEMPERATURE = 18.1666
FOCAL_PLANE_TEMPERATURE = 8.5833
INST_CMPRS_NAME = "DISCRETE COSINE TRANSFORMATION (DCT)"
INST_CMPRS_RATIO = 7.47369
INST_CMPRS_QUALITY = 0
INST_CMPRS_QUANTZ_TBL_ID = 0
INSTRUMENT_TEMPERATURE = 11.6418
LENS_TEMPERATURE = 9.195
MACROPIXEL_SIZE = 2
PIXEL_SUBSAMPLING_FLAG = N
SIGNAL_CHAIN_ID = 1
/* RADIOMETRIC DATA ELEMENTS */
BANDWIDTH = 180.0
CENTER_FILTER_WAVELENGTH = 677.0
RADIANCE_OFFSET = 1.62731
RADIANCE_SCALING_FACTOR = 0.0124945
REFLECTANCE_SCALING_FACTOR = 0.000300951
MEX:REFLECTANCE_OFFSET = 0.0391964
/* IMAGE OBJECT DEFINITIONS */
OBJECT = IMAGE
  INTERCHANGE_FORMAT = BINARY
  LINES = 20290
  LINE_SAMPLES = 3460
  SAMPLE_TYPE = UNSIGNED_INTEGER
  SAMPLE_BITS = 8
  BANDS = 1
  BAND_STORAGE_TYPE = BAND_SEQUENTIAL
  MAXIMUM = 255
  MEAN = 69.6469
  MINIMUM = 1
  STANDARD_DEVIATION = 29.9739
END_OBJECT = IMAGE
/* MAP OBJECT DEFINITIONS */
OBJECT = IMAGE_MAP_PROJECTION
  ^DATA_SET_MAP_PROJECTION_CATALOG= "DSMAP.CAT"
  A_AXIS_RADIUS = 3396.0
  B_AXIS_RADIUS = 3396.0
  C_AXIS_RADIUS = 3396.0
  CENTER_LATITUDE = 0.0
  CENTER_LONGITUDE = 198.0
  COORDINATE_SYSTEM_NAME = PLANETOGRAPHIC
  COORDINATE_SYSTEM_TYPE = "BODY-FIXED ROTATING"
  EASTERNMOST_LONGITUDE = 200.032
  FIRST_STANDARD_PARALLEL = "N/A"
  LINE_FIRST_PIXEL = 1
  LINE_LAST_PIXEL = 20290
  LINE_PROJECTION_OFFSET = -30167.25
  MAP_PROJECTION_ROTATION = 0.0
  MAP_PROJECTION_TYPE = SINUSOIDAL
  MAP_RESOLUTION = 1185.42760773333
  MAP_SCALE = 0.05
  MAXIMUM_LATITUDE = -25.4301
  MINIMUM_LATITUDE = -42.5047
  POSITIVE_LONGITUDE_DIRECTION = EAST
  REFERENCE_LATITUDE = "N/A"
  REFERENCE_LONGITUDE = "N/A"
  SAMPLE_FIRST_PIXEL = 1
  SAMPLE_LAST_PIXEL = 3460
  SAMPLE_PROJECTION_OFFSET = 1521.25
  SECOND_STANDARD_PARALLEL = "N/A"
  WESTERNMOST_LONGITUDE = 196.473
END_OBJECT = IMAGE_MAP_PROJECTION
END
