PDS_VERSION_ID = PDS3
/* FILE DATA ELEMENTS */
RECORD_TYPE = UNDEFINED
/* POINTERS TO DATA OBJECTS */
^IMAGE = ("HG566_0000_S14.TIF")
/* IDENTIFICATION DATA ELEMENTS */
DATA_SET_ID = "MEX-M-HRSC-4-REFDR-MAPPROJECT-EXT6-V4.0"
DATA_SET_NAME = "MARS EXPRESS HRSC MAP PROJECTED REFDR EXTENSION6 V4.0"
DETECTOR_ID = MEX_HRSC_S1
EVENT_TYPE = "MARS-REGIONAL-STEREO-Vo-Fl"
INSTRUMENT_HOST_ID = MEX
INSTRUMENT_HOST_NAME = "MARS EXPRESS"
INSTRUMENT_ID = HRSC
INSTRUMENT_NAME = "HIGH RESOLUTION STEREO CAMERA"
MISSION_NAME = "MARS EXPRESS"
MISSION_PHASE_NAME = ME_Phase_36
PROCESSING_LEVEL_ID = 4
PRODUCT_CREATION_TIME = 2023-01-26T14:39:22.000Z
PRODUCT_ID = "HG566_0000_S14.TIF"
RELEASE_ID = 0001
REVISION_ID = 0000
/* QUALITY DATA ELEMENTS */
DATA_QUALITY_ID = 1
DATA_QUALITY_DESC = "Data calculated based on original SPICE kernels"
/* TIME DATA ELEMENTS */
SPACECRAFT_CLOCK_START_COUNT = "1/0433752200.08242"
SPACECRAFT_CLOCK_STOP_COUNT = "1/0433752542.49832"
START_TIME = 2017-01-29T06:46:17.349Z
STOP_TIME = 2017-01-29T06:49:08.428Z
/* ORBITAL DATA ELEMENTS */
ASCENDING_NODE_LONGITUDE = 262.76
MAXIMUM_RESOLUTION = 0.0221
FOOTPRINT_POINT_LATITUDE = (-38.1661,-38.1756,-38.1841,-38.1917, -38.1984,-38.2043,-38.2102,-38.2105, -38.282,-38.0425,-37.8049,-37.5676, -37.3324,-36.9794,-36.7472,-36.3995, -36.1705,-35.8287,-35.6013,-35.3762, -35.0422,-34.7154,-34.4916,-34.156, -33.9355,-33.7184,-33.5056,-33.3027, -33.0923,-32.877,-32.6469,-32.4359, -32.225,-31.9085,-31.5972,-31.3902, -31.1835,-30.9799,-30.6741,-30.4712, -30.1709,-29.9705,-29.7697,-29.5729, -29.18,-28.9824,-28.595,-28.0154, -27.7285,-27.6325,-27.6035,-27.5892, -27.5848,-27.5736,-27.5623,-27.5475, -27.5356,-27.5348,-27.5348,-28.1073, -28.4949,-28.8832,-29.1783,-29.3758, -29.7725,-29.9729,-30.1735,-30.3751, -30.5798,-30.784,-30.989,-31.2977, -31.6082,-31.8151,-32.0258,-32.3414, -32.5516,-32.7662,-32.9812,-33.1932, -33.4091,-33.7325,-34.0603,-34.2803, -34.5006,-34.7235,-34.9467,-35.2826, -35.5074,-35.74,-35.9692,-36.1907, -36.5391,-36.7715,-37.1234,-37.3588, -37.7129,-38.0764,-38.1994,-38.1661)
FOOTPRINT_POINT_LONGITUDE = (96.1729,95.7096,95.243,94.7726,94.2989 ,93.8208,93.2166,93.1861,93.1154, 93.1366,93.1569,93.177,93.1971,93.227, 93.2461,93.2738,93.292,93.3172,93.3355, 93.3517,93.3745,93.3927,93.4103,93.4377 ,93.4533,93.4684,93.4798,93.4836, 93.4952,93.5102,93.5361,93.5497,93.563, 93.5827,93.6017,93.6136,93.6255,93.637, 93.6539,93.6645,93.6804,93.6908,93.7012 ,93.711,93.7295,93.7397,93.7582,93.786, 93.7997,93.8045,93.8059,94.1271,94.4185 ,94.8336,95.1434,95.5518,95.8751, 95.8952,95.9051,95.9182,95.9273,95.9363 ,95.9433,95.948,95.9574,95.9622,95.967, 95.9719,95.9767,95.9817,95.9867,95.9942 ,96.0019,96.007,96.0123,96.0202,96.0254 ,96.0308,96.0363,96.0417,96.0472, 96.0555,96.064,96.0697,96.0754,96.0812, 96.0871,96.0959,96.1019,96.108,96.1142, 96.1201,96.1295,96.1357,96.1453,96.1517 ,96.1614,96.1716,96.175,96.1729)
ORBIT_NUMBER = 16566
ORBITAL_ECCENTRICITY = 0.578
ORBITAL_INCLINATION = 86.92
ORBITAL_SEMIMAJOR_AXIS = 8864.14
PERIAPSIS_ALTITUDE = 344.76
PERIAPSIS_ARGUMENT_ANGLE = 3.62
PERIAPSIS_TIME = 2017-01-29T06:56:35.000Z
SPACECRAFT_ORIENTATION = (0.0,1.0,0.0)
^MEX_ORIENTATION_DESC = "MEX_ORIENTATION_DESC.TXT"
SPACECRAFT_POINTING_MODE = ACROSSTRACK
^MEX_POINTING_DESC = "MEX_POINTING_DESC.TXT"
RIGHT_ASCENSION = -1e+32
DECLINATION = -1e+32
OFFSET_ANGLE = 1.0
SPACECRAFT_SOLAR_DISTANCE = 2.14915e+08
TARGET_NAME = MARS
/* CAMERA DATA ELEMENTS */
DETECTOR_TEMPERATURE = 17.9627
FOCAL_PLANE_TEMPERATURE = 8.5833
INST_CMPRS_NAME = "DISCRETE COSINE TRANSFORMATION (DCT)"
INST_CMPRS_RATIO = 7.91338
INST_CMPRS_QUALITY = 0
INST_CMPRS_QUANTZ_TBL_ID = 0
INSTRUMENT_TEMPERATURE = 11.8457
LENS_TEMPERATURE = 9.3989
MACROPIXEL_SIZE = 1
MISSING_FRAMES = 0
PIXEL_SUBSAMPLING_FLAG = N
SIGNAL_CHAIN_ID = 2
/* RADIOMETRIC DATA ELEMENTS */
BANDWIDTH = 180.0
CENTER_FILTER_WAVELENGTH = 677.0
RADIANCE_OFFSET = 1.87513
RADIANCE_SCALING_FACTOR = 0.00973032
REFLECTANCE_SCALING_FACTOR = 0.000234475
MEX:REFLECTANCE_OFFSET = 0.0451857
/* IMAGE OBJECT DEFINITIONS */
OBJECT = IMAGE
  INTERCHANGE_FORMAT = BINARY
  LINES = 25421
  LINE_SAMPLES = 6229
  SAMPLE_TYPE = UNSIGNED_INTEGER
  SAMPLE_BITS = 8
  BANDS = 1
  BAND_STORAGE_TYPE = BAND_SEQUENTIAL
  MAXIMUM = 255
  MEAN = 111.398
  MINIMUM = 1
  STANDARD_DEVIATION = 38.0891
END_OBJECT = IMAGE
/* MAP OBJECT DEFINITIONS */
OBJECT = IMAGE_MAP_PROJECTION
  ^DATA_SET_MAP_PROJECTION_CATALOG= "DSMAP.CAT"
  A_AXIS_RADIUS = 3396.0
  B_AXIS_RADIUS = 3396.0
  C_AXIS_RADIUS = 3396.0
  CENTER_LATITUDE = 0.0
  CENTER_LONGITUDE = 95.0
  COORDINATE_SYSTEM_NAME = PLANETOGRAPHIC
  COORDINATE_SYSTEM_TYPE = "BODY-FIXED ROTATING"
  EASTERNMOST_LONGITUDE = 96.175
  FIRST_STANDARD_PARALLEL = "N/A"
  LINE_FIRST_PIXEL = 1
  LINE_LAST_PIXEL = 25421
  LINE_PROJECTION_OFFSET = -65319.0
  MAP_PROJECTION_ROTATION = 0.0
  MAP_PROJECTION_TYPE = SINUSOIDAL
  MAP_RESOLUTION = 2370.85521546667
  MAP_SCALE = 0.025
  MAXIMUM_LATITUDE = -27.5348
  MINIMUM_LATITUDE = -38.282
  POSITIVE_LONGITUDE_DIRECTION = EAST
  REFERENCE_LATITUDE = "N/A"
  REFERENCE_LONGITUDE = "N/A"
  SAMPLE_FIRST_PIXEL = 1
  SAMPLE_LAST_PIXEL = 6229
  SAMPLE_PROJECTION_OFFSET = 3754.0
  SECOND_STANDARD_PARALLEL = "N/A"
  WESTERNMOST_LONGITUDE = 93.11539999999999
END_OBJECT = IMAGE_MAP_PROJECTION
END
