PDS_VERSION_ID = PDS3
/* FILE DATA ELEMENTS */
RECORD_TYPE = UNDEFINED
/* POINTERS TO DATA OBJECTS */
^IMAGE = ("HG574_0000_BL4.TIF")
/* IDENTIFICATION DATA ELEMENTS */
DATA_SET_ID = "MEX-M-HRSC-4-REFDR-MAPPROJECT-EXT6-V4.0"
DATA_SET_NAME = "MARS EXPRESS HRSC MAP PROJECTED REFDR EXTENSION6 V4.0"
DETECTOR_ID = MEX_HRSC_BLUE
EVENT_TYPE = "MARS-TERMINATOR-CALIBRATION-Tc"
INSTRUMENT_HOST_ID = MEX
INSTRUMENT_HOST_NAME = "MARS EXPRESS"
INSTRUMENT_ID = HRSC
INSTRUMENT_NAME = "HIGH RESOLUTION STEREO CAMERA"
MISSION_NAME = "MARS EXPRESS"
MISSION_PHASE_NAME = ME_Phase_36
PROCESSING_LEVEL_ID = 4
PRODUCT_CREATION_TIME = 2023-01-26T14:39:22.000Z
PRODUCT_ID = "HG574_0000_BL4.TIF"
RELEASE_ID = 0001
REVISION_ID = 0000
/* QUALITY DATA ELEMENTS */
DATA_QUALITY_ID = 1
DATA_QUALITY_DESC = "Data calculated based on original SPICE kernels"
/* TIME DATA ELEMENTS */
SPACECRAFT_CLOCK_START_COUNT = "1/0433944026.09058"
SPACECRAFT_CLOCK_STOP_COUNT = "1/0433944468.39395"
START_TIME = 2017-01-31T12:02:15.877Z
STOP_TIME = 2017-01-31T12:05:30.236Z
/* ORBITAL DATA ELEMENTS */
ASCENDING_NODE_LONGITUDE = 262.62
MAXIMUM_RESOLUTION = 0.8126
FOOTPRINT_POINT_LATITUDE = (45.4968,41.0578,41.1668,41.6387, 33.7602,29.3491,25.5415,23.3104,19.8222 ,16.9751,14.9462,13.2371,11.7055,9.0119 ,6.61863,4.42185,2.36724,0.424536, -3.2189,-6.6328,-9.88722,-13.0357, -16.1166,-19.1621,-22.2008,-25.2563, -28.3515,-31.5149,-34.7779,-38.174, -41.7643,-45.5943,-49.7813,-52.0556, -54.4825,-57.0901,-59.957,-63.1873, -66.8983,-69.0342,-71.4598,-74.238, -77.7945,-79.8926,-76.6966,-74.1605, -71.0528,-67.0939,-62.6734,-60.7174, -58.7913,-55.1709,-52.2255,-48.5409, -45.5858,-45.0857,-44.3635,-39.6568, -35.4423,-34.7479,-34.3259,-33.7596, -33.1377,-31.8159,-30.4516,-29.0768, -27.7022,-26.332,-24.9678,-23.614, -20.9277,-18.2674,-15.6189,-12.9712, -10.3134,-7.62984,-4.90801,-2.12934, 0.724226,3.67185,6.73482,9.97565, 13.3975,17.1012,21.055,23.3976,25.8019, 28.3719,31.2621,34.4197,38.2056,40.4199 ,42.9595,46.0669,50.3458,58.5264, 55.4827,54.4015,51.2965,45.4968)
FOOTPRINT_POINT_LONGITUDE = (270.114,274.066,275.317,274.538,280.92 ,282.509,282.034,285.309,282.011, 276.485,273.126,270.567,268.438,265.024 ,262.268,259.922,257.86,256.016,252.787 ,249.981,247.478,245.183,243.037, 241.002,239.038,237.11,235.187,233.246, 231.252,229.163,226.93,224.46,221.622, 219.99,218.151,216.019,213.451,210.167, 205.588,202.375,197.95,191.207,177.34, 145.845,150.854,145.514,142.599,139.564 ,137.805,144.842,147.805,149.848, 149.128,146.394,140.353,138.426,136.283 ,140.568,138.807,148.358,154.165, 158.268,161.554,166.834,171.054,174.592 ,177.656,180.374,182.827,185.046, 188.984,192.393,195.431,198.19,200.738, 203.109,205.353,207.497,209.572,211.606 ,213.625,215.648,217.72,219.876,222.173 ,223.421,224.745,226.172,227.763, 229.554,231.723,233.028,234.574,236.549 ,239.481,247.315,250.974,257.416, 263.822,270.114)
ORBIT_NUMBER = 16574
ORBITAL_ECCENTRICITY = 0.578
ORBITAL_INCLINATION = 86.92
ORBITAL_SEMIMAJOR_AXIS = 8858.2
PERIAPSIS_ALTITUDE = 344.87
PERIAPSIS_ARGUMENT_ANGLE = 2.24
PERIAPSIS_TIME = 2017-01-31T14:54:26.000Z
SPACECRAFT_ORIENTATION = (0.0,1.0,0.0)
^MEX_ORIENTATION_DESC = "MEX_ORIENTATION_DESC.TXT"
SPACECRAFT_POINTING_MODE = INERT
^MEX_POINTING_DESC = "MEX_POINTING_DESC.TXT"
RIGHT_ASCENSION = 310.531
DECLINATION = -24.208
OFFSET_ANGLE = -1e+32
SPACECRAFT_SOLAR_DISTANCE = 2.153e+08
TARGET_NAME = MARS
/* CAMERA DATA ELEMENTS */
DETECTOR_TEMPERATURE = 18.5744
FOCAL_PLANE_TEMPERATURE = 8.7872
INST_CMPRS_NAME = "DISCRETE COSINE TRANSFORMATION (DCT)"
INST_CMPRS_RATIO = 9.93222
INST_CMPRS_QUALITY = 0
INST_CMPRS_QUANTZ_TBL_ID = 0
INSTRUMENT_TEMPERATURE = 11.234
LENS_TEMPERATURE = 9.195
MACROPIXEL_SIZE = 2
MISSING_FRAMES = 0
PIXEL_SUBSAMPLING_FLAG = N
SIGNAL_CHAIN_ID = 2
/* RADIOMETRIC DATA ELEMENTS */
BANDWIDTH = 76.0
CENTER_FILTER_WAVELENGTH = 444.0
RADIANCE_OFFSET = 0.0
RADIANCE_SCALING_FACTOR = 0.000949902
REFLECTANCE_SCALING_FACTOR = 4.52316e-05
MEX:REFLECTANCE_OFFSET = 0.0
/* IMAGE OBJECT DEFINITIONS */
OBJECT = IMAGE
  INTERCHANGE_FORMAT = BINARY
  LINES = 10394
  LINE_SAMPLES = 9663
  SAMPLE_TYPE = UNSIGNED_INTEGER
  SAMPLE_BITS = 8
  BANDS = 1
  BAND_STORAGE_TYPE = BAND_SEQUENTIAL
  MAXIMUM = 255
  MEAN = 165.081
  MINIMUM = 1
  STANDARD_DEVIATION = 113.331
END_OBJECT = IMAGE
/* MAP OBJECT DEFINITIONS */
OBJECT = IMAGE_MAP_PROJECTION
  ^DATA_SET_MAP_PROJECTION_CATALOG= "DSMAP.CAT"
  A_AXIS_RADIUS = 3396.0
  B_AXIS_RADIUS = 3396.0
  C_AXIS_RADIUS = 3396.0
  CENTER_LATITUDE = 0.0
  CENTER_LONGITUDE = 221.0
  COORDINATE_SYSTEM_NAME = PLANETOGRAPHIC
  COORDINATE_SYSTEM_TYPE = "BODY-FIXED ROTATING"
  EASTERNMOST_LONGITUDE = 285.309
  FIRST_STANDARD_PARALLEL = "N/A"
  LINE_FIRST_PIXEL = 1
  LINE_LAST_PIXEL = 10394
  LINE_PROJECTION_OFFSET = 4349.25
  MAP_PROJECTION_ROTATION = 0.0
  MAP_PROJECTION_TYPE = SINUSOIDAL
  MAP_RESOLUTION = 74.08922548333329
  MAP_SCALE = 0.8
  MAXIMUM_LATITUDE = 58.5264
  MINIMUM_LATITUDE = -79.8926
  POSITIVE_LONGITUDE_DIRECTION = EAST
  REFERENCE_LATITUDE = "N/A"
  REFERENCE_LONGITUDE = "N/A"
  SAMPLE_FIRST_PIXEL = 1
  SAMPLE_LAST_PIXEL = 9663
  SAMPLE_PROJECTION_OFFSET = 5078.25
  SECOND_STANDARD_PARALLEL = "N/A"
  WESTERNMOST_LONGITUDE = 136.283
END_OBJECT = IMAGE_MAP_PROJECTION
END
