PDS_VERSION_ID = PDS3
/* FILE DATA ELEMENTS */
RECORD_TYPE = UNDEFINED
/* POINTERS TO DATA OBJECTS */
^IMAGE = ("HG574_0000_GR4.TIF")
/* IDENTIFICATION DATA ELEMENTS */
DATA_SET_ID = "MEX-M-HRSC-4-REFDR-MAPPROJECT-EXT6-V4.0"
DATA_SET_NAME = "MARS EXPRESS HRSC MAP PROJECTED REFDR EXTENSION6 V4.0"
DETECTOR_ID = MEX_HRSC_GREEN
EVENT_TYPE = "MARS-TERMINATOR-CALIBRATION-Tc"
INSTRUMENT_HOST_ID = MEX
INSTRUMENT_HOST_NAME = "MARS EXPRESS"
INSTRUMENT_ID = HRSC
INSTRUMENT_NAME = "HIGH RESOLUTION STEREO CAMERA"
MISSION_NAME = "MARS EXPRESS"
MISSION_PHASE_NAME = ME_Phase_36
PROCESSING_LEVEL_ID = 4
PRODUCT_CREATION_TIME = 2023-01-26T14:39:22.000Z
PRODUCT_ID = "HG574_0000_GR4.TIF"
RELEASE_ID = 0001
REVISION_ID = 0000
/* QUALITY DATA ELEMENTS */
DATA_QUALITY_ID = 1
DATA_QUALITY_DESC = "Data calculated based on original SPICE kernels"
/* TIME DATA ELEMENTS */
SPACECRAFT_CLOCK_START_COUNT = "1/0433944026.09058"
SPACECRAFT_CLOCK_STOP_COUNT = "1/0433944468.39395"
START_TIME = 2017-01-31T12:02:59.480Z
STOP_TIME = 2017-01-31T12:06:12.967Z
/* ORBITAL DATA ELEMENTS */
ASCENDING_NODE_LONGITUDE = 262.62
MAXIMUM_RESOLUTION = 0.8118
FOOTPRINT_POINT_LATITUDE = (47.2347,44.0757,41.4115,39.1021, 39.3494,39.2897,32.7586,29.3838,25.3659 ,22.4277,19.6661,16.5976,14.5231, 12.7914,11.2522,8.54352,6.14265,3.94145 ,1.88359,-0.0617528,-1.92053,-3.71054, -7.12778,-10.3865,-13.5399,-16.6266, -19.679,-22.7256,-25.7904,-28.8965, -32.0733,-35.3527,-38.7691,-42.3835, -46.249,-50.4798,-52.7859,-55.2421, -57.9052,-60.8336,-64.1523,-67.9841, -70.227,-72.775,-75.8051,-79.8425, -79.1922,-77.2642,-74.5965,-71.3585, -66.7518,-61.0497,-57.0835,-50.9552, -50.4544,-49.405,-41.9529,-37.4555, -35.4224,-35.1396,-34.6114,-34.0071, -33.3727,-32.0261,-30.656,-29.2773, -27.9022,-26.5333,-25.1733,-23.8212, -22.4787,-19.8086,-17.1596,-14.5154, -11.8667,-9.20002,-6.50181,-3.75367, -0.937317,1.959,4.96119,8.11504,11.4417 ,15.0001,19.78,23.2019,25.6223,28.2113, 31.1191,34.3105,38.1318,40.381,42.9783, 46.1903,50.7864,54.3159,53.3037,51.0126 ,48.3227,47.2347)
FOOTPRINT_POINT_LONGITUDE = (268.268,266.892,268.103,274.549, 276.065,275.297,280.043,284.052,283.057 ,283.475,283.12,277.001,273.526,270.912 ,268.763,265.315,262.543,260.189, 258.122,256.276,254.595,253.042,250.24, 247.741,245.452,243.312,241.285,239.329 ,237.411,235.499,233.571,231.592, 229.519,227.304,224.854,222.036,220.414 ,218.58,216.446,213.859,210.514,205.757 ,202.313,197.432,189.355,168.801, 152.621,142.357,135.705,133.05,140.788, 137.465,136.46,137.68,135.973,135.884, 138.216,138.683,144.876,152.106,156.72, 160.275,163.178,168.163,172.165,175.572 ,178.538,181.177,183.554,185.726, 187.716,191.317,194.474,197.339,199.958 ,202.39,204.679,206.855,208.95,210.998, 213.018,215.034,217.082,219.197,222.008 ,223.869,225.209,226.658,228.277, 230.108,232.335,233.687,235.303,237.398 ,240.661,246.167,251.435,256.858, 265.132,268.268)
ORBIT_NUMBER = 16574
ORBITAL_ECCENTRICITY = 0.578
ORBITAL_INCLINATION = 86.92
ORBITAL_SEMIMAJOR_AXIS = 8858.2
PERIAPSIS_ALTITUDE = 344.87
PERIAPSIS_ARGUMENT_ANGLE = 2.24
PERIAPSIS_TIME = 2017-01-31T14:54:26.000Z
SPACECRAFT_ORIENTATION = (0.0,1.0,0.0)
^MEX_ORIENTATION_DESC = "MEX_ORIENTATION_DESC.TXT"
SPACECRAFT_POINTING_MODE = INERT
^MEX_POINTING_DESC = "MEX_POINTING_DESC.TXT"
RIGHT_ASCENSION = 310.531
DECLINATION = -24.208
OFFSET_ANGLE = -1e+32
SPACECRAFT_SOLAR_DISTANCE = 2.153e+08
TARGET_NAME = MARS
/* CAMERA DATA ELEMENTS */
DETECTOR_TEMPERATURE = 18.5744
FOCAL_PLANE_TEMPERATURE = 8.7872
INST_CMPRS_NAME = "DISCRETE COSINE TRANSFORMATION (DCT)"
INST_CMPRS_RATIO = 16.8983
INST_CMPRS_QUALITY = 0
INST_CMPRS_QUANTZ_TBL_ID = 0
INSTRUMENT_TEMPERATURE = 11.234
LENS_TEMPERATURE = 9.195
MACROPIXEL_SIZE = 2
MISSING_FRAMES = 0
PIXEL_SUBSAMPLING_FLAG = N
SIGNAL_CHAIN_ID = 2
/* RADIOMETRIC DATA ELEMENTS */
BANDWIDTH = 88.0
CENTER_FILTER_WAVELENGTH = 538.0
RADIANCE_OFFSET = 0.0
RADIANCE_SCALING_FACTOR = 0.00266384
REFLECTANCE_SCALING_FACTOR = 0.000106293
MEX:REFLECTANCE_OFFSET = 0.0
/* IMAGE OBJECT DEFINITIONS */
OBJECT = IMAGE
  INTERCHANGE_FORMAT = BINARY
  LINES = 10394
  LINE_SAMPLES = 9663
  SAMPLE_TYPE = UNSIGNED_INTEGER
  SAMPLE_BITS = 8
  BANDS = 1
  BAND_STORAGE_TYPE = BAND_SEQUENTIAL
  MAXIMUM = 255
  MEAN = 159.701
  MINIMUM = 1
  STANDARD_DEVIATION = 113.686
END_OBJECT = IMAGE
/* MAP OBJECT DEFINITIONS */
OBJECT = IMAGE_MAP_PROJECTION
  ^DATA_SET_MAP_PROJECTION_CATALOG= "DSMAP.CAT"
  A_AXIS_RADIUS = 3396.0
  B_AXIS_RADIUS = 3396.0
  C_AXIS_RADIUS = 3396.0
  CENTER_LATITUDE = 0.0
  CENTER_LONGITUDE = 221.0
  COORDINATE_SYSTEM_NAME = PLANETOGRAPHIC
  COORDINATE_SYSTEM_TYPE = "BODY-FIXED ROTATING"
  EASTERNMOST_LONGITUDE = 284.052
  FIRST_STANDARD_PARALLEL = "N/A"
  LINE_FIRST_PIXEL = 1
  LINE_LAST_PIXEL = 10394
  LINE_PROJECTION_OFFSET = 4349.25
  MAP_PROJECTION_ROTATION = 0.0
  MAP_PROJECTION_TYPE = SINUSOIDAL
  MAP_RESOLUTION = 74.08922548333329
  MAP_SCALE = 0.8
  MAXIMUM_LATITUDE = 54.3159
  MINIMUM_LATITUDE = -79.8425
  POSITIVE_LONGITUDE_DIRECTION = EAST
  REFERENCE_LATITUDE = "N/A"
  REFERENCE_LONGITUDE = "N/A"
  SAMPLE_FIRST_PIXEL = 1
  SAMPLE_LAST_PIXEL = 9663
  SAMPLE_PROJECTION_OFFSET = 5078.25
  SECOND_STANDARD_PARALLEL = "N/A"
  WESTERNMOST_LONGITUDE = 133.05
END_OBJECT = IMAGE_MAP_PROJECTION
END
