PDS_VERSION_ID = PDS3
/* FILE DATA ELEMENTS */
RECORD_TYPE = UNDEFINED
/* POINTERS TO DATA OBJECTS */
^IMAGE = ("HG589_0000_P24.TIF")
/* IDENTIFICATION DATA ELEMENTS */
DATA_SET_ID = "MEX-M-HRSC-4-REFDR-MAPPROJECT-EXT6-V4.0"
DATA_SET_NAME = "MARS EXPRESS HRSC MAP PROJECTED REFDR EXTENSION6 V4.0"
DETECTOR_ID = MEX_HRSC_P2
EVENT_TYPE = "MARS-REGIONAL-STEREO-Vo-Te"
INSTRUMENT_HOST_ID = MEX
INSTRUMENT_HOST_NAME = "MARS EXPRESS"
INSTRUMENT_ID = HRSC
INSTRUMENT_NAME = "HIGH RESOLUTION STEREO CAMERA"
MISSION_NAME = "MARS EXPRESS"
MISSION_PHASE_NAME = ME_Phase_36
PROCESSING_LEVEL_ID = 4
PRODUCT_CREATION_TIME = 2023-01-26T14:39:22.000Z
PRODUCT_ID = "HG589_0000_P24.TIF"
RELEASE_ID = 0001
REVISION_ID = 0000
/* QUALITY DATA ELEMENTS */
DATA_QUALITY_ID = 1
DATA_QUALITY_DESC = "Data calculated based on original SPICE kernels"
/* TIME DATA ELEMENTS */
SPACECRAFT_CLOCK_START_COUNT = "1/0434332054.09055"
SPACECRAFT_CLOCK_STOP_COUNT = "1/0434332218.42919"
START_TIME = 2017-02-04T23:47:53.491Z
STOP_TIME = 2017-02-04T23:49:33.378Z
/* ORBITAL DATA ELEMENTS */
ASCENDING_NODE_LONGITUDE = 262.33
MAXIMUM_RESOLUTION = 0.0279
FOOTPRINT_POINT_LATITUDE = (-7.65908,-7.66066,-7.66312,-7.66447, -7.66602,-7.66721,-7.6689,-7.66894, -7.6914,-7.44189,-7.25871,-7.06819, -6.8757,-6.61899,-6.42886,-6.17367, -6.04598,-5.91762,-5.78965,-5.66187, -5.53364,-5.34135,-5.14914,-5.02099, -4.82878,-4.63633,-4.50794,-4.37929, -4.25107,-4.12245,-3.99376,-3.80075, -3.67214,-3.54328,-3.41457,-3.28574, -3.15698,-3.02779,-2.83397,-2.70482, -2.51104,-2.38194,-2.25251,-2.12225, -1.99239,-1.79871,-1.6693,-1.53981, -1.34533,-1.28036,-1.2795,-1.278, -1.27647,-1.27488,-1.2729,-1.27035, -1.26737,-1.26724,-1.26762,-1.3978, -1.59259,-1.72268,-1.85227,-1.98209, -2.11155,-2.24138,-2.37071,-2.56471, -2.75826,-2.88744,-3.0169,-3.14604, -3.27517,-3.40411,-3.53279,-3.66175, -3.79055,-3.91915,-4.04788,-4.24061, -4.43402,-4.56256,-4.75511,-4.88326, -5.01134,-5.13953,-5.26777,-5.51631, -5.7011,-5.95487,-6.14802,-6.28009, -6.53541,-6.66388,-6.9112,-7.16224, -7.41574,-7.60851,-7.67201,-7.65908)
FOOTPRINT_POINT_LONGITUDE = (263.526,263.39,263.157,263.009,262.813 ,262.629,262.272,262.259,262.266, 262.268,262.271,262.271,262.271,262.269 ,262.27,262.269,262.269,262.269,262.268 ,262.268,262.268,262.267,262.266, 262.266,262.266,262.265,262.264,262.264 ,262.263,262.263,262.262,262.261, 262.261,262.26,262.26,262.259,262.258, 262.258,262.256,262.256,262.254,262.254 ,262.253,262.252,262.25,262.249,262.249 ,262.248,262.246,262.246,262.246, 262.429,262.635,262.772,262.956,263.174 ,263.415,263.426,263.431,263.432, 263.433,263.434,263.436,263.437,263.438 ,263.439,263.441,263.443,263.445, 263.446,263.447,263.449,263.45,263.452, 263.453,263.455,263.456,263.458,263.46, 263.462,263.464,263.466,263.468,263.47, 263.472,263.474,263.475,263.482,263.488 ,263.493,263.495,263.495,263.498,263.5, 263.507,263.512,263.517,263.519,263.52, 263.526)
ORBIT_NUMBER = 16589
ORBITAL_ECCENTRICITY = 0.579
ORBITAL_INCLINATION = 86.93
ORBITAL_SEMIMAJOR_AXIS = 8872.39
PERIAPSIS_ALTITUDE = 342.8
PERIAPSIS_ARGUMENT_ANGLE = 359.67
PERIAPSIS_TIME = 2017-02-04T23:50:08.000Z
SPACECRAFT_ORIENTATION = (0.0,1.0,0.0)
^MEX_ORIENTATION_DESC = "MEX_ORIENTATION_DESC.TXT"
SPACECRAFT_POINTING_MODE = NADIR
^MEX_POINTING_DESC = "MEX_POINTING_DESC.TXT"
RIGHT_ASCENSION = -1e+32
DECLINATION = -1e+32
OFFSET_ANGLE = -1e+32
SPACECRAFT_SOLAR_DISTANCE = 2.16036e+08
TARGET_NAME = MARS
/* CAMERA DATA ELEMENTS */
DETECTOR_TEMPERATURE = 18.9822
FOCAL_PLANE_TEMPERATURE = 8.7872
INST_CMPRS_NAME = "DISCRETE COSINE TRANSFORMATION (DCT)"
INST_CMPRS_RATIO = 7.14865
INST_CMPRS_QUALITY = 0
INST_CMPRS_QUANTZ_TBL_ID = 0
INSTRUMENT_TEMPERATURE = 11.6418
LENS_TEMPERATURE = 9.6028
MACROPIXEL_SIZE = 2
MISSING_FRAMES = 0
PIXEL_SUBSAMPLING_FLAG = N
SIGNAL_CHAIN_ID = 3
/* RADIOMETRIC DATA ELEMENTS */
BANDWIDTH = 177.0
CENTER_FILTER_WAVELENGTH = 676.5
RADIANCE_OFFSET = 1.31733
RADIANCE_SCALING_FACTOR = 0.00723238
REFLECTANCE_SCALING_FACTOR = 0.000178974
MEX:REFLECTANCE_OFFSET = 0.0325988
/* IMAGE OBJECT DEFINITIONS */
OBJECT = IMAGE
  INTERCHANGE_FORMAT = BINARY
  LINES = 15255
  LINE_SAMPLES = 2972
  SAMPLE_TYPE = UNSIGNED_INTEGER
  SAMPLE_BITS = 8
  BANDS = 1
  BAND_STORAGE_TYPE = BAND_SEQUENTIAL
  MAXIMUM = 255
  MEAN = 68.7929
  MINIMUM = 1
  STANDARD_DEVIATION = 26.1579
END_OBJECT = IMAGE
/* MAP OBJECT DEFINITIONS */
OBJECT = IMAGE_MAP_PROJECTION
  ^DATA_SET_MAP_PROJECTION_CATALOG= "DSMAP.CAT"
  A_AXIS_RADIUS = 3396.0
  B_AXIS_RADIUS = 3396.0
  C_AXIS_RADIUS = 3396.0
  CENTER_LATITUDE = 0.0
  CENTER_LONGITUDE = 263.0
  COORDINATE_SYSTEM_NAME = PLANETOGRAPHIC
  COORDINATE_SYSTEM_TYPE = "BODY-FIXED ROTATING"
  EASTERNMOST_LONGITUDE = 263.526
  FIRST_STANDARD_PARALLEL = "N/A"
  LINE_FIRST_PIXEL = 1
  LINE_LAST_PIXEL = 15255
  LINE_PROJECTION_OFFSET = -2920.75
  MAP_PROJECTION_ROTATION = 0.0
  MAP_PROJECTION_TYPE = SINUSOIDAL
  MAP_RESOLUTION = 2370.85521546667
  MAP_SCALE = 0.025
  MAXIMUM_LATITUDE = -1.26724
  MINIMUM_LATITUDE = -7.6914
  POSITIVE_LONGITUDE_DIRECTION = EAST
  REFERENCE_LATITUDE = "N/A"
  REFERENCE_LONGITUDE = "N/A"
  SAMPLE_FIRST_PIXEL = 1
  SAMPLE_LAST_PIXEL = 2972
  SAMPLE_PROJECTION_OFFSET = 1777.75
  SECOND_STANDARD_PARALLEL = "N/A"
  WESTERNMOST_LONGITUDE = 262.246
END_OBJECT = IMAGE_MAP_PROJECTION
END
