PDS_VERSION_ID = PDS3
/* FILE DATA ELEMENTS */
RECORD_TYPE = UNDEFINED
/* POINTERS TO DATA OBJECTS */
^IMAGE = ("HG606_0000_IR4.TIF")
/* IDENTIFICATION DATA ELEMENTS */
DATA_SET_ID = "MEX-M-HRSC-4-REFDR-MAPPROJECT-EXT6-V4.0"
DATA_SET_NAME = "MARS EXPRESS HRSC MAP PROJECTED REFDR EXTENSION6 V4.0"
DETECTOR_ID = MEX_HRSC_IR
EVENT_TYPE = "MARS-REGIONAL-MAPPING-Te-Mw-La"
INSTRUMENT_HOST_ID = MEX
INSTRUMENT_HOST_NAME = "MARS EXPRESS"
INSTRUMENT_ID = HRSC
INSTRUMENT_NAME = "HIGH RESOLUTION STEREO CAMERA"
MISSION_NAME = "MARS EXPRESS"
MISSION_PHASE_NAME = ME_Phase_36
PROCESSING_LEVEL_ID = 4
PRODUCT_CREATION_TIME = 2023-01-26T14:39:22.000Z
PRODUCT_ID = "HG606_0000_IR4.TIF"
RELEASE_ID = 0001
REVISION_ID = 0000
/* QUALITY DATA ELEMENTS */
DATA_QUALITY_ID = 1
DATA_QUALITY_DESC = "Data calculated based on original SPICE kernels"
/* TIME DATA ELEMENTS */
SPACECRAFT_CLOCK_START_COUNT = "1/0434760038.09034"
SPACECRAFT_CLOCK_STOP_COUNT = "1/0434760223.48100"
START_TIME = 2017-02-09T22:41:49.414Z
STOP_TIME = 2017-02-09T22:43:44.426Z
/* ORBITAL DATA ELEMENTS */
ASCENDING_NODE_LONGITUDE = 262.01
MAXIMUM_RESOLUTION = 0.0583
FOOTPRINT_POINT_LATITUDE = (-15.5445,-15.5434,-15.5424,-15.5415, -15.5406,-15.5397,-15.5385,-15.5385, -15.5469,-15.3242,-15.1004,-14.8764, -14.7269,-14.5777,-14.4278,-14.2783, -13.9796,-13.7563,-13.6055,-13.4563, -13.3071,-13.1576,-12.9334,-12.7845, -12.5615,-12.4118,-12.2613,-12.1117, -11.9627,-11.8125,-11.6631,-11.513, -11.3635,-11.2135,-11.0633,-10.7808, -10.5634,-10.2672,-10.1179,-9.89407, -9.74468,-9.59549,-9.4465,-9.29629, -9.07353,-8.77678,-8.62753,-8.40353, -8.25465,-8.10549,-8.03088,-8.02396, -8.02471,-8.02439,-8.02423,-8.025, -8.02664,-8.02683,-8.02691,-8.0278, -8.25112,-8.40101,-8.62547,-8.77479, -8.99839,-9.22205,-9.37124,-9.52024, -9.66933,-9.81809,-10.0422,-10.1915, -10.4136,-10.6376,-10.8602,-11.0102, -11.235,-11.5319,-11.7552,-12.0552, -12.3381,-12.6357,-12.7848,-12.9343, -13.158,-13.3073,-13.4568,-13.6065, -13.7562,-13.9057,-14.1297,-14.279, -14.5029,-14.7266,-14.8758,-15.0996, -15.2489,-15.4726,-15.5472,-15.5445)
FOOTPRINT_POINT_LONGITUDE = (324.886,324.624,324.426,324.228,324.03 ,323.833,323.575,323.563,323.558, 323.558,323.559,323.56,323.56,323.561, 323.561,323.562,323.562,323.563,323.563 ,323.563,323.564,323.564,323.564, 323.564,323.564,323.564,323.564,323.564 ,323.564,323.564,323.564,323.564, 323.564,323.564,323.564,323.56,323.558, 323.557,323.557,323.556,323.556,323.556 ,323.555,323.555,323.554,323.553, 323.552,323.551,323.551,323.55,323.55, 323.55,323.858,324.041,324.202,324.387, 324.572,324.769,324.78,324.784,324.787, 324.789,324.793,324.795,324.798,324.801 ,324.803,324.805,324.807,324.809, 324.812,324.815,324.817,324.82,324.823, 324.825,324.829,324.833,324.836,324.841 ,324.837,324.842,324.844,324.846,324.85 ,324.852,324.855,324.858,324.86,324.863 ,324.867,324.869,324.873,324.877, 324.879,324.883,324.886,324.89,324.891, 324.886)
ORBIT_NUMBER = 16606
ORBITAL_ECCENTRICITY = 0.578
ORBITAL_INCLINATION = 86.94
ORBITAL_SEMIMAJOR_AXIS = 8853.88
PERIAPSIS_ALTITUDE = 341.9
PERIAPSIS_ARGUMENT_ANGLE = 356.7
PERIAPSIS_TIME = 2017-02-09T22:44:32.000Z
SPACECRAFT_ORIENTATION = (0.0,1.0,0.0)
^MEX_ORIENTATION_DESC = "MEX_ORIENTATION_DESC.TXT"
SPACECRAFT_POINTING_MODE = ACROSSTRACK
^MEX_POINTING_DESC = "MEX_POINTING_DESC.TXT"
RIGHT_ASCENSION = -1e+32
DECLINATION = -1e+32
OFFSET_ANGLE = -0.229
SPACECRAFT_SOLAR_DISTANCE = 2.16893e+08
TARGET_NAME = MARS
/* CAMERA DATA ELEMENTS */
DETECTOR_TEMPERATURE = 18.1666
FOCAL_PLANE_TEMPERATURE = 8.9911
INST_CMPRS_NAME = "DISCRETE COSINE TRANSFORMATION (DCT)"
INST_CMPRS_RATIO = 8.30856
INST_CMPRS_QUALITY = 0
INST_CMPRS_QUANTZ_TBL_ID = 0
INSTRUMENT_TEMPERATURE = 12.0496
LENS_TEMPERATURE = 8.1755
MACROPIXEL_SIZE = 4
MISSING_FRAMES = 0
PIXEL_SUBSAMPLING_FLAG = N
SIGNAL_CHAIN_ID = 2
/* RADIOMETRIC DATA ELEMENTS */
BANDWIDTH = 81.0
CENTER_FILTER_WAVELENGTH = 955.5
RADIANCE_OFFSET = 0.369157
RADIANCE_SCALING_FACTOR = 0.00127533
REFLECTANCE_SCALING_FACTOR = 0.000129432
MEX:REFLECTANCE_OFFSET = 0.0374652
/* IMAGE OBJECT DEFINITIONS */
OBJECT = IMAGE
  INTERCHANGE_FORMAT = BINARY
  LINES = 8957
  LINE_SAMPLES = 1571
  SAMPLE_TYPE = UNSIGNED_INTEGER
  SAMPLE_BITS = 8
  BANDS = 1
  BAND_STORAGE_TYPE = BAND_SEQUENTIAL
  MAXIMUM = 255
  MEAN = 122.429
  MINIMUM = 1
  STANDARD_DEVIATION = 35.0622
END_OBJECT = IMAGE
/* MAP OBJECT DEFINITIONS */
OBJECT = IMAGE_MAP_PROJECTION
  ^DATA_SET_MAP_PROJECTION_CATALOG= "DSMAP.CAT"
  A_AXIS_RADIUS = 3396.0
  B_AXIS_RADIUS = 3396.0
  C_AXIS_RADIUS = 3396.0
  CENTER_LATITUDE = 0.0
  CENTER_LONGITUDE = 324.0
  COORDINATE_SYSTEM_NAME = PLANETOGRAPHIC
  COORDINATE_SYSTEM_TYPE = "BODY-FIXED ROTATING"
  EASTERNMOST_LONGITUDE = 324.891
  FIRST_STANDARD_PARALLEL = "N/A"
  LINE_FIRST_PIXEL = 1
  LINE_LAST_PIXEL = 8957
  LINE_PROJECTION_OFFSET = -9481.375
  MAP_PROJECTION_ROTATION = 0.0
  MAP_PROJECTION_TYPE = SINUSOIDAL
  MAP_RESOLUTION = 1185.42760773333
  MAP_SCALE = 0.05
  MAXIMUM_LATITUDE = -8.023960000000001
  MINIMUM_LATITUDE = -15.5472
  POSITIVE_LONGITUDE_DIRECTION = EAST
  REFERENCE_LATITUDE = "N/A"
  REFERENCE_LONGITUDE = "N/A"
  SAMPLE_FIRST_PIXEL = 1
  SAMPLE_LAST_PIXEL = 1571
  SAMPLE_PROJECTION_OFFSET = 538.625
  SECOND_STANDARD_PARALLEL = "N/A"
  WESTERNMOST_LONGITUDE = 323.55
END_OBJECT = IMAGE_MAP_PROJECTION
END
