PDS_VERSION_ID = PDS3
/* FILE DATA ELEMENTS */
RECORD_TYPE = UNDEFINED
/* POINTERS TO DATA OBJECTS */
^IMAGE = ("HG613_0000_IR4.TIF")
/* IDENTIFICATION DATA ELEMENTS */
DATA_SET_ID = "MEX-M-HRSC-4-REFDR-MAPPROJECT-EXT6-V4.0"
DATA_SET_NAME = "MARS EXPRESS HRSC MAP PROJECTED REFDR EXTENSION6 V4.0"
DETECTOR_ID = MEX_HRSC_IR
EVENT_TYPE = "MARS-REGIONAL-MAPPING-Te-Mw-Ls"
INSTRUMENT_HOST_ID = MEX
INSTRUMENT_HOST_NAME = "MARS EXPRESS"
INSTRUMENT_ID = HRSC
INSTRUMENT_NAME = "HIGH RESOLUTION STEREO CAMERA"
MISSION_NAME = "MARS EXPRESS"
MISSION_PHASE_NAME = ME_Phase_36
PROCESSING_LEVEL_ID = 4
PRODUCT_CREATION_TIME = 2023-01-26T14:39:22.000Z
PRODUCT_ID = "HG613_0000_IR4.TIF"
RELEASE_ID = 0001
REVISION_ID = 0000
/* QUALITY DATA ELEMENTS */
DATA_QUALITY_ID = 1
DATA_QUALITY_DESC = "Data calculated based on original SPICE kernels"
/* TIME DATA ELEMENTS */
SPACECRAFT_CLOCK_START_COUNT = "1/0434936376.08245"
SPACECRAFT_CLOCK_STOP_COUNT = "1/0434936558.49539"
START_TIME = 2017-02-11T23:40:43.177Z
STOP_TIME = 2017-02-11T23:42:39.247Z
/* ORBITAL DATA ELEMENTS */
ASCENDING_NODE_LONGITUDE = 261.88
MAXIMUM_RESOLUTION = 0.0572
FOOTPRINT_POINT_LATITUDE = (-12.4314,-12.4324,-12.4342,-12.4357, -12.437,-12.4394,-12.4395,-12.4507, -12.2241,-12.0729,-11.922,-11.7719, -11.6218,-11.3973,-11.2467,-11.0968, -10.9453,-10.7939,-10.5682,-10.2746, -10.05,-9.89788,-9.59834,-9.44782, -9.29533,-9.14499,-8.9951,-8.84219, -8.54315,-8.16934,-7.94374,-7.79265, -7.64128,-7.49103,-7.1174,-6.89037, -6.73902,-6.58885,-6.43362,-6.27492, -6.12563,-5.97576,-5.82621,-5.67648, -5.45189,-5.30233,-5.15286,-5.00355, -4.92897,-4.86542,-4.86343,-4.86162, -4.85958,-4.85677,-4.85561,-4.8555, -4.85633,-5.08039,-5.37764,-5.60696, -5.7629,-5.91296,-6.06285,-6.35661, -6.51113,-6.66755,-6.81894,-6.96883, -7.19061,-7.34364,-7.49302,-7.6439, -7.86959,-8.09668,-8.32324,-8.47306, -8.62231,-8.77348,-8.99975,-9.28979, -9.44308,-9.5957,-9.81423,-9.96706, -10.1167,-10.267,-10.4924,-10.6431, -10.8694,-11.0208,-11.173,-11.3239, -11.4737,-11.624,-11.7748,-11.9259, -12.0772,-12.3042,-12.3797,-12.4314)
FOOTPRINT_POINT_LONGITUDE = (328.509,328.334,328.054,327.809, 327.623,327.273,327.262,327.254,327.254 ,327.254,327.254,327.254,327.254, 327.253,327.252,327.252,327.252,327.252 ,327.251,327.248,327.247,327.247, 327.245,327.245,327.245,327.244,327.244 ,327.244,327.242,327.239,327.238, 327.238,327.238,327.237,327.234,327.233 ,327.233,327.232,327.233,327.235, 327.234,327.233,327.232,327.23,327.229, 327.228,327.226,327.225,327.224,327.224 ,327.425,327.616,327.851,328.199, 328.412,328.423,328.427,328.429,328.431 ,328.435,328.439,328.44,328.441,328.442 ,328.445,328.449,328.451,328.453, 328.454,328.456,328.457,328.459,328.462 ,328.465,328.468,328.469,328.47,328.472 ,328.475,328.474,328.477,328.48,328.479 ,328.482,328.483,328.485,328.488, 328.489,328.492,328.494,328.497,328.499 ,328.5,328.502,328.504,328.506,328.508, 328.512,328.513,328.509)
ORBIT_NUMBER = 16613
ORBITAL_ECCENTRICITY = 0.578
ORBITAL_INCLINATION = 86.94
ORBITAL_SEMIMAJOR_AXIS = 8853.65
PERIAPSIS_ALTITUDE = 341.37
PERIAPSIS_ARGUMENT_ANGLE = 355.48
PERIAPSIS_TIME = 2017-02-11T23:42:20.000Z
SPACECRAFT_ORIENTATION = (0.0,1.0,0.0)
^MEX_ORIENTATION_DESC = "MEX_ORIENTATION_DESC.TXT"
SPACECRAFT_POINTING_MODE = NADIR
^MEX_POINTING_DESC = "MEX_POINTING_DESC.TXT"
RIGHT_ASCENSION = -1e+32
DECLINATION = -1e+32
OFFSET_ANGLE = -1e+32
SPACECRAFT_SOLAR_DISTANCE = 2.17252e+08
TARGET_NAME = MARS
/* CAMERA DATA ELEMENTS */
DETECTOR_TEMPERATURE = 18.3705
FOCAL_PLANE_TEMPERATURE = 9.3989
INST_CMPRS_NAME = "DISCRETE COSINE TRANSFORMATION (DCT)"
INST_CMPRS_RATIO = 5.4214
INST_CMPRS_QUALITY = 0
INST_CMPRS_QUANTZ_TBL_ID = 0
INSTRUMENT_TEMPERATURE = 12.2535
LENS_TEMPERATURE = 9.3989
MACROPIXEL_SIZE = 4
MISSING_FRAMES = 0
PIXEL_SUBSAMPLING_FLAG = N
SIGNAL_CHAIN_ID = 2
/* RADIOMETRIC DATA ELEMENTS */
BANDWIDTH = 81.0
CENTER_FILTER_WAVELENGTH = 955.5
RADIANCE_OFFSET = 0.372497
RADIANCE_SCALING_FACTOR = 0.00158251
REFLECTANCE_SCALING_FACTOR = 0.000161139
MEX:REFLECTANCE_OFFSET = 0.0379295
/* IMAGE OBJECT DEFINITIONS */
OBJECT = IMAGE
  INTERCHANGE_FORMAT = BINARY
  LINES = 9014
  LINE_SAMPLES = 1523
  SAMPLE_TYPE = UNSIGNED_INTEGER
  SAMPLE_BITS = 8
  BANDS = 1
  BAND_STORAGE_TYPE = BAND_SEQUENTIAL
  MAXIMUM = 255
  MEAN = 113.768
  MINIMUM = 1
  STANDARD_DEVIATION = 34.1861
END_OBJECT = IMAGE
/* MAP OBJECT DEFINITIONS */
OBJECT = IMAGE_MAP_PROJECTION
  ^DATA_SET_MAP_PROJECTION_CATALOG= "DSMAP.CAT"
  A_AXIS_RADIUS = 3396.0
  B_AXIS_RADIUS = 3396.0
  C_AXIS_RADIUS = 3396.0
  CENTER_LATITUDE = 0.0
  CENTER_LONGITUDE = 328.0
  COORDINATE_SYSTEM_NAME = PLANETOGRAPHIC
  COORDINATE_SYSTEM_TYPE = "BODY-FIXED ROTATING"
  EASTERNMOST_LONGITUDE = 328.513
  FIRST_STANDARD_PARALLEL = "N/A"
  LINE_FIRST_PIXEL = 1
  LINE_LAST_PIXEL = 9014
  LINE_PROJECTION_OFFSET = -5748.375
  MAP_PROJECTION_ROTATION = 0.0
  MAP_PROJECTION_TYPE = SINUSOIDAL
  MAP_RESOLUTION = 1185.42760773333
  MAP_SCALE = 0.05
  MAXIMUM_LATITUDE = -4.8555
  MINIMUM_LATITUDE = -12.4507
  POSITIVE_LONGITUDE_DIRECTION = EAST
  REFERENCE_LATITUDE = "N/A"
  REFERENCE_LONGITUDE = "N/A"
  SAMPLE_FIRST_PIXEL = 1
  SAMPLE_LAST_PIXEL = 1523
  SAMPLE_PROJECTION_OFFSET = 919.125
  SECOND_STANDARD_PARALLEL = "N/A"
  WESTERNMOST_LONGITUDE = 327.224
END_OBJECT = IMAGE_MAP_PROJECTION
END
