PDS_VERSION_ID = PDS3
/* FILE DATA ELEMENTS */
RECORD_TYPE = UNDEFINED
/* POINTERS TO DATA OBJECTS */
^IMAGE = ("HG613_0000_RE4.TIF")
/* IDENTIFICATION DATA ELEMENTS */
DATA_SET_ID = "MEX-M-HRSC-4-REFDR-MAPPROJECT-EXT6-V4.0"
DATA_SET_NAME = "MARS EXPRESS HRSC MAP PROJECTED REFDR EXTENSION6 V4.0"
DETECTOR_ID = MEX_HRSC_RED
EVENT_TYPE = "MARS-REGIONAL-MAPPING-Te-Mw-Ls"
INSTRUMENT_HOST_ID = MEX
INSTRUMENT_HOST_NAME = "MARS EXPRESS"
INSTRUMENT_ID = HRSC
INSTRUMENT_NAME = "HIGH RESOLUTION STEREO CAMERA"
MISSION_NAME = "MARS EXPRESS"
MISSION_PHASE_NAME = ME_Phase_36
PROCESSING_LEVEL_ID = 4
PRODUCT_CREATION_TIME = 2023-01-26T14:39:22.000Z
PRODUCT_ID = "HG613_0000_RE4.TIF"
RELEASE_ID = 0001
REVISION_ID = 0000
/* QUALITY DATA ELEMENTS */
DATA_QUALITY_ID = 1
DATA_QUALITY_DESC = "Data calculated based on original SPICE kernels"
/* TIME DATA ELEMENTS */
SPACECRAFT_CLOCK_START_COUNT = "1/0434936376.08245"
SPACECRAFT_CLOCK_STOP_COUNT = "1/0434936558.49539"
START_TIME = 2017-02-11T23:39:49.632Z
STOP_TIME = 2017-02-11T23:41:48.454Z
/* ORBITAL DATA ELEMENTS */
ASCENDING_NODE_LONGITUDE = 261.88
MAXIMUM_RESOLUTION = 0.0576
FOOTPRINT_POINT_LATITUDE = (-12.455,-12.4583,-12.4601,-12.4612, -12.4618,-12.4622,-12.4623,-12.4623, -12.4488,-12.2263,-11.9285,-11.7797, -11.6291,-11.4783,-11.3287,-11.1793, -10.8813,-10.6567,-10.507,-10.3565, -10.1974,-10.0462,-9.74849,-9.59627, -9.44697,-9.22249,-9.07254,-8.92124, -8.77186,-8.61865,-8.39221,-8.24071, -8.09027,-7.86391,-7.7131,-7.4873, -7.33642,-7.18367,-7.03129,-6.88001, -6.73104,-6.43334,-6.21527,-6.06269, -5.83447,-5.68237,-5.53038,-5.37804, -5.22571,-4.99697,-4.92064,-4.85018, -4.84949,-4.848,-4.84611,-4.84378, -4.84091,-4.84074,-4.84155,-4.99413, -5.14694,-5.30015,-5.52794,-5.82195, -5.97344,-6.12661,-6.2816,-6.43645, -6.72678,-6.95708,-7.25857,-7.48565, -7.71171,-7.86292,-8.08791,-8.23788, -8.38947,-8.54085,-8.69252,-8.84164, -8.99747,-9.2315,-9.52431,-9.68472, -9.98207,-10.1335,-10.284,-10.5095, -10.6591,-10.8085,-10.9578,-11.2547, -11.4052,-11.5553,-11.7045,-11.8535, -12.0022,-12.2989,-12.3732,-12.455)
FOOTPRINT_POINT_LONGITUDE = (328.53,328.203,327.962,327.757,327.6, 327.406,327.249,327.237,327.229,327.23, 327.231,327.231,327.231,327.231,327.231 ,327.231,327.232,327.232,327.232, 327.232,327.228,327.228,327.229,327.228 ,327.228,327.229,327.229,327.228, 327.228,327.227,327.227,327.226,327.226 ,327.226,327.225,327.225,327.225, 327.224,327.223,327.223,327.223,327.224 ,327.226,327.226,327.224,327.224, 327.223,327.222,327.221,327.22,327.219, 327.219,327.376,327.579,327.883,328.165 ,328.413,328.424,328.428,328.429, 328.431,328.432,328.435,328.442,328.444 ,328.446,328.446,328.447,328.456, 328.457,328.462,328.465,328.468,328.47, 328.474,328.476,328.478,328.48,328.482, 328.484,328.485,328.485,328.492,328.491 ,328.496,328.498,328.5,328.503,328.505, 328.508,328.51,328.516,328.517,328.52, 328.522,328.524,328.527,328.532,328.533 ,328.53)
ORBIT_NUMBER = 16613
ORBITAL_ECCENTRICITY = 0.578
ORBITAL_INCLINATION = 86.94
ORBITAL_SEMIMAJOR_AXIS = 8853.65
PERIAPSIS_ALTITUDE = 341.37
PERIAPSIS_ARGUMENT_ANGLE = 355.48
PERIAPSIS_TIME = 2017-02-11T23:42:20.000Z
SPACECRAFT_ORIENTATION = (0.0,1.0,0.0)
^MEX_ORIENTATION_DESC = "MEX_ORIENTATION_DESC.TXT"
SPACECRAFT_POINTING_MODE = NADIR
^MEX_POINTING_DESC = "MEX_POINTING_DESC.TXT"
RIGHT_ASCENSION = -1e+32
DECLINATION = -1e+32
OFFSET_ANGLE = -1e+32
SPACECRAFT_SOLAR_DISTANCE = 2.17252e+08
TARGET_NAME = MARS
/* CAMERA DATA ELEMENTS */
DETECTOR_TEMPERATURE = 19.1861
FOCAL_PLANE_TEMPERATURE = 9.3989
INST_CMPRS_NAME = "DISCRETE COSINE TRANSFORMATION (DCT)"
INST_CMPRS_RATIO = 20.1696
INST_CMPRS_QUALITY = 0
INST_CMPRS_QUANTZ_TBL_ID = 0
INSTRUMENT_TEMPERATURE = 12.2535
LENS_TEMPERATURE = 9.3989
MACROPIXEL_SIZE = 4
MISSING_FRAMES = 0
PIXEL_SUBSAMPLING_FLAG = N
SIGNAL_CHAIN_ID = 2
/* RADIOMETRIC DATA ELEMENTS */
BANDWIDTH = 48.0
CENTER_FILTER_WAVELENGTH = 748.0
RADIANCE_OFFSET = 0.515444
RADIANCE_SCALING_FACTOR = 0.00139132
REFLECTANCE_SCALING_FACTOR = 0.000149858
MEX:REFLECTANCE_OFFSET = 0.0555181
/* IMAGE OBJECT DEFINITIONS */
OBJECT = IMAGE
  INTERCHANGE_FORMAT = BINARY
  LINES = 9014
  LINE_SAMPLES = 1523
  SAMPLE_TYPE = UNSIGNED_INTEGER
  SAMPLE_BITS = 8
  BANDS = 1
  BAND_STORAGE_TYPE = BAND_SEQUENTIAL
  MAXIMUM = 255
  MEAN = 101.098
  MINIMUM = 1
  STANDARD_DEVIATION = 35.4947
END_OBJECT = IMAGE
/* MAP OBJECT DEFINITIONS */
OBJECT = IMAGE_MAP_PROJECTION
  ^DATA_SET_MAP_PROJECTION_CATALOG= "DSMAP.CAT"
  A_AXIS_RADIUS = 3396.0
  B_AXIS_RADIUS = 3396.0
  C_AXIS_RADIUS = 3396.0
  CENTER_LATITUDE = 0.0
  CENTER_LONGITUDE = 328.0
  COORDINATE_SYSTEM_NAME = PLANETOGRAPHIC
  COORDINATE_SYSTEM_TYPE = "BODY-FIXED ROTATING"
  EASTERNMOST_LONGITUDE = 328.533
  FIRST_STANDARD_PARALLEL = "N/A"
  LINE_FIRST_PIXEL = 1
  LINE_LAST_PIXEL = 9014
  LINE_PROJECTION_OFFSET = -5748.375
  MAP_PROJECTION_ROTATION = 0.0
  MAP_PROJECTION_TYPE = SINUSOIDAL
  MAP_RESOLUTION = 1185.42760773333
  MAP_SCALE = 0.05
  MAXIMUM_LATITUDE = -4.84074
  MINIMUM_LATITUDE = -12.4623
  POSITIVE_LONGITUDE_DIRECTION = EAST
  REFERENCE_LATITUDE = "N/A"
  REFERENCE_LONGITUDE = "N/A"
  SAMPLE_FIRST_PIXEL = 1
  SAMPLE_LAST_PIXEL = 1523
  SAMPLE_PROJECTION_OFFSET = 919.125
  SECOND_STANDARD_PARALLEL = "N/A"
  WESTERNMOST_LONGITUDE = 327.219
END_OBJECT = IMAGE_MAP_PROJECTION
END
