PDS_VERSION_ID = PDS3
/* FILE DATA ELEMENTS */
RECORD_TYPE = UNDEFINED
/* POINTERS TO DATA OBJECTS */
^IMAGE = ("HG618_0000_S14.TIF")
/* IDENTIFICATION DATA ELEMENTS */
DATA_SET_ID = "MEX-M-HRSC-4-REFDR-MAPPROJECT-EXT6-V4.0"
DATA_SET_NAME = "MARS EXPRESS HRSC MAP PROJECTED REFDR EXTENSION6 V4.0"
DETECTOR_ID = MEX_HRSC_S1
EVENT_TYPE = "MARS-LOCAL-MAPPING-Im-Fl-Eo"
INSTRUMENT_HOST_ID = MEX
INSTRUMENT_HOST_NAME = "MARS EXPRESS"
INSTRUMENT_ID = HRSC
INSTRUMENT_NAME = "HIGH RESOLUTION STEREO CAMERA"
MISSION_NAME = "MARS EXPRESS"
MISSION_PHASE_NAME = ME_Phase_36
PROCESSING_LEVEL_ID = 4
PRODUCT_CREATION_TIME = 2023-01-26T14:39:22.000Z
PRODUCT_ID = "HG618_0000_S14.TIF"
RELEASE_ID = 0001
REVISION_ID = 0000
/* QUALITY DATA ELEMENTS */
DATA_QUALITY_ID = 1
DATA_QUALITY_DESC = "Data calculated based on original SPICE kernels"
/* TIME DATA ELEMENTS */
SPACECRAFT_CLOCK_START_COUNT = "1/0435062190.09049"
SPACECRAFT_CLOCK_STOP_COUNT = "1/0435062379.34707"
START_TIME = 2017-02-13T10:37:49.422Z
STOP_TIME = 2017-02-13T10:39:45.282Z
/* ORBITAL DATA ELEMENTS */
ASCENDING_NODE_LONGITUDE = 261.78
MAXIMUM_RESOLUTION = 0.0148
FOOTPRINT_POINT_LATITUDE = (-19.4404,-19.4447,-19.4489,-19.4531, -19.4573,-19.4615,-19.4668,-19.4671, -19.4789,-19.2999,-19.1206,-18.9412, -18.7629,-18.6077,-18.4582,-18.3084, -18.1583,-17.9331,-17.6357,-17.4855, -17.3358,-17.1851,-17.0343,-16.8851, -16.6602,-16.4353,-16.1363,-15.9136, -15.697,-15.5475,-15.3973,-15.2474, -15.0982,-14.9483,-14.7985,-14.5738, -14.3489,-14.1992,-14.0494,-13.8993, -13.7494,-13.5246,-13.3746,-13.2203, -12.923,-12.7711,-12.5506,-12.4014, -12.252,-12.1022,-11.9524,-11.8777, -11.8608,-11.8539,-11.848,-11.8431, -11.8361,-11.8309,-11.8305,-11.8305, -12.055,-12.2049,-12.3549,-12.5046, -12.6553,-12.8053,-13.1006,-13.2519, -13.4768,-13.6259,-13.9158,-14.0662, -14.2201,-14.3734,-14.5253,-14.6744, -14.9679,-15.3373,-15.6359,-15.7891, -16.0873,-16.2367,-16.3868,-16.5379, -16.7674,-16.9235,-17.2179,-17.3675, -17.6651,-17.9629,-18.1848,-18.3363, -18.4878,-18.6374,-18.8037,-18.9827, -19.164,-19.3417,-19.431,-19.4404)
FOOTPRINT_POINT_LONGITUDE = (176.76,176.544,176.327,176.109,175.89, 175.67,175.394,175.38,175.368,175.37, 175.372,175.375,175.376,175.378,175.379 ,175.381,175.382,175.385,175.386, 175.388,175.389,175.39,175.392,175.393, 175.395,175.396,175.398,175.398,175.396 ,175.396,175.397,175.398,175.399, 175.399,175.4,175.401,175.402,175.403, 175.403,175.404,175.404,175.405,175.406 ,175.408,175.408,175.409,175.408, 175.408,175.408,175.408,175.408,175.408 ,175.408,175.708,176.042,176.215, 176.449,176.645,176.657,176.663,176.666 ,176.668,176.669,176.671,176.673, 176.675,176.678,176.68,176.683,176.684, 176.687,176.689,176.691,176.694,176.696 ,176.698,176.7,176.704,176.708,176.711, 176.714,176.716,176.718,176.721,176.724 ,176.728,176.731,176.733,176.737, 176.741,176.743,176.746,176.748,176.75, 176.753,176.755,176.758,176.761,176.762 ,176.76)
ORBIT_NUMBER = 16618
ORBITAL_ECCENTRICITY = 0.578
ORBITAL_INCLINATION = 86.94
ORBITAL_SEMIMAJOR_AXIS = 8853.64
PERIAPSIS_ALTITUDE = 341.13
PERIAPSIS_ARGUMENT_ANGLE = 354.64
PERIAPSIS_TIME = 2017-02-13T10:40:55.000Z
SPACECRAFT_ORIENTATION = (0.0,1.0,0.0)
^MEX_ORIENTATION_DESC = "MEX_ORIENTATION_DESC.TXT"
SPACECRAFT_POINTING_MODE = ACROSSTRACK
^MEX_POINTING_DESC = "MEX_POINTING_DESC.TXT"
RIGHT_ASCENSION = -1e+32
DECLINATION = -1e+32
OFFSET_ANGLE = 0.3
SPACECRAFT_SOLAR_DISTANCE = 2.17511e+08
TARGET_NAME = MARS
/* CAMERA DATA ELEMENTS */
DETECTOR_TEMPERATURE = 19.39
FOCAL_PLANE_TEMPERATURE = 9.3989
INST_CMPRS_NAME = "DISCRETE COSINE TRANSFORMATION (DCT)"
INST_CMPRS_RATIO = 7.22744
INST_CMPRS_QUALITY = 0
INST_CMPRS_QUANTZ_TBL_ID = 0
INSTRUMENT_TEMPERATURE = 11.8457
LENS_TEMPERATURE = 9.8067
MACROPIXEL_SIZE = 1
MISSING_FRAMES = 0
PIXEL_SUBSAMPLING_FLAG = N
SIGNAL_CHAIN_ID = 2
/* RADIOMETRIC DATA ELEMENTS */
BANDWIDTH = 180.0
CENTER_FILTER_WAVELENGTH = 677.0
RADIANCE_OFFSET = 2.92394
RADIANCE_SCALING_FACTOR = 0.00952123
REFLECTANCE_SCALING_FACTOR = 0.000235015
MEX:REFLECTANCE_OFFSET = 0.0721722
/* IMAGE OBJECT DEFINITIONS */
OBJECT = IMAGE
  INTERCHANGE_FORMAT = BINARY
  LINES = 36270
  LINE_SAMPLES = 6401
  SAMPLE_TYPE = UNSIGNED_INTEGER
  SAMPLE_BITS = 8
  BANDS = 1
  BAND_STORAGE_TYPE = BAND_SEQUENTIAL
  MAXIMUM = 255
  MEAN = 109.874
  MINIMUM = 1
  STANDARD_DEVIATION = 27.8339
END_OBJECT = IMAGE
/* MAP OBJECT DEFINITIONS */
OBJECT = IMAGE_MAP_PROJECTION
  ^DATA_SET_MAP_PROJECTION_CATALOG= "DSMAP.CAT"
  A_AXIS_RADIUS = 3396.0
  B_AXIS_RADIUS = 3396.0
  C_AXIS_RADIUS = 3396.0
  CENTER_LATITUDE = 0.0
  CENTER_LONGITUDE = 176.0
  COORDINATE_SYSTEM_NAME = PLANETOGRAPHIC
  COORDINATE_SYSTEM_TYPE = "BODY-FIXED ROTATING"
  EASTERNMOST_LONGITUDE = 176.762
  FIRST_STANDARD_PARALLEL = "N/A"
  LINE_FIRST_PIXEL = 1
  LINE_LAST_PIXEL = 36270
  LINE_PROJECTION_OFFSET = -56090.0
  MAP_PROJECTION_ROTATION = 0.0
  MAP_PROJECTION_TYPE = SINUSOIDAL
  MAP_RESOLUTION = 4741.71043093333
  MAP_SCALE = 0.0125
  MAXIMUM_LATITUDE = -11.8305
  MINIMUM_LATITUDE = -19.4789
  POSITIVE_LONGITUDE_DIRECTION = EAST
  REFERENCE_LATITUDE = "N/A"
  REFERENCE_LONGITUDE = "N/A"
  SAMPLE_FIRST_PIXEL = 1
  SAMPLE_LAST_PIXEL = 6401
  SAMPLE_PROJECTION_OFFSET = 2903.0
  SECOND_STANDARD_PARALLEL = "N/A"
  WESTERNMOST_LONGITUDE = 175.368
END_OBJECT = IMAGE_MAP_PROJECTION
END
