PDS_VERSION_ID = PDS3
/* FILE DATA ELEMENTS */
RECORD_TYPE = UNDEFINED
/* POINTERS TO DATA OBJECTS */
^IMAGE = ("HG627_0000_ND4.TIF")
/* IDENTIFICATION DATA ELEMENTS */
DATA_SET_ID = "MEX-M-HRSC-4-REFDR-MAPPROJECT-EXT6-V4.0"
DATA_SET_NAME = "MARS EXPRESS HRSC MAP PROJECTED REFDR EXTENSION6 V4.0"
DETECTOR_ID = MEX_HRSC_NADIR
EVENT_TYPE = "MARS-REGIONAL-MAPPING-Te-Gl-Mw"
INSTRUMENT_HOST_ID = MEX
INSTRUMENT_HOST_NAME = "MARS EXPRESS"
INSTRUMENT_ID = HRSC
INSTRUMENT_NAME = "HIGH RESOLUTION STEREO CAMERA"
MISSION_NAME = "MARS EXPRESS"
MISSION_PHASE_NAME = ME_Phase_36
PROCESSING_LEVEL_ID = 4
PRODUCT_CREATION_TIME = 2023-01-26T14:39:22.000Z
PRODUCT_ID = "HG627_0000_ND4.TIF"
RELEASE_ID = 0001
REVISION_ID = 0000
/* QUALITY DATA ELEMENTS */
DATA_QUALITY_ID = 1
DATA_QUALITY_DESC = "Data calculated based on original SPICE kernels"
/* TIME DATA ELEMENTS */
SPACECRAFT_CLOCK_START_COUNT = "1/0435289038.09046"
SPACECRAFT_CLOCK_STOP_COUNT = "1/0435289230.26389"
START_TIME = 2017-02-16T01:37:56.808Z
STOP_TIME = 2017-02-16T01:40:03.789Z
/* ORBITAL DATA ELEMENTS */
ASCENDING_NODE_LONGITUDE = 261.62
MAXIMUM_RESOLUTION = 0.0137
FOOTPRINT_POINT_LATITUDE = (-7.5314,-7.53363,-7.53538,-7.53705, -7.53864,-7.54032,-7.54163,-7.54172, -7.54126,-7.21051,-7.04515,-6.79707, -6.63168,-6.46631,-6.30092,-6.13555, -5.97017,-5.72213,-5.55673,-5.39123, -5.22589,-5.06042,-4.81244,-4.64714, -4.48184,-4.31666,-4.15135,-3.98615, -3.82088,-3.65558,-3.49036,-3.24267, -3.0775,-2.82976,-2.66465,-2.41698, -2.16955,-2.00455,-1.83957,-1.67463, -1.50972,-1.17997,-0.850378,-0.520918, -0.191641,0.219817,0.548738,0.630961, 0.712748,0.715915,0.719109,0.720719, 0.722283,0.724111,0.724225,0.724066, 0.395215,0.0661497,-0.263033,-0.592389, -0.921918,-1.25161,-1.41649,-1.58141, -1.74636,-1.91135,-2.07636,-2.24141, -2.4065,-2.57159,-2.73672,-2.98444, -3.14958,-3.31475,-3.47996,-3.64516, -3.81046,-3.97578,-4.14106,-4.30636, -4.47173,-4.63709,-4.80242,-4.96777, -5.13315,-5.29853,-5.46392,-5.62932, -5.79472,-5.96013,-6.20823,-6.37361, -6.539,-6.70443,-6.86987,-7.03527, -7.20046,-7.36592,-7.44864,-7.5314)
FOOTPRINT_POINT_LONGITUDE = (336.53,336.303,336.112,335.922,335.733 ,335.521,335.345,335.333,335.325, 335.323,335.322,335.32,335.319,335.318, 335.316,335.315,335.314,335.312,335.31, 335.308,335.306,335.304,335.302,335.3, 335.299,335.298,335.296,335.295,335.293 ,335.291,335.289,335.287,335.285, 335.282,335.28,335.277,335.275,335.273, 335.271,335.269,335.267,335.263,335.258 ,335.254,335.25,335.244,335.239,335.238 ,335.236,335.577,335.919,336.091, 336.262,336.459,336.472,336.478,336.48, 336.481,336.483,336.485,336.487,336.488 ,336.489,336.49,336.491,336.492,336.493 ,336.494,336.494,336.495,336.496, 336.498,336.499,336.501,336.502,336.504 ,336.504,336.505,336.506,336.508, 336.508,336.509,336.51,336.512,336.513, 336.514,336.516,336.517,336.519,336.52, 336.523,336.525,336.527,336.528,336.529 ,336.531,336.537,336.538,336.538, 336.53)
ORBIT_NUMBER = 16627
ORBITAL_ECCENTRICITY = 0.578
ORBITAL_INCLINATION = 86.94
ORBITAL_SEMIMAJOR_AXIS = 8853.53
PERIAPSIS_ALTITUDE = 340.31
PERIAPSIS_ARGUMENT_ANGLE = 353.05
PERIAPSIS_TIME = 2017-02-16T01:38:07.000Z
SPACECRAFT_ORIENTATION = (0.0,1.0,0.0)
^MEX_ORIENTATION_DESC = "MEX_ORIENTATION_DESC.TXT"
SPACECRAFT_POINTING_MODE = ACROSSTRACK
^MEX_POINTING_DESC = "MEX_POINTING_DESC.TXT"
RIGHT_ASCENSION = -1e+32
DECLINATION = -1e+32
OFFSET_ANGLE = -0.27
SPACECRAFT_SOLAR_DISTANCE = 2.17981e+08
TARGET_NAME = MARS
/* CAMERA DATA ELEMENTS */
DETECTOR_TEMPERATURE = 18.5744
FOCAL_PLANE_TEMPERATURE = 9.6028
INST_CMPRS_NAME = "DISCRETE COSINE TRANSFORMATION (DCT)"
INST_CMPRS_RATIO = 5.93285
INST_CMPRS_QUALITY = 0
INST_CMPRS_QUANTZ_TBL_ID = 0
INSTRUMENT_TEMPERATURE = 11.6418
LENS_TEMPERATURE = 10.2145
MACROPIXEL_SIZE = 1
MISSING_FRAMES = 0
PIXEL_SUBSAMPLING_FLAG = N
SIGNAL_CHAIN_ID = 0
/* RADIOMETRIC DATA ELEMENTS */
BANDWIDTH = 177.0
CENTER_FILTER_WAVELENGTH = 677.5
RADIANCE_OFFSET = 1.68973
RADIANCE_SCALING_FACTOR = 0.00483548
REFLECTANCE_SCALING_FACTOR = 0.000122056
MEX:REFLECTANCE_OFFSET = 0.0426518
/* IMAGE OBJECT DEFINITIONS */
OBJECT = IMAGE
  INTERCHANGE_FORMAT = BINARY
  LINES = 39194
  LINE_SAMPLES = 6154
  SAMPLE_TYPE = UNSIGNED_INTEGER
  SAMPLE_BITS = 8
  BANDS = 1
  BAND_STORAGE_TYPE = BAND_SEQUENTIAL
  MAXIMUM = 255
  MEAN = 91.6912
  MINIMUM = 1
  STANDARD_DEVIATION = 26.9827
END_OBJECT = IMAGE
/* MAP OBJECT DEFINITIONS */
OBJECT = IMAGE_MAP_PROJECTION
  ^DATA_SET_MAP_PROJECTION_CATALOG= "DSMAP.CAT"
  A_AXIS_RADIUS = 3396.0
  B_AXIS_RADIUS = 3396.0
  C_AXIS_RADIUS = 3396.0
  CENTER_LATITUDE = 0.0
  CENTER_LONGITUDE = 336.0
  COORDINATE_SYSTEM_NAME = PLANETOGRAPHIC
  COORDINATE_SYSTEM_TYPE = "BODY-FIXED ROTATING"
  EASTERNMOST_LONGITUDE = 336.538
  FIRST_STANDARD_PARALLEL = "N/A"
  LINE_FIRST_PIXEL = 1
  LINE_LAST_PIXEL = 39194
  LINE_PROJECTION_OFFSET = 3433.0
  MAP_PROJECTION_ROTATION = 0.0
  MAP_PROJECTION_TYPE = SINUSOIDAL
  MAP_RESOLUTION = 4741.71043093333
  MAP_SCALE = 0.0125
  MAXIMUM_LATITUDE = 0.724225
  MINIMUM_LATITUDE = -7.54172
  POSITIVE_LONGITUDE_DIRECTION = EAST
  REFERENCE_LATITUDE = "N/A"
  REFERENCE_LONGITUDE = "N/A"
  SAMPLE_FIRST_PIXEL = 1
  SAMPLE_LAST_PIXEL = 6154
  SAMPLE_PROJECTION_OFFSET = 3620.0
  SECOND_STANDARD_PARALLEL = "N/A"
  WESTERNMOST_LONGITUDE = 335.236
END_OBJECT = IMAGE_MAP_PROJECTION
END
