PDS_VERSION_ID = PDS3
/* FILE DATA ELEMENTS */
RECORD_TYPE = UNDEFINED
/* POINTERS TO DATA OBJECTS */
^IMAGE = ("HG631_0000_S24.TIF")
/* IDENTIFICATION DATA ELEMENTS */
DATA_SET_ID = "MEX-M-HRSC-4-REFDR-MAPPROJECT-EXT6-V4.0"
DATA_SET_NAME = "MARS EXPRESS HRSC MAP PROJECTED REFDR EXTENSION6 V4.0"
DETECTOR_ID = MEX_HRSC_S2
EVENT_TYPE = "MARS-REGIONAL-STEREO-Vo-Te-Gl"
INSTRUMENT_HOST_ID = MEX
INSTRUMENT_HOST_NAME = "MARS EXPRESS"
INSTRUMENT_ID = HRSC
INSTRUMENT_NAME = "HIGH RESOLUTION STEREO CAMERA"
MISSION_NAME = "MARS EXPRESS"
MISSION_PHASE_NAME = ME_Phase_36
PROCESSING_LEVEL_ID = 4
PRODUCT_CREATION_TIME = 2023-01-26T14:39:22.000Z
PRODUCT_ID = "HG631_0000_S24.TIF"
RELEASE_ID = 0001
REVISION_ID = 0000
/* QUALITY DATA ELEMENTS */
DATA_QUALITY_ID = 1
DATA_QUALITY_DESC = "Data calculated based on original SPICE kernels"
/* TIME DATA ELEMENTS */
SPACECRAFT_CLOCK_START_COUNT = "1/0435389690.09050"
SPACECRAFT_CLOCK_STOP_COUNT = "1/0435389960.10512"
START_TIME = 2017-02-17T05:34:57.922Z
STOP_TIME = 2017-02-17T05:38:04.505Z
/* ORBITAL DATA ELEMENTS */
ASCENDING_NODE_LONGITUDE = 261.54
MAXIMUM_RESOLUTION = 0.0143
FOOTPRINT_POINT_LATITUDE = (-13.7651,-13.7755,-13.7807,-13.7834, -13.7835,-13.8012,-13.448,-13.2122, -12.9645,-12.5943,-12.351,-12.1138, -11.8756,-11.5175,-11.2832,-11.0453, -10.8039,-10.5618,-10.3238,-9.95611, -9.71234,-9.35081,-9.10851,-8.86863, -8.62553,-8.38781,-8.15988,-7.93433, -7.67792,-7.30376,-7.06844,-6.81801, -6.57856,-6.22386,-5.98463,-5.76747, -5.50742,-5.13369,-4.55479,-4.29362, -4.05939,-3.81703,-3.55659,-3.31665, -2.9752,-2.73124,-2.48679,-2.24205, -1.85599,-1.72834,-1.71933,-1.72006, -1.71992,-1.72308,-1.7228,-1.72289, -2.09098,-2.33623,-2.58107,-2.82572, -3.07003,-3.51124,-3.76903,-4.14964, -4.39383,-4.61735,-4.87473,-5.22316, -5.58442,-5.8337,-6.07439,-6.43693, -6.78542,-7.0263,-7.26831,-7.50945, -7.75378,-8.01154,-8.37941,-8.61527, -8.83918,-9.19908,-9.43977,-9.68141, -9.92277,-10.1622,-10.4054,-10.6512, -11.0139,-11.3643,-11.6005,-11.8417, -12.0828,-12.4421,-12.6746,-12.9328, -13.3025,-13.6575,-13.7759,-13.7651)
FOOTPRINT_POINT_LONGITUDE = (287.242,286.67,286.265,285.975,285.962 ,285.96,285.962,285.962,285.96,285.957, 285.956,285.957,285.957,285.957,285.958 ,285.958,285.957,285.956,285.956, 285.953,285.952,285.95,285.949,285.949, 285.947,285.947,285.949,285.952,285.947 ,285.943,285.943,285.939,285.939, 285.938,285.938,285.942,285.936,285.931 ,285.933,285.927,285.927,285.925, 285.919,285.918,285.92,285.918,285.915, 285.912,285.904,285.901,285.9,286.162, 286.553,287.084,287.096,287.101,287.103 ,287.105,287.107,287.108,287.11,287.131 ,287.128,287.126,287.128,287.137, 287.134,287.143,287.148,287.148,287.151 ,287.155,287.164,287.167,287.17,287.173 ,287.174,287.171,287.173,287.178, 287.187,287.191,287.194,287.197,287.199 ,287.202,287.204,287.205,287.208, 287.216,287.22,287.222,287.224,287.228, 287.234,287.229,287.23,287.235,287.237, 287.242)
ORBIT_NUMBER = 16631
ORBITAL_ECCENTRICITY = 0.578
ORBITAL_INCLINATION = 86.93
ORBITAL_SEMIMAJOR_AXIS = 8861.8
PERIAPSIS_ALTITUDE = 339.62
PERIAPSIS_ARGUMENT_ANGLE = 352.39
PERIAPSIS_TIME = 2017-02-17T05:37:06.000Z
SPACECRAFT_ORIENTATION = (0.0,1.0,0.0)
^MEX_ORIENTATION_DESC = "MEX_ORIENTATION_DESC.TXT"
SPACECRAFT_POINTING_MODE = ACROSSTRACK
^MEX_POINTING_DESC = "MEX_POINTING_DESC.TXT"
RIGHT_ASCENSION = -1e+32
DECLINATION = -1e+32
OFFSET_ANGLE = -0.15
SPACECRAFT_SOLAR_DISTANCE = 2.18191e+08
TARGET_NAME = MARS
/* CAMERA DATA ELEMENTS */
DETECTOR_TEMPERATURE = 18.7783
FOCAL_PLANE_TEMPERATURE = 8.9911
INST_CMPRS_NAME = "DISCRETE COSINE TRANSFORMATION (DCT)"
INST_CMPRS_RATIO = 6.66118
INST_CMPRS_QUALITY = 0
INST_CMPRS_QUANTZ_TBL_ID = 0
INSTRUMENT_TEMPERATURE = 11.8457
LENS_TEMPERATURE = 8.9911
MACROPIXEL_SIZE = 1
MISSING_FRAMES = 0
PIXEL_SUBSAMPLING_FLAG = N
SIGNAL_CHAIN_ID = 1
/* RADIOMETRIC DATA ELEMENTS */
BANDWIDTH = 178.0
CENTER_FILTER_WAVELENGTH = 679.0
RADIANCE_OFFSET = 1.83934
RADIANCE_SCALING_FACTOR = 0.0180984
REFLECTANCE_SCALING_FACTOR = 0.000456292
MEX:REFLECTANCE_OFFSET = 0.0463732
/* IMAGE OBJECT DEFINITIONS */
OBJECT = IMAGE
  INTERCHANGE_FORMAT = BINARY
  LINES = 47727
  LINE_SAMPLES = 6087
  SAMPLE_TYPE = UNSIGNED_INTEGER
  SAMPLE_BITS = 8
  BANDS = 1
  BAND_STORAGE_TYPE = BAND_SEQUENTIAL
  MAXIMUM = 255
  MEAN = 63.6873
  MINIMUM = 1
  STANDARD_DEVIATION = 23.3323
END_OBJECT = IMAGE
/* MAP OBJECT DEFINITIONS */
OBJECT = IMAGE_MAP_PROJECTION
  ^DATA_SET_MAP_PROJECTION_CATALOG= "DSMAP.CAT"
  A_AXIS_RADIUS = 3396.0
  B_AXIS_RADIUS = 3396.0
  C_AXIS_RADIUS = 3396.0
  CENTER_LATITUDE = 0.0
  CENTER_LONGITUDE = 287.0
  COORDINATE_SYSTEM_NAME = PLANETOGRAPHIC
  COORDINATE_SYSTEM_TYPE = "BODY-FIXED ROTATING"
  EASTERNMOST_LONGITUDE = 287.242
  FIRST_STANDARD_PARALLEL = "N/A"
  LINE_FIRST_PIXEL = 1
  LINE_LAST_PIXEL = 47727
  LINE_PROJECTION_OFFSET = -17590.0
  MAP_PROJECTION_ROTATION = 0.0
  MAP_PROJECTION_TYPE = SINUSOIDAL
  MAP_RESOLUTION = 4741.71043093333
  MAP_SCALE = 0.0125
  MAXIMUM_LATITUDE = -1.71933
  MINIMUM_LATITUDE = -13.8012
  POSITIVE_LONGITUDE_DIRECTION = EAST
  REFERENCE_LATITUDE = "N/A"
  REFERENCE_LONGITUDE = "N/A"
  SAMPLE_FIRST_PIXEL = 1
  SAMPLE_LAST_PIXEL = 6087
  SAMPLE_PROJECTION_OFFSET = 5077.0
  SECOND_STANDARD_PARALLEL = "N/A"
  WESTERNMOST_LONGITUDE = 285.9
END_OBJECT = IMAGE_MAP_PROJECTION
END
