PDS_VERSION_ID = PDS3
/* FILE DATA ELEMENTS */
RECORD_TYPE = UNDEFINED
/* POINTERS TO DATA OBJECTS */
^IMAGE = ("HG636_0000_ND4.TIF")
/* IDENTIFICATION DATA ELEMENTS */
DATA_SET_ID = "MEX-M-HRSC-4-REFDR-MAPPROJECT-EXT6-V4.0"
DATA_SET_NAME = "MARS EXPRESS HRSC MAP PROJECTED REFDR EXTENSION6 V4.0"
DETECTOR_ID = MEX_HRSC_NADIR
EVENT_TYPE = "MARS-LOCAL-MAPPING-Vo-Pf-Eb"
INSTRUMENT_HOST_ID = MEX
INSTRUMENT_HOST_NAME = "MARS EXPRESS"
INSTRUMENT_ID = HRSC
INSTRUMENT_NAME = "HIGH RESOLUTION STEREO CAMERA"
MISSION_NAME = "MARS EXPRESS"
MISSION_PHASE_NAME = ME_Phase_36
PROCESSING_LEVEL_ID = 4
PRODUCT_CREATION_TIME = 2023-01-26T14:39:22.000Z
PRODUCT_ID = "HG636_0000_ND4.TIF"
RELEASE_ID = 0001
REVISION_ID = 0000
/* QUALITY DATA ELEMENTS */
DATA_QUALITY_ID = 1
DATA_QUALITY_DESC = "Data calculated based on original SPICE kernels"
/* TIME DATA ELEMENTS */
SPACECRAFT_CLOCK_START_COUNT = "1/0435515816.08277"
SPACECRAFT_CLOCK_STOP_COUNT = "1/0435516028.41696"
START_TIME = 2017-02-18T16:37:52.132Z
STOP_TIME = 2017-02-18T16:39:55.563Z
/* ORBITAL DATA ELEMENTS */
ASCENDING_NODE_LONGITUDE = 261.45
MAXIMUM_RESOLUTION = 0.0143
FOOTPRINT_POINT_LATITUDE = (0.415101,0.412558,0.410578,0.408602, 0.406636,0.404705,0.402781,0.402662, 0.403203,0.68692,0.970471,1.25386, 1.53703,1.82009,2.17367,2.45632,2.73876 ,3.02101,3.18596,3.35422,3.52242,3.6905 ,3.85858,4.02655,4.19445,4.36226, 4.52999,4.69764,4.86522,5.0327,5.20011, 5.36744,5.53468,5.70183,5.86889,6.03587 ,6.20276,6.36955,6.53625,6.70288,6.8694 ,7.03583,7.20216,7.3684,7.53454,7.70058 ,7.86653,8.03237,8.19812,8.28095, 8.30041,8.30243,8.30515,8.3069,8.30876, 8.31129,8.31137,8.31116,8.14553,7.9798, 7.81397,7.64805,7.48202,7.31589,7.14966 ,6.98334,6.81692,6.6504,6.4838,6.3171, 6.15032,5.98344,5.81648,5.64942,5.48227 ,5.31503,5.14771,4.98032,4.81283, 4.64526,4.4776,4.30987,4.14206,3.97417, 3.8062,3.63815,3.47003,3.30183,3.04964, 2.76745,2.48505,2.20247,1.91969,1.63673 ,1.35358,0.999398,0.715921,0.503189, 0.432256,0.415101)
FOOTPRINT_POINT_LONGITUDE = (136.386,136.128,135.923,135.721, 135.522,135.324,135.129,135.117,135.113 ,135.109,135.105,135.1,135.095,135.091, 135.085,135.081,135.076,135.071,135.068 ,135.065,135.062,135.059,135.057, 135.054,135.051,135.048,135.044,135.041 ,135.038,135.035,135.032,135.029, 135.026,135.023,135.019,135.016,135.013 ,135.01,135.006,135.003,135.0,134.997, 134.993,134.99,134.986,134.983,134.98, 134.976,134.973,134.971,134.971,135.193 ,135.516,135.744,136.003,136.397, 136.412,136.419,136.418,136.417,136.416 ,136.415,136.414,136.413,136.412, 136.411,136.41,136.409,136.408,136.407, 136.406,136.406,136.405,136.405,136.404 ,136.403,136.402,136.402,136.402, 136.401,136.4,136.4,136.4,136.399, 136.399,136.399,136.398,136.398,136.398 ,136.398,136.398,136.398,136.398, 136.398,136.398,136.397,136.399,136.4, 136.4,136.386)
ORBIT_NUMBER = 16636
ORBITAL_ECCENTRICITY = 0.578
ORBITAL_INCLINATION = 86.92
ORBITAL_SEMIMAJOR_AXIS = 8858.92
PERIAPSIS_ALTITUDE = 339.52
PERIAPSIS_ARGUMENT_ANGLE = 351.52
PERIAPSIS_TIME = 2017-02-18T16:35:36.000Z
SPACECRAFT_ORIENTATION = (0.0,1.0,0.0)
^MEX_ORIENTATION_DESC = "MEX_ORIENTATION_DESC.TXT"
SPACECRAFT_POINTING_MODE = ACROSSTRACK
^MEX_POINTING_DESC = "MEX_POINTING_DESC.TXT"
RIGHT_ASCENSION = -1e+32
DECLINATION = -1e+32
OFFSET_ANGLE = -0.9
SPACECRAFT_SOLAR_DISTANCE = 2.18456e+08
TARGET_NAME = MARS
/* CAMERA DATA ELEMENTS */
DETECTOR_TEMPERATURE = 18.3705
FOCAL_PLANE_TEMPERATURE = 8.5833
INST_CMPRS_NAME = "DISCRETE COSINE TRANSFORMATION (DCT)"
INST_CMPRS_RATIO = 6.43178
INST_CMPRS_QUALITY = 0
INST_CMPRS_QUANTZ_TBL_ID = 0
INSTRUMENT_TEMPERATURE = 11.8457
LENS_TEMPERATURE = 8.9911
MACROPIXEL_SIZE = 1
MISSING_FRAMES = 0
PIXEL_SUBSAMPLING_FLAG = N
SIGNAL_CHAIN_ID = 0
/* RADIOMETRIC DATA ELEMENTS */
BANDWIDTH = 177.0
CENTER_FILTER_WAVELENGTH = 677.5
RADIANCE_OFFSET = 1.81751
RADIANCE_SCALING_FACTOR = 0.00622718
REFLECTANCE_SCALING_FACTOR = 0.000157872
MEX:REFLECTANCE_OFFSET = 0.0460778
/* IMAGE OBJECT DEFINITIONS */
OBJECT = IMAGE
  INTERCHANGE_FORMAT = BINARY
  LINES = 37500
  LINE_SAMPLES = 6798
  SAMPLE_TYPE = UNSIGNED_INTEGER
  SAMPLE_BITS = 8
  BANDS = 1
  BAND_STORAGE_TYPE = BAND_SEQUENTIAL
  MAXIMUM = 255
  MEAN = 98.0299
  MINIMUM = 1
  STANDARD_DEVIATION = 32.1543
END_OBJECT = IMAGE
/* MAP OBJECT DEFINITIONS */
OBJECT = IMAGE_MAP_PROJECTION
  ^DATA_SET_MAP_PROJECTION_CATALOG= "DSMAP.CAT"
  A_AXIS_RADIUS = 3396.0
  B_AXIS_RADIUS = 3396.0
  C_AXIS_RADIUS = 3396.0
  CENTER_LATITUDE = 0.0
  CENTER_LONGITUDE = 136.0
  COORDINATE_SYSTEM_NAME = PLANETOGRAPHIC
  COORDINATE_SYSTEM_TYPE = "BODY-FIXED ROTATING"
  EASTERNMOST_LONGITUDE = 136.419
  FIRST_STANDARD_PARALLEL = "N/A"
  LINE_FIRST_PIXEL = 1
  LINE_LAST_PIXEL = 37500
  LINE_PROJECTION_OFFSET = 39409.0
  MAP_PROJECTION_ROTATION = 0.0
  MAP_PROJECTION_TYPE = SINUSOIDAL
  MAP_RESOLUTION = 4741.71043093333
  MAP_SCALE = 0.0125
  MAXIMUM_LATITUDE = 8.31137
  MINIMUM_LATITUDE = 0.402662
  POSITIVE_LONGITUDE_DIRECTION = EAST
  REFERENCE_LATITUDE = "N/A"
  REFERENCE_LONGITUDE = "N/A"
  SAMPLE_FIRST_PIXEL = 1
  SAMPLE_LAST_PIXEL = 6798
  SAMPLE_PROJECTION_OFFSET = 4829.0
  SECOND_STANDARD_PARALLEL = "N/A"
  WESTERNMOST_LONGITUDE = 134.971
END_OBJECT = IMAGE_MAP_PROJECTION
END
