PDS_VERSION_ID = PDS3
/* FILE DATA ELEMENTS */
RECORD_TYPE = UNDEFINED
/* POINTERS TO DATA OBJECTS */
^IMAGE = ("HG636_0000_S24.TIF")
/* IDENTIFICATION DATA ELEMENTS */
DATA_SET_ID = "MEX-M-HRSC-4-REFDR-MAPPROJECT-EXT6-V4.0"
DATA_SET_NAME = "MARS EXPRESS HRSC MAP PROJECTED REFDR EXTENSION6 V4.0"
DETECTOR_ID = MEX_HRSC_S2
EVENT_TYPE = "MARS-LOCAL-MAPPING-Vo-Pf-Eb"
INSTRUMENT_HOST_ID = MEX
INSTRUMENT_HOST_NAME = "MARS EXPRESS"
INSTRUMENT_ID = HRSC
INSTRUMENT_NAME = "HIGH RESOLUTION STEREO CAMERA"
MISSION_NAME = "MARS EXPRESS"
MISSION_PHASE_NAME = ME_Phase_36
PROCESSING_LEVEL_ID = 4
PRODUCT_CREATION_TIME = 2023-01-26T14:39:22.000Z
PRODUCT_ID = "HG636_0000_S24.TIF"
RELEASE_ID = 0001
REVISION_ID = 0000
/* QUALITY DATA ELEMENTS */
DATA_QUALITY_ID = 1
DATA_QUALITY_DESC = "Data calculated based on original SPICE kernels"
/* TIME DATA ELEMENTS */
SPACECRAFT_CLOCK_START_COUNT = "1/0435515816.08277"
SPACECRAFT_CLOCK_STOP_COUNT = "1/0435516028.41696"
START_TIME = 2017-02-18T16:37:52.105Z
STOP_TIME = 2017-02-18T16:39:19.916Z
/* ORBITAL DATA ELEMENTS */
ASCENDING_NODE_LONGITUDE = 261.45
MAXIMUM_RESOLUTION = 0.0153
FOOTPRINT_POINT_LATITUDE = (2.55512,2.53672,2.52248,2.50867, 2.49535,2.4824,2.4698,2.46902,2.48746, 2.64618,2.85767,3.06908,3.22768,3.38622 ,3.54456,3.75581,3.91475,4.07347, 4.33777,4.49635,4.6548,4.81376,4.97219, 5.18349,5.3087,5.43501,5.56133,5.68754, 5.81375,5.9399,6.06613,6.1923,6.38153, 6.5074,6.63381,6.82363,6.94982,7.07609, 7.20223,7.32833,7.45448,7.5805,7.70658, 7.89569,8.02178,8.21089,8.27391,8.28797 ,8.29426,8.30063,8.30704,8.31354, 8.32011,8.32674,8.33348,8.34134,8.35016 ,8.35723,8.36532,8.37285,8.37378, 8.37398,8.24788,8.12183,7.99588,7.86983 ,7.74391,7.61795,7.42882,7.30266, 7.17643,7.0503,6.9241,6.79795,6.67171, 6.54554,6.41933,6.29327,6.16733,6.04125 ,5.85233,5.66291,5.53661,5.41021, 5.28449,5.17714,4.96601,4.80729,4.54281 ,4.38418,4.17265,3.85535,3.6967,3.43215 ,3.22083,3.06257,2.90405,2.63991, 2.58707,2.55512)
FOOTPRINT_POINT_LONGITUDE = (136.38,136.118,135.912,135.708,135.506 ,135.307,135.109,135.097,135.093, 135.091,135.088,135.084,135.082,135.08, 135.077,135.074,135.071,135.069,135.064 ,135.062,135.059,135.056,135.054,135.05 ,135.048,135.046,135.044,135.042, 135.039,135.037,135.035,135.033,135.029 ,135.027,135.025,135.021,135.019, 135.017,135.015,135.012,135.01,135.008, 135.005,135.002,134.999,134.996,134.995 ,134.994,135.102,135.211,135.32,135.429 ,135.539,135.65,135.761,135.887,136.028 ,136.141,136.27,136.384,136.399,136.406 ,136.405,136.405,136.404,136.403, 136.403,136.402,136.401,136.401,136.4, 136.4,136.399,136.399,136.398,136.398, 136.397,136.397,136.397,136.397,136.396 ,136.396,136.396,136.395,136.395, 136.395,136.395,136.394,136.394,136.394 ,136.394,136.393,136.393,136.393, 136.393,136.394,136.394,136.394,136.394 ,136.38)
ORBIT_NUMBER = 16636
ORBITAL_ECCENTRICITY = 0.578
ORBITAL_INCLINATION = 86.92
ORBITAL_SEMIMAJOR_AXIS = 8858.92
PERIAPSIS_ALTITUDE = 339.52
PERIAPSIS_ARGUMENT_ANGLE = 351.52
PERIAPSIS_TIME = 2017-02-18T16:35:36.000Z
SPACECRAFT_ORIENTATION = (0.0,1.0,0.0)
^MEX_ORIENTATION_DESC = "MEX_ORIENTATION_DESC.TXT"
SPACECRAFT_POINTING_MODE = ACROSSTRACK
^MEX_POINTING_DESC = "MEX_POINTING_DESC.TXT"
RIGHT_ASCENSION = -1e+32
DECLINATION = -1e+32
OFFSET_ANGLE = -0.9
SPACECRAFT_SOLAR_DISTANCE = 2.18456e+08
TARGET_NAME = MARS
/* CAMERA DATA ELEMENTS */
DETECTOR_TEMPERATURE = 18.3705
FOCAL_PLANE_TEMPERATURE = 8.5833
INST_CMPRS_NAME = "DISCRETE COSINE TRANSFORMATION (DCT)"
INST_CMPRS_RATIO = 5.46139
INST_CMPRS_QUALITY = 0
INST_CMPRS_QUANTZ_TBL_ID = 0
INSTRUMENT_TEMPERATURE = 11.8457
LENS_TEMPERATURE = 8.9911
MACROPIXEL_SIZE = 1
MISSING_FRAMES = 0
PIXEL_SUBSAMPLING_FLAG = N
SIGNAL_CHAIN_ID = 1
/* RADIOMETRIC DATA ELEMENTS */
BANDWIDTH = 178.0
CENTER_FILTER_WAVELENGTH = 679.0
RADIANCE_OFFSET = 2.1894
RADIANCE_SCALING_FACTOR = 0.00528951
REFLECTANCE_SCALING_FACTOR = 0.000133683
MEX:REFLECTANCE_OFFSET = 0.055333
/* IMAGE OBJECT DEFINITIONS */
OBJECT = IMAGE
  INTERCHANGE_FORMAT = BINARY
  LINES = 37500
  LINE_SAMPLES = 6798
  SAMPLE_TYPE = UNSIGNED_INTEGER
  SAMPLE_BITS = 8
  BANDS = 1
  BAND_STORAGE_TYPE = BAND_SEQUENTIAL
  MAXIMUM = 255
  MEAN = 108.413
  MINIMUM = 1
  STANDARD_DEVIATION = 29.0472
END_OBJECT = IMAGE
/* MAP OBJECT DEFINITIONS */
OBJECT = IMAGE_MAP_PROJECTION
  ^DATA_SET_MAP_PROJECTION_CATALOG= "DSMAP.CAT"
  A_AXIS_RADIUS = 3396.0
  B_AXIS_RADIUS = 3396.0
  C_AXIS_RADIUS = 3396.0
  CENTER_LATITUDE = 0.0
  CENTER_LONGITUDE = 136.0
  COORDINATE_SYSTEM_NAME = PLANETOGRAPHIC
  COORDINATE_SYSTEM_TYPE = "BODY-FIXED ROTATING"
  EASTERNMOST_LONGITUDE = 136.406
  FIRST_STANDARD_PARALLEL = "N/A"
  LINE_FIRST_PIXEL = 1
  LINE_LAST_PIXEL = 37500
  LINE_PROJECTION_OFFSET = 39409.0
  MAP_PROJECTION_ROTATION = 0.0
  MAP_PROJECTION_TYPE = SINUSOIDAL
  MAP_RESOLUTION = 4741.71043093333
  MAP_SCALE = 0.0125
  MAXIMUM_LATITUDE = 8.37398
  MINIMUM_LATITUDE = 2.46902
  POSITIVE_LONGITUDE_DIRECTION = EAST
  REFERENCE_LATITUDE = "N/A"
  REFERENCE_LONGITUDE = "N/A"
  SAMPLE_FIRST_PIXEL = 1
  SAMPLE_LAST_PIXEL = 6798
  SAMPLE_PROJECTION_OFFSET = 4829.0
  SECOND_STANDARD_PARALLEL = "N/A"
  WESTERNMOST_LONGITUDE = 134.994
END_OBJECT = IMAGE_MAP_PROJECTION
END
