PDS_VERSION_ID = PDS3
/* FILE DATA ELEMENTS */
RECORD_TYPE = UNDEFINED
/* POINTERS TO DATA OBJECTS */
^IMAGE = ("HG638_0000_IR4.TIF")
/* IDENTIFICATION DATA ELEMENTS */
DATA_SET_ID = "MEX-M-HRSC-4-REFDR-MAPPROJECT-EXT6-V4.0"
DATA_SET_NAME = "MARS EXPRESS HRSC MAP PROJECTED REFDR EXTENSION6 V4.0"
DETECTOR_ID = MEX_HRSC_IR
EVENT_TYPE = "MARS-REGIONAL-STEREO-Vo-Te-Gl"
INSTRUMENT_HOST_ID = MEX
INSTRUMENT_HOST_NAME = "MARS EXPRESS"
INSTRUMENT_ID = HRSC
INSTRUMENT_NAME = "HIGH RESOLUTION STEREO CAMERA"
MISSION_NAME = "MARS EXPRESS"
MISSION_PHASE_NAME = ME_Phase_36
PROCESSING_LEVEL_ID = 4
PRODUCT_CREATION_TIME = 2023-01-26T14:39:22.000Z
PRODUCT_ID = "HG638_0000_IR4.TIF"
RELEASE_ID = 0001
REVISION_ID = 0000
/* QUALITY DATA ELEMENTS */
DATA_QUALITY_ID = 1
DATA_QUALITY_DESC = "Data calculated based on original SPICE kernels"
/* TIME DATA ELEMENTS */
SPACECRAFT_CLOCK_START_COUNT = "1/0435565974.09046"
SPACECRAFT_CLOCK_STOP_COUNT = "1/0435566140.41529"
START_TIME = 2017-02-19T06:33:59.821Z
STOP_TIME = 2017-02-19T06:35:41.408Z
/* ORBITAL DATA ELEMENTS */
ASCENDING_NODE_LONGITUDE = 261.41
MAXIMUM_RESOLUTION = 0.112
FOOTPRINT_POINT_LATITUDE = (-14.8464,-14.8478,-14.8488,-14.8497, -14.8513,-14.8523,-14.8524,-14.8383, -14.7068,-14.575,-14.4433,-14.246, -14.1149,-13.9211,-13.6198,-13.49, -13.3562,-13.1559,-13.0196,-12.8873, -12.759,-12.625,-12.4963,-12.3075, -12.1789,-12.0485,-11.8524,-11.7206, -11.5247,-11.3923,-11.2619,-11.1307, -10.934,-10.7379,-10.6096,-10.3548, -10.163,-10.0342,-9.90141,-9.77156, -9.56887,-9.37068,-9.23743,-9.10254, -8.96528,-8.83421,-8.63781,-8.50601, -8.3092,-8.2438,-8.20241,-8.20094, -8.20102,-8.19397,-8.19273,-8.19171, -8.19083,-8.19077,-8.19243,-8.32303, -8.45365,-8.58479,-8.71607,-8.84677, -8.97939,-9.11128,-9.30828,-9.43875, -9.69188,-9.82301,-10.0814,-10.2127, -10.3554,-10.4896,-10.6874,-10.8213, -10.952,-11.1463,-11.2792,-11.5287, -11.6735,-11.8066,-11.938,-12.0691, -12.1992,-12.4539,-12.6489,-12.7825, -12.9164,-13.1697,-13.4133,-13.6723, -13.804,-13.9358,-14.1333,-14.3308, -14.5284,-14.7261,-14.7921,-14.8464)
FOOTPRINT_POINT_LONGITUDE = (290.936,290.647,290.428,290.243, 289.932,289.724,289.712,289.711,289.711 ,289.711,289.711,289.711,289.711,289.71 ,289.699,289.698,289.699,289.7,289.702, 289.702,289.7,289.701,289.7,289.696, 289.695,289.694,289.693,289.693,289.692 ,289.692,289.691,289.691,289.69,289.689 ,289.688,289.688,289.687,289.687, 289.689,289.689,289.693,289.694,289.694 ,289.695,289.696,289.695,289.694, 289.694,289.693,289.692,289.692,289.911 ,290.087,290.341,290.55,290.704,290.847 ,290.858,290.866,290.867,290.868, 290.869,290.87,290.871,290.873,290.875, 290.876,290.877,290.879,290.882,290.886 ,290.889,290.896,290.9,290.905,290.907, 290.908,290.909,290.91,290.908,290.914, 290.916,290.917,290.919,290.919,290.919 ,290.92,290.922,290.924,290.923,290.918 ,290.919,290.92,290.921,290.923,290.926 ,290.928,290.93,290.93,290.936)
ORBIT_NUMBER = 16638
ORBITAL_ECCENTRICITY = 0.578
ORBITAL_INCLINATION = 86.93
ORBITAL_SEMIMAJOR_AXIS = 8860.14
PERIAPSIS_ALTITUDE = 339.02
PERIAPSIS_ARGUMENT_ANGLE = 351.18
PERIAPSIS_TIME = 2017-02-19T06:35:08.000Z
SPACECRAFT_ORIENTATION = (0.0,1.0,0.0)
^MEX_ORIENTATION_DESC = "MEX_ORIENTATION_DESC.TXT"
SPACECRAFT_POINTING_MODE = NADIR
^MEX_POINTING_DESC = "MEX_POINTING_DESC.TXT"
RIGHT_ASCENSION = -1e+32
DECLINATION = -1e+32
OFFSET_ANGLE = -1e+32
SPACECRAFT_SOLAR_DISTANCE = 2.18562e+08
TARGET_NAME = MARS
/* CAMERA DATA ELEMENTS */
DETECTOR_TEMPERATURE = 17.1471
FOCAL_PLANE_TEMPERATURE = 9.3989
INST_CMPRS_NAME = "DISCRETE COSINE TRANSFORMATION (DCT)"
INST_CMPRS_RATIO = 11.7825
INST_CMPRS_QUALITY = 0
INST_CMPRS_QUANTZ_TBL_ID = 0
INSTRUMENT_TEMPERATURE = 12.0496
LENS_TEMPERATURE = 9.3989
MACROPIXEL_SIZE = 8
MISSING_FRAMES = 0
PIXEL_SUBSAMPLING_FLAG = N
SIGNAL_CHAIN_ID = 2
/* RADIOMETRIC DATA ELEMENTS */
BANDWIDTH = 81.0
CENTER_FILTER_WAVELENGTH = 955.5
RADIANCE_OFFSET = 0.399058
RADIANCE_SCALING_FACTOR = 0.00563376
REFLECTANCE_SCALING_FACTOR = 0.000580599
MEX:REFLECTANCE_OFFSET = 0.0411258
/* IMAGE OBJECT DEFINITIONS */
OBJECT = IMAGE
  INTERCHANGE_FORMAT = BINARY
  LINES = 3939
  LINE_SAMPLES = 727
  SAMPLE_TYPE = UNSIGNED_INTEGER
  SAMPLE_BITS = 8
  BANDS = 1
  BAND_STORAGE_TYPE = BAND_SEQUENTIAL
  MAXIMUM = 255
  MEAN = 63.1658
  MINIMUM = 1
  STANDARD_DEVIATION = 28.3477
END_OBJECT = IMAGE
/* MAP OBJECT DEFINITIONS */
OBJECT = IMAGE_MAP_PROJECTION
  ^DATA_SET_MAP_PROJECTION_CATALOG= "DSMAP.CAT"
  A_AXIS_RADIUS = 3396.0
  B_AXIS_RADIUS = 3396.0
  C_AXIS_RADIUS = 3396.0
  CENTER_LATITUDE = 0.0
  CENTER_LONGITUDE = 290.0
  COORDINATE_SYSTEM_NAME = PLANETOGRAPHIC
  COORDINATE_SYSTEM_TYPE = "BODY-FIXED ROTATING"
  EASTERNMOST_LONGITUDE = 290.936
  FIRST_STANDARD_PARALLEL = "N/A"
  LINE_FIRST_PIXEL = 1
  LINE_LAST_PIXEL = 3939
  LINE_PROJECTION_OFFSET = -4876.8125
  MAP_PROJECTION_ROTATION = 0.0
  MAP_PROJECTION_TYPE = SINUSOIDAL
  MAP_RESOLUTION = 592.713803866667
  MAP_SCALE = 0.1
  MAXIMUM_LATITUDE = -8.190770000000001
  MINIMUM_LATITUDE = -14.8524
  POSITIVE_LONGITUDE_DIRECTION = EAST
  REFERENCE_LATITUDE = "N/A"
  REFERENCE_LONGITUDE = "N/A"
  SAMPLE_FIRST_PIXEL = 1
  SAMPLE_LAST_PIXEL = 727
  SAMPLE_PROJECTION_OFFSET = 189.5625
  SECOND_STANDARD_PARALLEL = "N/A"
  WESTERNMOST_LONGITUDE = 289.687
END_OBJECT = IMAGE_MAP_PROJECTION
END
