PDS_VERSION_ID = PDS3
/* FILE DATA ELEMENTS */
RECORD_TYPE = UNDEFINED
/* POINTERS TO DATA OBJECTS */
^IMAGE = ("HG638_0000_P24.TIF")
/* IDENTIFICATION DATA ELEMENTS */
DATA_SET_ID = "MEX-M-HRSC-4-REFDR-MAPPROJECT-EXT6-V4.0"
DATA_SET_NAME = "MARS EXPRESS HRSC MAP PROJECTED REFDR EXTENSION6 V4.0"
DETECTOR_ID = MEX_HRSC_P2
EVENT_TYPE = "MARS-REGIONAL-STEREO-Vo-Te-Gl"
INSTRUMENT_HOST_ID = MEX
INSTRUMENT_HOST_NAME = "MARS EXPRESS"
INSTRUMENT_ID = HRSC
INSTRUMENT_NAME = "HIGH RESOLUTION STEREO CAMERA"
MISSION_NAME = "MARS EXPRESS"
MISSION_PHASE_NAME = ME_Phase_36
PROCESSING_LEVEL_ID = 4
PRODUCT_CREATION_TIME = 2023-01-26T14:39:22.000Z
PRODUCT_ID = "HG638_0000_P24.TIF"
RELEASE_ID = 0001
REVISION_ID = 0000
/* QUALITY DATA ELEMENTS */
DATA_QUALITY_ID = 1
DATA_QUALITY_DESC = "Data calculated based on original SPICE kernels"
/* TIME DATA ELEMENTS */
SPACECRAFT_CLOCK_START_COUNT = "1/0435565974.09046"
SPACECRAFT_CLOCK_STOP_COUNT = "1/0435566140.41529"
START_TIME = 2017-02-19T06:33:13.323Z
STOP_TIME = 2017-02-19T06:34:55.961Z
/* ORBITAL DATA ELEMENTS */
ASCENDING_NODE_LONGITUDE = 261.41
MAXIMUM_RESOLUTION = 0.0276
FOOTPRINT_POINT_LATITUDE = (-14.8654,-14.8667,-14.8684,-14.8693, -14.8702,-14.8706,-14.8708,-14.8707, -14.8807,-14.6838,-14.4867,-14.3552, -14.2234,-14.0918,-13.9567,-13.8126, -13.677,-13.5369,-13.4058,-13.1461, -12.9533,-12.8201,-12.6242,-12.4901, -12.3502,-12.2161,-12.0154,-11.8822, -11.7506,-11.6178,-11.4847,-11.3534, -11.2204,-11.088,-10.9559,-10.8225, -10.623,-10.4902,-10.3577,-10.2264, -10.0941,-9.83759,-9.45325,-9.32205, -9.12517,-8.86633,-8.73341,-8.53457, -8.33574,-8.26937,-8.26162,-8.26046, -8.259,-8.26035,-8.25852,-8.25598, -8.25586,-8.25623,-8.45604,-8.72185, -8.85481,-8.9863,-9.11946,-9.25154, -9.38467,-9.51799,-9.7179,-9.85069, -10.0438,-10.2984,-10.4841,-10.6772, -10.8743,-11.0073,-11.1418,-11.3432, -11.4828,-11.7351,-11.8673,-11.9997, -12.1333,-12.2679,-12.4047,-12.5396, -12.7995,-12.9313,-13.0709,-13.2758, -13.4191,-13.5535,-13.7511,-13.9485, -14.08,-14.2116,-14.4088,-14.5404, -14.6717,-14.8029,-14.8685,-14.8654)
FOOTPRINT_POINT_LONGITUDE = (290.95,290.815,290.581,290.433,290.236 ,290.052,289.695,289.682,289.683, 289.684,289.684,289.685,289.685,289.685 ,289.684,289.678,289.677,289.673, 289.674,289.676,289.678,289.678,289.679 ,289.678,289.674,289.673,289.672, 289.672,289.672,289.672,289.671,289.672 ,289.671,289.671,289.671,289.671,289.67 ,289.67,289.67,289.67,289.67,289.673, 289.679,289.679,289.679,289.682,289.681 ,289.681,289.68,289.68,289.68,289.875, 290.162,290.403,290.609,290.85,290.861, 290.865,290.867,290.87,290.872,290.874, 290.875,290.877,290.878,290.88,290.882, 290.883,290.888,290.896,290.904,290.909 ,290.912,290.913,290.914,290.915, 290.913,290.922,290.924,290.925,290.926 ,290.927,290.926,290.927,290.932, 290.934,290.932,290.931,290.928,290.928 ,290.931,290.933,290.935,290.937, 290.939,290.941,290.943,290.944,290.945 ,290.95)
ORBIT_NUMBER = 16638
ORBITAL_ECCENTRICITY = 0.578
ORBITAL_INCLINATION = 86.93
ORBITAL_SEMIMAJOR_AXIS = 8860.14
PERIAPSIS_ALTITUDE = 339.02
PERIAPSIS_ARGUMENT_ANGLE = 351.18
PERIAPSIS_TIME = 2017-02-19T06:35:08.000Z
SPACECRAFT_ORIENTATION = (0.0,1.0,0.0)
^MEX_ORIENTATION_DESC = "MEX_ORIENTATION_DESC.TXT"
SPACECRAFT_POINTING_MODE = NADIR
^MEX_POINTING_DESC = "MEX_POINTING_DESC.TXT"
RIGHT_ASCENSION = -1e+32
DECLINATION = -1e+32
OFFSET_ANGLE = -1e+32
SPACECRAFT_SOLAR_DISTANCE = 2.18562e+08
TARGET_NAME = MARS
/* CAMERA DATA ELEMENTS */
DETECTOR_TEMPERATURE = 19.39
FOCAL_PLANE_TEMPERATURE = 9.3989
INST_CMPRS_NAME = "DISCRETE COSINE TRANSFORMATION (DCT)"
INST_CMPRS_RATIO = 7.30857
INST_CMPRS_QUALITY = 0
INST_CMPRS_QUANTZ_TBL_ID = 0
INSTRUMENT_TEMPERATURE = 12.0496
LENS_TEMPERATURE = 9.3989
MACROPIXEL_SIZE = 2
MISSING_FRAMES = 0
PIXEL_SUBSAMPLING_FLAG = N
SIGNAL_CHAIN_ID = 3
/* RADIOMETRIC DATA ELEMENTS */
BANDWIDTH = 177.0
CENTER_FILTER_WAVELENGTH = 676.5
RADIANCE_OFFSET = 1.99748
RADIANCE_SCALING_FACTOR = 0.018535
REFLECTANCE_SCALING_FACTOR = 0.000469461
MEX:REFLECTANCE_OFFSET = 0.0505928
/* IMAGE OBJECT DEFINITIONS */
OBJECT = IMAGE
  INTERCHANGE_FORMAT = BINARY
  LINES = 15753
  LINE_SAMPLES = 2906
  SAMPLE_TYPE = UNSIGNED_INTEGER
  SAMPLE_BITS = 8
  BANDS = 1
  BAND_STORAGE_TYPE = BAND_SEQUENTIAL
  MAXIMUM = 255
  MEAN = 63.808
  MINIMUM = 1
  STANDARD_DEVIATION = 27.4015
END_OBJECT = IMAGE
/* MAP OBJECT DEFINITIONS */
OBJECT = IMAGE_MAP_PROJECTION
  ^DATA_SET_MAP_PROJECTION_CATALOG= "DSMAP.CAT"
  A_AXIS_RADIUS = 3396.0
  B_AXIS_RADIUS = 3396.0
  C_AXIS_RADIUS = 3396.0
  CENTER_LATITUDE = 0.0
  CENTER_LONGITUDE = 290.0
  COORDINATE_SYSTEM_NAME = PLANETOGRAPHIC
  COORDINATE_SYSTEM_TYPE = "BODY-FIXED ROTATING"
  EASTERNMOST_LONGITUDE = 290.95
  FIRST_STANDARD_PARALLEL = "N/A"
  LINE_FIRST_PIXEL = 1
  LINE_LAST_PIXEL = 15753
  LINE_PROJECTION_OFFSET = -19505.75
  MAP_PROJECTION_ROTATION = 0.0
  MAP_PROJECTION_TYPE = SINUSOIDAL
  MAP_RESOLUTION = 2370.85521546667
  MAP_SCALE = 0.025
  MAXIMUM_LATITUDE = -8.25586
  MINIMUM_LATITUDE = -14.8807
  POSITIVE_LONGITUDE_DIRECTION = EAST
  REFERENCE_LATITUDE = "N/A"
  REFERENCE_LONGITUDE = "N/A"
  SAMPLE_FIRST_PIXEL = 1
  SAMPLE_LAST_PIXEL = 2906
  SAMPLE_PROJECTION_OFFSET = 759.75
  SECOND_STANDARD_PARALLEL = "N/A"
  WESTERNMOST_LONGITUDE = 289.67
END_OBJECT = IMAGE_MAP_PROJECTION
END
