PDS_VERSION_ID = PDS3
/* FILE DATA ELEMENTS */
RECORD_TYPE = UNDEFINED
/* POINTERS TO DATA OBJECTS */
^IMAGE = ("HG638_0000_RE4.TIF")
/* IDENTIFICATION DATA ELEMENTS */
DATA_SET_ID = "MEX-M-HRSC-4-REFDR-MAPPROJECT-EXT6-V4.0"
DATA_SET_NAME = "MARS EXPRESS HRSC MAP PROJECTED REFDR EXTENSION6 V4.0"
DETECTOR_ID = MEX_HRSC_RED
EVENT_TYPE = "MARS-REGIONAL-STEREO-Vo-Te-Gl"
INSTRUMENT_HOST_ID = MEX
INSTRUMENT_HOST_NAME = "MARS EXPRESS"
INSTRUMENT_ID = HRSC
INSTRUMENT_NAME = "HIGH RESOLUTION STEREO CAMERA"
MISSION_NAME = "MARS EXPRESS"
MISSION_PHASE_NAME = ME_Phase_36
PROCESSING_LEVEL_ID = 4
PRODUCT_CREATION_TIME = 2023-01-26T14:39:22.000Z
PRODUCT_ID = "HG638_0000_RE4.TIF"
RELEASE_ID = 0001
REVISION_ID = 0000
/* QUALITY DATA ELEMENTS */
DATA_QUALITY_ID = 1
DATA_QUALITY_DESC = "Data calculated based on original SPICE kernels"
/* TIME DATA ELEMENTS */
SPACECRAFT_CLOCK_START_COUNT = "1/0435565974.09046"
SPACECRAFT_CLOCK_STOP_COUNT = "1/0435566140.41529"
START_TIME = 2017-02-19T06:33:07.546Z
STOP_TIME = 2017-02-19T06:34:50.799Z
/* ORBITAL DATA ELEMENTS */
ASCENDING_NODE_LONGITUDE = 261.41
MAXIMUM_RESOLUTION = 0.1121
FOOTPRINT_POINT_LATITUDE = (-14.8831,-14.8846,-14.8857,-14.8869, -14.8878,-14.888,-14.8881,-14.8878, -14.8878,-14.8991,-14.7677,-14.6359, -14.5044,-14.3065,-14.1745,-14.0421, -13.9061,-13.7584,-13.6164,-13.3491, -13.0266,-12.8281,-12.566,-12.4248, -12.2886,-12.1521,-12.019,-11.884, -11.7522,-11.6188,-11.4185,-11.2199, -11.0869,-10.8876,-10.7538,-10.62, -10.4866,-10.3536,-10.2221,-10.025, -9.70427,-9.51394,-9.32035,-9.06399, -8.93188,-8.7982,-8.6654,-8.46564, -8.33275,-8.2657,-8.26226,-8.26104, -8.26106,-8.26159,-8.25997,-8.25792, -8.2578,-8.25935,-8.39341,-8.52717, -8.72737,-8.86097,-8.99415,-9.12547, -9.25854,-9.45942,-9.59339,-9.72718, -9.86024,-10.0528,-10.3058,-10.4888, -10.745,-10.8787,-11.0142,-11.2125, -11.3583,-11.4924,-11.7424,-11.9415, -12.0745,-12.2116,-12.4163,-12.5529, -12.8121,-12.9454,-13.153,-13.363, -13.5089,-13.6413,-13.7733,-13.9052, -14.1029,-14.2349,-14.3666,-14.5644, -14.696,-14.8274,-14.8931,-14.8831)
FOOTPRINT_POINT_LONGITUDE = (290.952,290.786,290.631,290.429, 290.192,290.038,289.883,289.705,289.693 ,289.692,289.692,289.693,289.693, 289.693,289.694,289.694,289.693,289.687 ,289.684,289.683,289.687,289.687, 289.688,289.685,289.684,289.682,289.682 ,289.681,289.682,289.681,289.681, 289.681,289.681,289.681,289.68,289.68, 289.679,289.679,289.68,289.68,289.684, 289.687,289.689,289.692,289.692,289.691 ,289.691,289.69,289.69,289.69,289.69, 289.931,290.185,290.472,290.648,290.847 ,290.858,290.865,290.866,290.868,290.87 ,290.872,290.873,290.876,290.877, 290.879,290.881,290.882,290.884,290.888 ,290.896,290.905,290.911,290.913, 290.913,290.916,290.913,290.914,290.923 ,290.926,290.927,290.927,290.928, 290.928,290.933,290.935,290.934,290.932 ,290.929,290.931,290.932,290.934, 290.937,290.938,290.94,290.943,290.945, 290.946,290.947,290.952)
ORBIT_NUMBER = 16638
ORBITAL_ECCENTRICITY = 0.578
ORBITAL_INCLINATION = 86.93
ORBITAL_SEMIMAJOR_AXIS = 8860.14
PERIAPSIS_ALTITUDE = 339.02
PERIAPSIS_ARGUMENT_ANGLE = 351.18
PERIAPSIS_TIME = 2017-02-19T06:35:08.000Z
SPACECRAFT_ORIENTATION = (0.0,1.0,0.0)
^MEX_ORIENTATION_DESC = "MEX_ORIENTATION_DESC.TXT"
SPACECRAFT_POINTING_MODE = NADIR
^MEX_POINTING_DESC = "MEX_POINTING_DESC.TXT"
RIGHT_ASCENSION = -1e+32
DECLINATION = -1e+32
OFFSET_ANGLE = -1e+32
SPACECRAFT_SOLAR_DISTANCE = 2.18562e+08
TARGET_NAME = MARS
/* CAMERA DATA ELEMENTS */
DETECTOR_TEMPERATURE = 19.39
FOCAL_PLANE_TEMPERATURE = 9.3989
INST_CMPRS_NAME = "DISCRETE COSINE TRANSFORMATION (DCT)"
INST_CMPRS_RATIO = 12.6104
INST_CMPRS_QUALITY = 0
INST_CMPRS_QUANTZ_TBL_ID = 0
INSTRUMENT_TEMPERATURE = 12.0496
LENS_TEMPERATURE = 9.3989
MACROPIXEL_SIZE = 8
MISSING_FRAMES = 0
PIXEL_SUBSAMPLING_FLAG = N
SIGNAL_CHAIN_ID = 2
/* RADIOMETRIC DATA ELEMENTS */
BANDWIDTH = 48.0
CENTER_FILTER_WAVELENGTH = 748.0
RADIANCE_OFFSET = 0.522434
RADIANCE_SCALING_FACTOR = 0.0055013
REFLECTANCE_SCALING_FACTOR = 0.000599708
MEX:REFLECTANCE_OFFSET = 0.0569516
/* IMAGE OBJECT DEFINITIONS */
OBJECT = IMAGE
  INTERCHANGE_FORMAT = BINARY
  LINES = 3939
  LINE_SAMPLES = 727
  SAMPLE_TYPE = UNSIGNED_INTEGER
  SAMPLE_BITS = 8
  BANDS = 1
  BAND_STORAGE_TYPE = BAND_SEQUENTIAL
  MAXIMUM = 255
  MEAN = 63.7564
  MINIMUM = 1
  STANDARD_DEVIATION = 27.4492
END_OBJECT = IMAGE
/* MAP OBJECT DEFINITIONS */
OBJECT = IMAGE_MAP_PROJECTION
  ^DATA_SET_MAP_PROJECTION_CATALOG= "DSMAP.CAT"
  A_AXIS_RADIUS = 3396.0
  B_AXIS_RADIUS = 3396.0
  C_AXIS_RADIUS = 3396.0
  CENTER_LATITUDE = 0.0
  CENTER_LONGITUDE = 290.0
  COORDINATE_SYSTEM_NAME = PLANETOGRAPHIC
  COORDINATE_SYSTEM_TYPE = "BODY-FIXED ROTATING"
  EASTERNMOST_LONGITUDE = 290.952
  FIRST_STANDARD_PARALLEL = "N/A"
  LINE_FIRST_PIXEL = 1
  LINE_LAST_PIXEL = 3939
  LINE_PROJECTION_OFFSET = -4876.8125
  MAP_PROJECTION_ROTATION = 0.0
  MAP_PROJECTION_TYPE = SINUSOIDAL
  MAP_RESOLUTION = 592.713803866667
  MAP_SCALE = 0.1
  MAXIMUM_LATITUDE = -8.2578
  MINIMUM_LATITUDE = -14.8991
  POSITIVE_LONGITUDE_DIRECTION = EAST
  REFERENCE_LATITUDE = "N/A"
  REFERENCE_LONGITUDE = "N/A"
  SAMPLE_FIRST_PIXEL = 1
  SAMPLE_LAST_PIXEL = 727
  SAMPLE_PROJECTION_OFFSET = 189.5625
  SECOND_STANDARD_PARALLEL = "N/A"
  WESTERNMOST_LONGITUDE = 289.679
END_OBJECT = IMAGE_MAP_PROJECTION
END
